BEGIN:VCALENDAR
VERSION:2.0
PRODID:-//Suomen vanhan musiikin liitto ry - ECPv6.15.17.1//NONSGML v1.0//EN
CALSCALE:GREGORIAN
METHOD:PUBLISH
X-ORIGINAL-URL:https://svamuli.fi
X-WR-CALDESC:Tapahtumat Suomen vanhan musiikin liitto ry
REFRESH-INTERVAL;VALUE=DURATION:PT1H
X-Robots-Tag:noindex
X-PUBLISHED-TTL:PT1H
BEGIN:VTIMEZONE
TZID:Europe/Helsinki
BEGIN:DAYLIGHT
TZOFFSETFROM:+0200
TZOFFSETTO:+0300
TZNAME:EEST
DTSTART:20220327T010000
END:DAYLIGHT
BEGIN:STANDARD
TZOFFSETFROM:+0300
TZOFFSETTO:+0200
TZNAME:EET
DTSTART:20221030T010000
END:STANDARD
BEGIN:DAYLIGHT
TZOFFSETFROM:+0200
TZOFFSETTO:+0300
TZNAME:EEST
DTSTART:20230326T010000
END:DAYLIGHT
BEGIN:STANDARD
TZOFFSETFROM:+0300
TZOFFSETTO:+0200
TZNAME:EET
DTSTART:20231029T010000
END:STANDARD
BEGIN:DAYLIGHT
TZOFFSETFROM:+0200
TZOFFSETTO:+0300
TZNAME:EEST
DTSTART:20240331T010000
END:DAYLIGHT
BEGIN:STANDARD
TZOFFSETFROM:+0300
TZOFFSETTO:+0200
TZNAME:EET
DTSTART:20241027T010000
END:STANDARD
END:VTIMEZONE
BEGIN:VEVENT
DTSTART;TZID=Europe/Helsinki:20230305T180000
DTEND;TZID=Europe/Helsinki:20230305T190000
DTSTAMP:20260425T005511
CREATED:20230226T185632Z
LAST-MODIFIED:20230226T185632Z
UID:4108-1678039200-1678042800@svamuli.fi
SUMMARY:Luuttukonsertti: Kari Vaattovaara
DESCRIPTION:Kari Vaattovaara konsertoi Rymättylän Pyhän Jaakobin kirkossa.
URL:https://svamuli.fi/t/luuttukonsertti-kari-vaattovaara/
LOCATION:Rymättylän Pyhän Jaakobin kirkko\, Taipaleentie\, Rymättylä\, 21140
END:VEVENT
BEGIN:VEVENT
DTSTART;TZID=Europe/Helsinki:20230307T190000
DTEND;TZID=Europe/Helsinki:20230307T200000
DTSTAMP:20260425T005511
CREATED:20230120T131933Z
LAST-MODIFIED:20230120T134953Z
UID:3952-1678215600-1678219200@svamuli.fi
SUMMARY:SibA: Uutta musiikkia vanhoilla soittimilla
DESCRIPTION:Sibelius-Akatemian vanhan musiikin opiskelijat esittävät uutta musiikkia periodisoittimilla. \nKonsertissa kuullaan viisi uutta teosta säveltäjiltä Þorkell Nordal\, Tara Valkonen\, Sophia Chambon\, Nicholas Main ja Marcus Hu. \nEsiintyjinä: Kristina Bogataj (laulu)\, Sofia Buono (laulu)\, Marco Elefante (barokkiviulu)\, Ilkka Eronen (traverso)\, Sofia Fernholm (nokkahuilut)\, Laura Hárs (barokkiviulu)\, Kristiina Hirvonen (7-kielinen bassoalttoviulu\, barokkisello)\, Helena Holm (nokkahuilut)\, Nahoko\, Kinoshita (barokkioboet)\, Jasper Koekoek (cembalo)\, Marjana Jocif (nokkahuilut)\, Pavlou Lambis (cembalo)\, Niilo Myllynen (barokkikontrabasso)\, Eerika Perkkiö (traverso)\, Johanna Randvere (viola da gamba\, 7-kielinen bassoalttoviulu)\, Mariette Reefman (barokkialttoviulu)\, Teuvo Taimioja (barokkikitara)\, Kerttu Tiebout (barokkiviulu) ja Aura Visala (cembalo).  \nLiput 6\,5–18€ \nhttps://www.ticketmaster.fi/event/musica-nova-uutta-musiikkia-vanhoilla-soittimilla-lippuja/319635?language=fi-fi&utm_source=uniarts&utm_medium=tapahtuma&utm_campaign=musicanovauuttamusiikkia-liput-fi \nKonsertti on osa Musica nova Helsinki -festivaalia 10.3.–26.3.
URL:https://svamuli.fi/t/siba-uutta-musiikkia-periodisoittimilla/
LOCATION:Sibelius-Akatemia R-talo\, konserttisali\, Pohjoinen Rautatienkatu 9\, Helsinki\, 00100\, Suomi
END:VEVENT
BEGIN:VEVENT
DTSTART;TZID=Europe/Helsinki:20230310T190000
DTEND;TZID=Europe/Helsinki:20230310T210000
DTSTAMP:20260425T005511
CREATED:20230302T095020Z
LAST-MODIFIED:20230302T095020Z
UID:4122-1678474800-1678482000@svamuli.fi
SUMMARY:FiBO: Parasta barokkia tutuilta ja tuntemattomilta
DESCRIPTION:FiBO CONCERTANTE: Parasta barokkia tutuilta ja tuntemattomilta \nHändel–Graun–Telemann–Vivaldi–Geminiani \nTeodoro Baù\, viola da gamba \nAnthony Marini\, viulu ja liidaus \nSuomalainen barokkiorkesteri  \nFiBOn kevätkauden ensimmäinen konsertti Ritarihuoneen residenssisarjassa yhdistää tuttuja vetäviä teoksia vähemmän kuultuihin helmiin välillä hyvin yllättävälläkin tavalla! Konsertin solistina on nuori italialainen gambisti Teodoro Baù. Hänet tunnetaan luonnollisesti erittäin taitavana gambistina\, mutta viime aikoina hän on alkanut soittaa gamballa myös muille soittimille kirjoitettua musiikkia\, ja tämä monipuolisuus ja joustavuus kuuluu hänen soitossaan. Baù voitti 6. Bach–Abel-kilpailun Köthenissä vuonna 2015 ja MA-festivaalin kilpailun Bruggessa vuonna 2021.  \nOhjelmassa on monia tuttuja nimiä\, kuten Händel\, Vivaldi ja Geminiani. Konsertti alkaa Georg Friedrich Händelin (1685–1759) concerto grossolla B-duurissa. Se sisältyy Händelin kolmanteen opukseen\, joka julkaistiin ilman Händelin lupaa tai edes tietoa. Kustantaja John Walsh oli huomannut Arcangelo Corellin (1653–1713) concerto grossojen menestyksen ja yhdisti Händelin jo olemassa olevia teoksia kuudeksi ”konsertoksi”.   \nJohann Gottlieb Graunin (1703–1771) d-molli-konsertto viola da gamballe on varmasti useimmille tuntematon teos. Graun oli silta barokin ja klassismin välillä\, ja nyt kuultava konsertto kuuluu selkeästi enemmän barokin puolelle. Graun tuli musiikillisestä perheestä\, mutta jos Graunin sukunimi on jo tuttu\, kyse lienee hänen veljestään Carl Heinrich Graunista (1704–1759)\, joka oli laulaja ja vielä tunnetumpi säveltäjä. Konserton ensimmäinen osa on täynnä rock and rollia\, mutta taustalla on välillä galant-tyylin esiasteita. Toisen osan erilaiset affektit vaativat monenlaista orkestrointia\, jotta gamban herkkä ääni kuuluu. Kolmas osa muistuttaa Graunin opettajista\, erityisesti Giuseppe Tartinin (1692–1770) virtuoosisista trilleistä ja Johann Georg Pisendelin (1687–1755) barriolage-tekniikasta. \nIllan päätteeksi soi tunnettu La Folia -melodia\, tällä kertaa Francesco Geminianin (1687–1762) versiona. Vaikka se lainaa paljon Corellilta eli Geminianin opettajalta\, sen runsas orkesterointi (jota FiBO on vielä laajentanut ottamalla puhaltajat mukaan) ja uudet muunnelmat tuovat tuoreutta tähän klassikkoon.  \nKonsertti kuuluu Ritarihuoneen residenssisarjaan\, jonka teemana keväällä 2023 on ”Paluu juurille”. Ensimmäisessä konsertissa 10.3. se tarkoittaa barokkiorkesterin perusohjelmistoa\, toisessa 29.4. varhaista musiikkia ja kolmannessa 19.5. esimerkiksi luontoon tai sävellystyylien piirteisiin viittaavaa elementti-käsitettä. \nFiBOn taiteellinen suunnittelija Anthony Marini alustaa konsertin Ritarihuoneella kello 18–18.30. \n***** \nLiput 15/29/37/52 € (hinta paikan mukaan) käsittelykuluineen + 1\,5 €:n toimitusmaksu tilausta kohti: Ticketmasterin myyntipisteet ja ticketmaster.fi\n \nLiput opiskelijoille ovelta 10 € \nSarjaliput Ritarihuoneen residenssisarjaan 72/92 € (hinta paikan mukaan) käsittelykuluineen ja 1\,5 €:n toimitusmaksu tilausta kohti: Ticketmasterin myyntipisteet ja ticketmaster.fi.  \nRyhmätarjoukset ja lipputiedustelut: lippu@fibo.fi
URL:https://svamuli.fi/t/fibo-parasta-barokkia-tutuilta-ja-tuntemattomilta/
LOCATION:Ritarihuone\, Ritarikatu 1\, Helsinki\, Helsinki\, Suomi
END:VEVENT
BEGIN:VEVENT
DTSTART;TZID=Europe/Helsinki:20230317T180000
DTEND;TZID=Europe/Helsinki:20230317T190000
DTSTAMP:20260425T005511
CREATED:20230120T132206Z
LAST-MODIFIED:20230120T132206Z
UID:3958-1679076000-1679079600@svamuli.fi
SUMMARY:SibA: Barokkiperjantai
DESCRIPTION:Sibelius-Akatemian vanhan musiikin opiskelijat esiintyvät.  \nVapaa pääsy.
URL:https://svamuli.fi/t/siba-barokkiperjantai-3/
LOCATION:Sibelius-Akatemia R-talo\, Pikkusali\, Pohjoinen Rautatienkatu 9\, Helsinki\, 00100
END:VEVENT
BEGIN:VEVENT
DTSTART;TZID=Europe/Helsinki:20230317T180000
DTEND;TZID=Europe/Helsinki:20230317T200000
DTSTAMP:20260425T005511
CREATED:20230314T071028Z
LAST-MODIFIED:20230314T072817Z
UID:4179-1679076000-1679083200@svamuli.fi
SUMMARY:Vanhan iberoamerikkalaisen musiikin konsertti: Alas del tiempo
DESCRIPTION:Alas del tiempo – Ajan siivet \nAlas del tiempo – Ajan siivet on matka runon ja musiikin siivin espanjalaisen barokin soinnillisuuteen ja iberoamerikkalaisen musiikin aarteisiin. \nNathaly Gómez Martinez\, laulu \nCamilo Pajuelo Valdez\, barokkikitara\, charango \nOlli Hyyrynen\, arkkiluuttu \nLiput 15 € / 11 € \nhttps://www.lippu.fi/event/vuotalo-alas-del-tiempo-ajan-siivet-vuotalo-16543795/ \nLisätietoja: \nhttps://www.vuotalo.fi/fi/tapahtumat/event/B951FDF6014DC7F00D71AF56CF23EF57/Alas_del_tiempo___Ajan_siivet
URL:https://svamuli.fi/t/vanhan-iberoamerikkalaisen-musiikin-konsertti-alas-del-tiempo/
LOCATION:Vuotalo\, Mosaiikkitori 2\, Helsinki\, 00980\, Suomi
END:VEVENT
BEGIN:VEVENT
DTSTART;TZID=Europe/Helsinki:20230318T150000
DTEND;TZID=Europe/Helsinki:20230318T160000
DTSTAMP:20260425T005511
CREATED:20230304T124231Z
LAST-MODIFIED:20230304T124354Z
UID:4142-1679151600-1679155200@svamuli.fi
SUMMARY:Turun Vanha Musiikki: Prinsessa uni eli kuinka lohikäärme kukistettiin
DESCRIPTION:Lasten musiikkijuhlat: Prinsessa uni eli kuinka lohikäärme kukistettiin \nKlassikkosatu Prinsessa Ruususesta palaa juurilleen kun Herttuan musikantit seikkailevat vanhojen sävelaarteiden parissa\, tällä kertaa huikean sirkusesityksen kuvittamana. Luvassa on paitsi romantiikkaa ja taianomaisia tunnelmia\, myös vauhtia ja vaarallisia tilanteita. Konsertissa kuullaan tarinankerronnan välissä romanttista\, vauhdikasta ja hiukan jännittävääkin musiikkia 1300–1600-luvuilta. \nMusiikki: Herttuan musikantit (Turun Vanha Musiikki ry)\nKerronta: Maikki Säikkä ja Sanna Kola\nSirkustaiteilija: Markus Nivala \nEsityksen kesto n. 45 min.\n \nLiput: 15/10 €\, perhelippu 39 €\, 0–2-v. 0 €.\nEnnakkovaraukset ja tiedustelut: tvmseura@gmail.com\nEsitys on juonnettu suomeksi ja ruotsiksi.
URL:https://svamuli.fi/t/turun-vanha-musiikki-prinsessa-uni-eli-kuinka-lohikaarme-kukistettiin/
LOCATION:Turun linnan Kuninkaansali\, Linnankatu 80\, 20100 Turku\, Turku\, Suomi
END:VEVENT
BEGIN:VEVENT
DTSTART;TZID=Europe/Helsinki:20230319T150000
DTEND;TZID=Europe/Helsinki:20230319T160000
DTSTAMP:20260425T005511
CREATED:20230110T135212Z
LAST-MODIFIED:20230110T135212Z
UID:3916-1679238000-1679241600@svamuli.fi
SUMMARY:Café Barock Universumissa: Planeettojen festivaali
DESCRIPTION:Planeettojen festivaali \nTatu Ahola\, barokkisello \nMikko Ikäheimo\, luuttu \nLassi Kari\, violone \nVuosina 1694–1733 Saksin vaaliruhtinaana toiminut Fredrik August II Väkevä tunnettiin suurena taiteen ja arkkitehtuurin ystävänä\, ja hänen valtakaudellaan Dresdenistä (silloisesta Saksin pääkaupungista) tuli suuri kulttuurikeskus\, joka houkutteli paikalle eri alojen taiteilijoita koko Euroopasta. Syyskuussa vuonna 1719 Dresdenissä juhlittiin Fredrik August III:n (August II Väkevän perijän) ja Itävaltalaisen Maria Josephan häitä. Virallinen hääseremonia oli pidetty elokuun lopussa Wienissä\, jossa kuultiin mm. hoviorkesterin varakapellimestarina tuolloin toimineen Antonio Caldaran säveltämää musiikkia\, ja täältä matka jatkui kohti Dresdeniä laivoilla\, joihin oli palkattu useita muusikoita (mm. luutisti Sylvius Leopold Weiss) viihdyttämään matkalaisia. Lopulta päämäärässä odottivat lähes kuukauden jatkuneet juhlallisuudet\, jossa vieraiden joukossa olivat myös säveltäjät Georg Philipp Telemann ja Georg Friedrich Händel. Juhlissa esitettiin päivittäin useiden eri säveltäjien instrumentaalimusiikkia ja oopperoita\, joiden keskeisenä teemana olivat planeetat sekä niihin yhdistetyt jumalat (esim. Mars – sodan jumala)\, ja tästä syystä tapahtuma tunnetaankin nykyään nimellä Planeettojen festivaali. Lämpimästi tervetuloa mukaamme tälle matkalle Itävallasta Saksaan aikakautensa suosituimpien säveltäjänimien seurassa! \nLiput ovelta puoli tuntia ennen konserttia\, maksa mitä jaksat – tue taidetta! \nKahvila avoinna ennen konserttia ja väliajalla.
URL:https://svamuli.fi/t/cafe-barock-universumissa-planeettojen-festivaali/
LOCATION:Teatteri Universum\, Perämiehenkatu 13\, Helsinki\, Helsinki\, Suomi
END:VEVENT
BEGIN:VEVENT
DTSTART;TZID=Europe/Helsinki:20230319T160000
DTEND;TZID=Europe/Helsinki:20230319T170000
DTSTAMP:20260425T005511
CREATED:20230207T071219Z
LAST-MODIFIED:20230207T071219Z
UID:4041-1679241600-1679245200@svamuli.fi
SUMMARY:Café Barock Tampere: Sanssouci – Fredrik Suuren hovissa
DESCRIPTION:Sanssouci – Fredrik Suuren hovissa \nKonsertissa esiintyvät Eija Laru & Pirkanmaan Barokki. \nLiput 20/10 €  \nwww.pirkanmaanbarokki.fi
URL:https://svamuli.fi/t/cafe-barock-tampere-sanssouci-fredrik-suuren-hovissa/
LOCATION:Pirkanmaan musiikkiopisto\, Eteläpuisto 4\, Tampere\, Suomi
END:VEVENT
BEGIN:VEVENT
DTSTART;TZID=Europe/Helsinki:20230320T190000
DTEND;TZID=Europe/Helsinki:20230320T203000
DTSTAMP:20260425T005511
CREATED:20230301T061720Z
LAST-MODIFIED:20230301T061720Z
UID:4114-1679338800-1679344200@svamuli.fi
SUMMARY:Tunteikasta italialaista ja tummaa juomaa – Telemann\, Scarlatti\, Händel
DESCRIPTION:Mezzosopraano Ida Wallén\, nokkahuilisti Sofia Fernholm ja cembalisti Aura Visala esittävät 1700-luvun italialaiseen tyyliin nojaavassa konsertissa harvinaisempaa matalalle naisäänelle sävellettyä musiikkia. Maallisia ja kirkollisia\, riipivää ja lohduttavaa rakkautta käsitteleviä lauluja kehystävät tunteikkaat instrumentaalikappaleet. \nMusiikkia säveltäjiltä Georg Philipp Telemann\, Alessandro Scarlatti\, Georg Friedrich Händel\, Pietro Castrucci. \nVäliaika\, kahvitarjoilu. \nLiput 15 €\, opiskelijat ja eläkeläiset 10 €. \nEnnakkomyynti: Billetto\, https://billetto.fi/e/tunteikasta-italialaista-ja-tummaa-juomaa-telemann-scarlatti-handel-liput-796474/ \nLisätietoja: \nhttps://idawallen.com/performances/tunteikasta-italialaista-ja-tummaa-juomaa-baroque-concert-pakila/?utm_source=svamuli&utm_medium=organic&utm_campaign=pakila
URL:https://svamuli.fi/t/tunteikasta-italialaista-ja-tummaa-juomaa-telemann-scarlatti-handel/
LOCATION:Pakilan Hyvän Paimenen kirkko\, Palosuontie 1\, Helsinki\, Helsinki\, Suomi
END:VEVENT
BEGIN:VEVENT
DTSTART;TZID=Europe/Helsinki:20230321T130000
DTEND;TZID=Europe/Helsinki:20230321T140000
DTSTAMP:20260425T005511
CREATED:20230110T131319Z
LAST-MODIFIED:20230110T131319Z
UID:3898-1679403600-1679407200@svamuli.fi
SUMMARY:Vanhan musiikin uudet toivot: Kansainvälinen vanhan musiikin päivä
DESCRIPTION:Kansainvälistä vanhan musiikin päivää vietetään Rikhardinkadun kirjaston kirjatornissa. Vapaa pääsy! \n  \nJärjestää yhteistyössä: \nCafé Barock / Kulttuuriyhdistys Ensemble Nylandia \nRikhardinkadun kirjasto  \nSibelius-Akatemian Vanhan musiikin aineryhmä \nYrkeshögskolan Novia
URL:https://svamuli.fi/t/vanhan-musiikin-uudet-toivot-kansainvalinen-vanhan-musiikin-paiva/
LOCATION:Rikhardinkadun kirjasto\, Rikhardinkatu 3\, 00130 Helsinki\, Helsinki\, Suomi
END:VEVENT
BEGIN:VEVENT
DTSTART;TZID=Europe/Helsinki:20230321T170000
DTEND;TZID=Europe/Helsinki:20230321T193000
DTSTAMP:20260425T005511
CREATED:20230203T080012Z
LAST-MODIFIED:20230301T072258Z
UID:4018-1679418000-1679427000@svamuli.fi
SUMMARY:Vanhan musiikin päivän Zoom-luennot
DESCRIPTION:Tervetuloa avoimille Zoom-luennoille Vanhan musiikin päivänä! \nVäitöskirjatutkija Tia Svanbergin luentojen aiheina ovat Barokin näytteleminen ja gestiikka klo 17–18 sekä Barokkilaulu ja retoriikka klo 18.30–19.30. \nZoom-linkin voi tilata sähköpostitse (tia.svanberg@helsinki.fi). \n 
URL:https://svamuli.fi/t/vanhan-musiikin-paiva-avoimet-zoom-luennot/
LOCATION:Zoom
END:VEVENT
BEGIN:VEVENT
DTSTART;TZID=Europe/Helsinki:20230322T190000
DTEND;TZID=Europe/Helsinki:20230322T203000
DTSTAMP:20260425T005511
CREATED:20230314T072119Z
LAST-MODIFIED:20230314T072505Z
UID:4183-1679511600-1679517000@svamuli.fi
SUMMARY:VÄRINÄÄ-festivaali: Kitaroiden kimallusta
DESCRIPTION:Kitaroiden kimallusta -konsertissa on luvassa muun hauskanpidon ohessa teorbimusiikkia kitaroilla höystettynä. \nOlli Hyyrynen\, teorbi ja kitara \nEsko Kivisaari\, kitara \nHeikki Kulo\, sello ja laulu \nJyrki Myllärinen\, kitara \nJuha Unkari\, kitara \nHannu Hyrske\, livepiirustus \nVapaa pääsy. \nLisätietoja: \nhttps://varinaa.fi/tapahtumat/
URL:https://svamuli.fi/t/varinaa-festivaali-kitaroiden-kimallusta/
LOCATION:Järvenpää-talo\, Juhani Aho -sali\, Hallintokatu 4\, Järvenpää\, 04400\, Suomi
END:VEVENT
BEGIN:VEVENT
DTSTART;TZID=Europe/Helsinki:20230324T180000
DTEND;TZID=Europe/Helsinki:20230324T190000
DTSTAMP:20260425T005511
CREATED:20230120T132407Z
LAST-MODIFIED:20230120T132407Z
UID:3960-1679680800-1679684400@svamuli.fi
SUMMARY:SibA: Barokkiperjantai
DESCRIPTION:Sibelius-Akatemian vanhan musiikin opiskelijat esiintyvät. \nVapaa pääsy.
URL:https://svamuli.fi/t/siba-barokkiperjantai-4/
LOCATION:Sibelius-Akatemia R-talo\, Pikkusali\, Pohjoinen Rautatienkatu 9\, Helsinki\, 00100
END:VEVENT
BEGIN:VEVENT
DTSTART;TZID=Europe/Helsinki:20230327T170000
DTEND;TZID=Europe/Helsinki:20230327T183000
DTSTAMP:20260425T005511
CREATED:20230301T064129Z
LAST-MODIFIED:20230301T064129Z
UID:4116-1679936400-1679941800@svamuli.fi
SUMMARY:Zoom-luento: Barokista rokokoohon – näytteleminen\, gestiikka & retoriikka
DESCRIPTION:Tia Svanberg pitää avoimen Zoom-luennon Maailman teatteripäivänä otsikolla Barokista rokokoohon – näytteleminen\, gestiikka & retoriikka. \nZoom-linkin voi tilata sähköpostitse (tia.svanberg@helsinki.fi).
URL:https://svamuli.fi/t/zoom-luento-barokista-rokokoohon-naytteleminen-gestiikka-retoriikka/
LOCATION:Zoom
END:VEVENT
END:VCALENDAR