BEGIN:VCALENDAR
VERSION:2.0
PRODID:-//Suomen vanhan musiikin liitto ry - ECPv6.15.17.1//NONSGML v1.0//EN
CALSCALE:GREGORIAN
METHOD:PUBLISH
X-ORIGINAL-URL:https://svamuli.fi
X-WR-CALDESC:Tapahtumat Suomen vanhan musiikin liitto ry
REFRESH-INTERVAL;VALUE=DURATION:PT1H
X-Robots-Tag:noindex
X-PUBLISHED-TTL:PT1H
BEGIN:VTIMEZONE
TZID:Europe/Helsinki
BEGIN:DAYLIGHT
TZOFFSETFROM:+0200
TZOFFSETTO:+0300
TZNAME:EEST
DTSTART:20220327T010000
END:DAYLIGHT
BEGIN:STANDARD
TZOFFSETFROM:+0300
TZOFFSETTO:+0200
TZNAME:EET
DTSTART:20221030T010000
END:STANDARD
BEGIN:DAYLIGHT
TZOFFSETFROM:+0200
TZOFFSETTO:+0300
TZNAME:EEST
DTSTART:20230326T010000
END:DAYLIGHT
BEGIN:STANDARD
TZOFFSETFROM:+0300
TZOFFSETTO:+0200
TZNAME:EET
DTSTART:20231029T010000
END:STANDARD
BEGIN:DAYLIGHT
TZOFFSETFROM:+0200
TZOFFSETTO:+0300
TZNAME:EEST
DTSTART:20240331T010000
END:DAYLIGHT
BEGIN:STANDARD
TZOFFSETFROM:+0300
TZOFFSETTO:+0200
TZNAME:EET
DTSTART:20241027T010000
END:STANDARD
END:VTIMEZONE
BEGIN:VEVENT
DTSTART;TZID=Europe/Helsinki:20230204T130000
DTEND;TZID=Europe/Helsinki:20230204T140000
DTSTAMP:20260424T233826
CREATED:20230120T125211Z
LAST-MODIFIED:20230124T064947Z
UID:3947-1675515600-1675519200@svamuli.fi
SUMMARY:SibA: Seconda Prattica
DESCRIPTION:Sibelius-Akatemian vierailijaprofessorin Justin Doylen pitämän Seconda Prattica -kurssin päätöskonsertti. Ohjelmassa Claudio Monteverdin ja Heinrich Schützin musiikkia erilaisille vokaali- ja instrumenttikokoonpanoille. \nEsiintyjinä vanhan musiikin\, laulun\, kuoronjohdon ja kirkkomusiikin aineryhmien sekä avoimen kampuksen opiskelijat johtajanaan Justin Doyle. \nVapaa pääsy.
URL:https://svamuli.fi/t/siba-seconda-prattica/
LOCATION:Organo-sali\, Musiikkitalo\, Mannerheimintie 13 A 00100 Helsinki\, Helsinki\, Suomi
END:VEVENT
BEGIN:VEVENT
DTSTART;TZID=Europe/Helsinki:20230210T180000
DTEND;TZID=Europe/Helsinki:20230210T190000
DTSTAMP:20260424T233826
CREATED:20230207T065644Z
LAST-MODIFIED:20230207T065644Z
UID:4033-1676052000-1676055600@svamuli.fi
SUMMARY:Café Barock Tampere: Sello ja gamba Abelien jalanjäljillä
DESCRIPTION:Sello ja gamba Abelien jalanjäljillä \nHeidi Peltoniemi\, sello ja gamba \nLiput 20/10 € \nwww.tampereenseurakunnat.fi
URL:https://svamuli.fi/t/cafe-barock-tampere-sello-ja-gamba-abelien-jalanjaljilla/
LOCATION:Pispalan kirkko\, Pispalan valtatie 16\, 33250 Tampere\, Tampere\, Suomi
END:VEVENT
BEGIN:VEVENT
DTSTART;TZID=Europe/Helsinki:20230212T150000
DTEND;TZID=Europe/Helsinki:20230212T160000
DTSTAMP:20260424T233826
CREATED:20230110T134529Z
LAST-MODIFIED:20230110T134529Z
UID:3909-1676214000-1676217600@svamuli.fi
SUMMARY:Café Barock Universumissa: Lähteelle istukaamme
DESCRIPTION:Hvila vid denna Källa – Lähteelle istukaamme \nCarl Michael Bellmanin (1740–1795) lauluja aikansa tyylin mukaisesti esitettyinä.  \nBellmann Ensemble: \nPentti Hildén\, laulu ja mandora \nAnna Villberg\, sopraano \nPauliina Fred\, traverso ja nokkahuilu \nMarkus Pelli\, barokkisello. \nCarl Michael Bellman (1740–1795) on eräs Ruotsin kaikkien aikojen suurimpia runoilijoita; riimivirtuoosi\, joka taitoi kaikki runouden lajit. Kuuluisaksi hänet teki kuitenkin nimenomaisesti hänen parodiset juomalaulunsa\, jotka ehdittiin koota ja julkaista hänen elinaikanaan: ”Fredmans Epistlar” (1790) ja ”Fredmans Sånger” (1791). Molemmat kirjat ovat varsinaisia runsaudensarvia täynnä paitsi hersyvää runoutta myös unohtumattomia sävelmiä\, upeata 1700-luvun musiikkia\, jonka Bellman lainasi mm. tuolloin suosituista ranskalaisista oopperoista. Monet näistä sävelmistä ovat eläneet meidän päiviimme asti nimenomaan Bellmanin versioina. Musiikki ja muusikot nousevat selkeästi esiin näissä lauluissa. Juuri heidän soittonsa vietteleminä antaudumme hetken nautinnoille sävelten viedessä meidät Bacchuksen ja Fröjan (pohjolan Venuksen) valtakuntiin. Olemme tarttuneet tähän\, ja esityksessämme voi kuulla kaupunginvirtuoosi Bergin huilunsoittoa tai Movitzin selloa Cajsa Liisan sängyn äärellä. Soitto tuo myös lohtua Kaaronin viittoillessa tuonelan virralta.  \nEsitys on rikkaan monimuotoinen ja draamallisesti ehyt konserttikokonaisuus\, joka johdattelee yleisön Bellmanin kiehtovaan maailmaan ja aikakauteen. Ohjelma tuo tapahtumat lähelle; olimmehan tuolloin osa Ruotsin valtakuntaa\, ja laulaessamme yleisön kanssa ”Gustavs skål” Bellmanin hyväntekijän Kustaa III kunniaksi laulamme myös omalle tuonaikaiselle hallitsijallemme. Ohjelma on kaksikielinen: Bellmanin huikeiden alkuperäistekstien lomassa kuullaan Achreniuksen\, Kemellin\, Gottlundin\, Hirvisepän\, Kupiaisen\, Ryömän ym. suomennoksia\, näin piirtyy myös kuva Bellmanin laulujen historiasta Suomessa 1700-luvulta nykypäivään. \nLiput ovelta puoli tuntia ennen konserttia\, maksa mitä jaksat – tue taidetta! \nKahvila avoinna ennen konserttia ja väliajalla.
URL:https://svamuli.fi/t/cafe-barock-universumissa-lahteelle-istukaamme/
LOCATION:Teatteri Universum\, Perämiehenkatu 13\, Helsinki\, Helsinki\, Suomi
END:VEVENT
BEGIN:VEVENT
DTSTART;TZID=Europe/Helsinki:20230215T130000
DTEND;TZID=Europe/Helsinki:20230215T140000
DTSTAMP:20260424T233826
CREATED:20230110T130511Z
LAST-MODIFIED:20230110T130511Z
UID:3895-1676466000-1676469600@svamuli.fi
SUMMARY:Vanhan musiikin uudet toivot
DESCRIPTION:Vanhan musiikin opiskelijat esiintyvät lounaskonserttisarjassa Rikhardinkadun kirjaston kirjatornissa. Vapaa pääsy! \n  \nJärjestää yhteistyössä: \nCafé Barock / Kulttuuriyhdistys Ensemble Nylandia \nRikhardinkadun kirjasto  \nSibelius-Akatemian Vanhan musiikin aineryhmä \nYrkeshögskolan Novia
URL:https://svamuli.fi/t/vanhan-musiikin-uudet-toivot-6/
LOCATION:Rikhardinkadun kirjasto\, Rikhardinkatu 3\, 00130 Helsinki\, Helsinki\, Suomi
END:VEVENT
BEGIN:VEVENT
DTSTART;TZID=Europe/Helsinki:20230216T190000
DTEND;TZID=Europe/Helsinki:20230216T203000
DTSTAMP:20260424T233826
CREATED:20230125T100557Z
LAST-MODIFIED:20230125T100557Z
UID:3981-1676574000-1676579400@svamuli.fi
SUMMARY:Kymi Sinfonietta ja Ensemble Nylandia: Juhlamusiikkia 1700-luvulta Ranskasta ja Ruotsista
DESCRIPTION:Symphonie du Concert Municipal des Honorables Villes de Kotka et d’Helsinki – Juhlamusiikkia 1700-luvulta Ranskasta ja Ruotsista \nKymi Sinfonietta on aloittanut yhteistyön suurta arvostusta barokkimusiikin saralla nauttivan Ensemble Nylandian kanssa. Perinteisen orkesterikokoonpanon ja barokkimusiikkiin erikoistuneen Nylandian värikäs yhteissointi luo raikkaan ja monipuolisen tulkinnan musiikista\, jota kuultiin Artois’n kreivin eli tulevan Ranskan kuningas Kaarle X:n häissä vuonna 1773. Ranskassa tuolloin suosittujen säveltäjien teoksia sisältävät orkesterisarjat kokosi säveltäjä François Francœur. Konsertissa kuullaan myös otteita saman ajan Ruotsin juhlamusiikista ja hovisäveltäjäsuvun Dübeneiden nuottiarkistosta löytyneestä tanssisarjasta\, joka mukailee tuolloin muodissa ollutta André Campran L’Europe Galante -oopperaa. Konsertin liidaavat yhdessä Kymi Sinfoniettan konserttimestari Raymond Cox sekä Ensemble Nylandian taiteellinen johtaja Matias Häkkinen. Tästä ainutlaatuisesta periodiorkesterin ja kaupunginorkesterin yhteistyöstä päästään nauttimaan Helsingin lisäksi myös Kotkassa 15.2.2023. \nAlkusoittoja\, aireja\, gavotteja\, menuetteja\, bourréeita\, chaconneja ym. säveltäjiltä F. Francoeur\, J-P Rameau\, A. Campra\, H.M. Berton\, G. Düben ja J.V. Meder. \nLiidaus: \nRaymond Cox ja Matias Häkkinen \nEnsemble Nylandia & Kymi Sinfonietta \nLiput: 25€ aikuiset\, 20€ eläkeläiset\, 11€ opiskelijat ja työttömät \nLiput: www.ticketmaster.fi ja Ticketmasterin lippukaupat\, Kymi Sinfoniettan orkesteritoimisto\, Kotkankatu 7\, avoinna ma-to klo 10-12 ja klo 13-15. Sekä tuntia ennen ovelta.  \nTiedustelut ja varaukset: orkesteritoimisto p. 05 234 4891 \nryhmämyynti p. 050 3232 050
URL:https://svamuli.fi/t/kymi-sinfonietta-ja-ensemble-nylandia-juhlamusiikkia-1700-luvulta-ranskasta-ja-ruotsista/
LOCATION:Vanha kirkko\, Lönnrotinkatu 6\, Helsinki\, Helsinki\, Suomi
END:VEVENT
BEGIN:VEVENT
DTSTART;TZID=Europe/Helsinki:20230217T163000
DTEND;TZID=Europe/Helsinki:20230217T170000
DTSTAMP:20260424T233826
CREATED:20230207T174309Z
LAST-MODIFIED:20230207T190127Z
UID:4045-1676651400-1676653200@svamuli.fi
SUMMARY:Oulun Vanha Musiikki -festivaali: Art Goes Afterwork – Lakeus Barokki
DESCRIPTION:Art Goes Afterwork: Lakeus Barokki \nLimingan lakeuksien alueella vaikuttavien muusikoiden muodostama Lakeus Barokki -kvartetti tuo kulttuuritalo Valveen Art Goes Afterworkiin barokkimaistiaisia musiikin ja tarinoiden muodossa.  \nTervetuloa aloittamaan viikonloppu ja Oulun Vanha Musiikki -festivaali Valveen Paljetissa\, vapaa pääsy! \nLAKEUS BAROKKI \nTuuli-Maria Kämäräinen\, barokkiviulu \nKaisa Komulainen\, barokkisello \nPekka Elsilä\, traverso \nJenni Kaikkonen\, traverso
URL:https://svamuli.fi/t/oulun-vanha-musiikki-art-goes-afterwork-lakeus-barokki/
LOCATION:Kahvila-ravintola Valveen Paljetti\, Hallituskatu 7\, Oulu\, 90100\, Suomi
END:VEVENT
BEGIN:VEVENT
DTSTART;TZID=Europe/Helsinki:20230217T180000
DTEND;TZID=Europe/Helsinki:20230217T190000
DTSTAMP:20260424T233826
CREATED:20230120T125422Z
LAST-MODIFIED:20230120T125422Z
UID:3950-1676656800-1676660400@svamuli.fi
SUMMARY:SibA: Barokkiperjantai
DESCRIPTION:Sibelius-Akatemian vanhan musiikin opiskelijat esiintyvät. \nVapaa pääsy.
URL:https://svamuli.fi/t/siba-barokkiperjantai-2/
LOCATION:Sibelius-Akatemia R-talo\, Pikkusali\, Pohjoinen Rautatienkatu 9\, Helsinki\, 00100
END:VEVENT
BEGIN:VEVENT
DTSTART;TZID=Europe/Helsinki:20230217T190000
DTEND;TZID=Europe/Helsinki:20230217T200000
DTSTAMP:20260424T233826
CREATED:20230207T175317Z
LAST-MODIFIED:20230207T175317Z
UID:4050-1676660400-1676664000@svamuli.fi
SUMMARY:Oulun Vanha Musiikki -festivaali: Pardessus de viole – Miniatyyrien viehätys
DESCRIPTION:Pardessus de viole – Miniatyyrien viehätys \nHarvoin kuultu pardessus de viole on gambaperheen pienin ja myöhäisin edustaja. Tämä viulun kokoinen sylissä soitettava jousisoitin oli suosittu 1700-luvun puolivälissä ranskalaisissa salongeissa\, erityisesti naisten soittimena. Viehkeä pardessus de viole on luotu intiimeihin tiloihin ja pieniin kokoonpanoihin. Konsertissa kuullaan sekä soittimelle sävellettyjä teoksia että sovituksia aikakauden kosketinsoitin-\, viulu- ja bassogambamusiikista.  \nJean-Baptiste Barrière – Charles Dollé – Jean-Philippe Rameau – Marin Marais – François Couperin \nMaija Lampela\, pardessus de viole \nJohanna Kilpijärvi\, diskanttigamba ja bassogamba \nPetteri Pitko\, cembalo \nLIPUT: Peruslippu 25 €\, eläkeläinen 20 €\, opiskelija\, työtön\, lapsi (2–16 v) 10 €. Hinnat sisältävät Ticketmasterin käsittelykulut ja niihin lisätään 1\,5–2 € tilausmaksu / tilaus. Ennakkolippujen myyntipaikat: Ticketmaster\, kulttuuritalo Valveen lippumyymälä ja Oulu10-palvelupisteet. Lippujen ovimyynti avautuu tuntia ennen konserttia. Konserttiin käy Kaikukortti.
URL:https://svamuli.fi/t/oulun-vanha-musiikki-festivaali-pardessus-de-viole-miniatyyrien-viehatys/
LOCATION:Oulun Lääninhallituksen talo\, Linnankatu 3\, 90100 Oulu\, Oulu\, Suomi
END:VEVENT
BEGIN:VEVENT
DTSTART;TZID=Europe/Helsinki:20230218T150000
DTEND;TZID=Europe/Helsinki:20230218T160000
DTSTAMP:20260424T233826
CREATED:20230207T180026Z
LAST-MODIFIED:20230207T180026Z
UID:4054-1676732400-1676736000@svamuli.fi
SUMMARY:Oulun Vanha Musiikki -festivaali: Barokkia Lakeuksilta
DESCRIPTION:Barokkia Lakeuksilta \nLakeus Barokki on Limingan lakeuksien alueella vaikuttavien muusikoiden muodostama kvartetti. Kyseessä ei ole ihan perinteinen jousikvartetti vaan kahden traverson\, barokkiviulun ja sellon muodostama kokoonpano\, joka tutkii ja esittää opetustyönsä ohella barokin ajan hoveista ja kuningashuoneista aina kansan maalaistansseihin ulottuvaa musiikkia. Konsertissa kuullaan muun muassa Händelin\, Boismortierin sekä Quantzin sävellyksiä. \nLakeus Barokki \nTuuli-Maria Kämäräinen\, barokkiviulu \nKaisa Komulainen\, barokkisello \nPekka Elsilä\, traverso \nJenni Kaikkonen\, traverso \nLIPUT: Peruslippu: 25 €\, eläkeläinen 20 €\, opiskelija\, työtön\, lapsi (2–16 v) 10 €. Hinnat sisältävät Ticketmasterin käsittelykulut ja niihin lisätään 1\,5–2 € tilausmaksu / tilaus. Ennakkolippujen myyntipaikat: Ticketmaster\, Oulu10-palvelupisteet ja kulttuuritalo Valveen lippumyymälä (ei käsittelykuluja). Konserttiin käy Kaikukortti.
URL:https://svamuli.fi/t/oulun-vanha-musiikki-festivaali-barokkia-lakeuksilta/
LOCATION:Kulttuuritalo Valve\, Valvesali\, Hallituskatu 7\, Oulu\, 90100\, Suomi
END:VEVENT
BEGIN:VEVENT
DTSTART;TZID=Europe/Helsinki:20230218T180000
DTEND;TZID=Europe/Helsinki:20230218T190000
DTSTAMP:20260424T233826
CREATED:20230207T181157Z
LAST-MODIFIED:20230207T181157Z
UID:4058-1676743200-1676746800@svamuli.fi
SUMMARY:Oulun Vanha Musiikki -festivaali: The Spirit of Gambo
DESCRIPTION:The Spirit of Gambo \nKonsertin pääosassa ovat viola da gambat ja gambaconsortmusiikki. Ohjelma koostuu englantilaisesta ja alankomaalaisesta 1500–1600-lukujen musiikista\, säveltäjäniminä mm. Adrian Willaert\, Jacobus Clemens non Papa ja William Lawes. Ja mitäpä olisi gambaconsort-konsertti ilman John Dowlandin musiikkia. \nHelsingissä vuonna 2015 perustettu gambayhtye Eloisa Consort koostuu nuorista ammattimuusikoista\, jotka työskentelevät aktiivisesti ja monipuolisesti vanhan musiikin parissa. Nykyisin Ensemble Nylandian siipien suojissa toimiva yhtye on konsertoinut muun muassa BarokkiKuopiossa ja Rovaniemen KontraPunctum-festivaalilla sekä tehnyt yhteistyötä Q Consort- ja The Royal Wind Music -nokkahuiluyhtyeiden sekä mezzosopraano Debi Wongin kanssa. \nYhtyeellä on ollut vuosien varrella ilo soittaa Suomen Kulttuurirahaston omistamalla viola da gamba -soitinkvintetillä. Kokoelman diskantti- ja tenorigambat on rakentanut Henner Harders ja 6-kielisen bassogamban Dietrich M. Kessler. Nämä harvinaiset soittimet voi kuulla nyt ensimmäistä kertaa Oulussa! \nEloisa Consort \nJohanna Kilpijärvi\, diskanttigamba \nMartti Laivuori\, diskanttigamba \nPieta Mattila\, tenorigamba \nAnthony Marini\, tenorigamba \nAnna Pulakka\, bassogamba \nOhjelmamaksu: Perus 25 €\, eläkeläinen 20 €\, opiskelija\, työtön\, lapsi (2–16 v) 10 €.  \nHinnat sisältävät Ticketmasterin käsittelykulut ja niihin lisätään 1\,5–2 € tilausmaksu / tilaus. Ennakkomyyntipaikat: Ticketmaster\, Oulu10-palvelupisteet ja kulttuuritalo Valveen lippumyymälä (ei käsittelykuluja). Ovimyynti alkaa tuntia ennen konserttia. Konserttiin käy Kaikukortti.
URL:https://svamuli.fi/t/oulun-vanha-musiikki-festivaali-the-spirit-of-gambo/
LOCATION:Tuiran kirkko\, Myllytie 5\, Oulu\, Oulu\, Suomi
END:VEVENT
BEGIN:VEVENT
DTSTART;TZID=Europe/Helsinki:20230218T200000
DTEND;TZID=Europe/Helsinki:20230218T220000
DTSTAMP:20260424T233826
CREATED:20230207T183234Z
LAST-MODIFIED:20230207T183234Z
UID:4061-1676750400-1676757600@svamuli.fi
SUMMARY:Oulun Vanha Musiikki -festivaali: Barokki-iltamat
DESCRIPTION:Barokki-iltamat \nBarokki-iltamat kokoaa barokin parhaat biisit\, Oulun seudun omat barokkimusiikin taitajat ja festivaalimme vierailijat tunnelmalliseen ravintola Voimalaan. Koe gambojen\, luuttujen\, traversojen ja muiden barokkisoittimien välittämä värikäs tunteiden kirjo\, jonka illan isäntä barokkispesialisti Petteri Pitko kietoo kokonaisuudeksi jututtaen esiintyjiä ja kertoen aikakauden musiikista soiton lomassa. \nLIPUT: Peruslippu 25 €\, eläkeläinen 20 €\, opiskelija\, työtön\, lapsi (2–16 v) 10 €. Hinnat sisältävät Ticketmasterin käsittelykulut ja niihin lisätään 1\,5–2 € tilausmaksu / tilaus. Ennakkolippujen myyntipaikat: Ticketmaster\, Oulu10-palvelupisteet ja kulttuuritalo Valveen lippumyymälä (ei käsittelykuluja). Lippujen ovimyynti alkaa tuntia ennen konserttia. Konserttiin käy Kaikukortti.
URL:https://svamuli.fi/t/oulun-vanha-musiikki-festivaali-barokki-iltamat/
LOCATION:Voimala 1889\, Kasarmintie 1\, 90130 Oulu\, Oulu\, Suomi
END:VEVENT
BEGIN:VEVENT
DTSTART;TZID=Europe/Helsinki:20230219T140000
DTEND;TZID=Europe/Helsinki:20230219T150000
DTSTAMP:20260424T233826
CREATED:20230207T184244Z
LAST-MODIFIED:20230207T184244Z
UID:4064-1676815200-1676818800@svamuli.fi
SUMMARY:Oulun Vanha Musiikki -festivaali: Gambat tunturissa – talvinen konserttipäivä Syötteellä
DESCRIPTION:Gambat tunturissa: talvinen konserttipäivä Syötteellä \nKoe uniikki elämys Syötteen maisemissa talvisen tekemisen ja musiikin parissa! Päivän aikana voit nauttia talven riemuista lasketellen\, lautaillen\, hiihtäen\, pyöräillen tai lumikengin\, sekä pääset musiikkimatkalle 1500–1600-luvun maisemiin gambayhtye Eloisa Consortin konsertissa LumiAreenalla.  \nEnnen konserttia voit myös osallistua ohjatulle lumikenkäretkelle upean luonnon keskellä. Lumikenkäretken kesto on n. 1 h 40 min ja hintaan kuuluu oppaan palvelut sekä varusteet. Lumikenkäretki tulee varata viimeistään 15.2.2023. Vaihtoehtona omalle autolle pääset Oulusta Iso-Syötteelle ja Syötteen luontokeskukselle myös Saaga Travelin bussilla. Bussiin voi nousta myös Jäälistä\, Kiimingistä tai Pudasjärveltä. Syötteen alueelta löydät hyvin hoidetut rinteet\, laajan latuverkoston\, monipuoliset maastoreitit\, useita välinevuokraamoita ja tasokkaan ravintolatarjonnan. Saat Saaga Travelin kautta Hiihtokeskus Iso-Syötteen hissiliput ja välinevuokrat etuhintaan. \nKONSERTTI: ELOISA CONSORT & THE SPIRIT OF GAMBO \nKonsertin pääosassa ovat viola da gambat ja gambaconsortmusiikki. Ohjelma koostuu englantilaisesta ja alankomaalaisesta 1500–1600-lukujen musiikista\, säveltäjäniminä mm. Adrian Willaert\, Jacobus Clemens non Papa ja William Lawes. Ja mitäpä olisi gambaconsort-konsertti ilman John Dowlandin musiikkia! Konsertin kesto on n. 60 min\, ei väliaikaa.  \nHelsingissä vuonna 2015 perustettu gambayhtye Eloisa Consort koostuu nuorista ammattimuusikoista\, jotka työskentelevät aktiivisesti ja monipuolisesti vanhan musiikin parissa. Nykyisin Ensemble Nylandian siipien suojissa toimiva yhtye on konsertoinut muun muassa BarokkiKuopiossa ja Rovaniemen KontraPunctum-festivaalilla sekä tehnyt yhteistyötä Q Consort- ja The Royal Wind Music -nokkahuiluyhtyeiden sekä mezzosopraano Debi Wongin kanssa. Yhtyeellä on ollut vuosien varrella ilo soittaa Suomen Kulttuurirahaston omistamalla viola da gamba -soitinkvintetillä. \nEloisa Consort \nJohanna Kilpijärvi\, diskanttigamba \nMartti Laivuori\, diskanttigamba \nAnthony Marini\, tenorigamba \nPieta Mattila\, tenorigamba \nAnna Pulakka\, bassogamba \nKonserttielämyksestä pääset halutessasi nauttimaan myös pötkötellen\, sillä konserttia voit kuunnella myös makuuasennosta! Suosittelemme ottamaan mukaan oman joogamaton tai muun alustan ja miksei tyynynkin. Tarjolla on myös perinteisempi istumakatsomo. Juhlatamineissa tai ilman\, olet tervetullut konserttiin juuri sellaisena kuin olet: vaikka toppahousuissa tai villasukissa ja posket punaisina päivän ulkoilusta. \nPÄIVÄN AIKATAULU \n8.00 Lähtö Oulusta (tarkista lähtöpaikat Saaga Travelin sivuilta) \n10.00 Ohjattu lumikenkäretki (kesto n. 1 h 40 min) / omatoimista ulkoilua \n14.00 Konsertti: Eloisa Consort & The Spirit of Gambo (kesto n. 60 min) \n16.00 Paluu Ouluun \nLIPUT:  \nKonsertti 15/10 €. Ticketmaster\, Oulu10-palvelupisteet\, kulttuuritalo Valveen lippumyymälä\, ovelta tuntia ennen konserttia. \nMuut liput ovat myynnissä Saaga Travelin verkkokaupassa. \nKonsertti ja bussi 35 €. \nKonsertti\, bussi ja ohjattu lumikenkäretki 75 €. \nSkibus 24 €. \nRetki järjestetään yhteistyössä Oulun kulttuuritapahtumayhdistyksen\, Saaga Travelin\, Pudasjärven kaupungin sekä Hiihtokeskus Iso-Syötteen kanssa.
URL:https://svamuli.fi/t/oulun-vanha-musiikki-festivaali-gambat-tunturissa-talvinen-konserttipaiva-syotteella/
LOCATION:LumiAreena\, Romekievarintie 2\, Syöte\, 93280
END:VEVENT
BEGIN:VEVENT
DTSTART;TZID=Europe/Helsinki:20230219T160000
DTEND;TZID=Europe/Helsinki:20230219T170000
DTSTAMP:20260424T233826
CREATED:20230125T200201Z
LAST-MODIFIED:20230125T200201Z
UID:3984-1676822400-1676826000@svamuli.fi
SUMMARY:Duo Ciofini&Mäkinen: Kimmeltävää klaveerimusiikkia ja kuumaa kaakaota
DESCRIPTION:Kimmeltävää klaveerimusiikkia ja kuumaa kaakaota  \nLaskiaissunnuntain konsertti sisältää musiikkia kahdelle klaveerille. Urku- ja cembalotaiturit Fabio Ciofini (Italia) ja Markku Mäkinen laskettelevat Korson kirkon soitinten koskettimistoilla. \nDuo Ciofini&Mäkinen on soittanut yhdessä konsertteja jo kahdenkymmenen vuoden ajan mm. Suomessa ja Italiassa. Heidän yhteistyönsä on saumatonta ja musiikki sisältää paljon hetkessä tapahtuvaa improvisaatiota. \nOhjelmassa kappaleita säveltäjiltä A. Vivaldi\, G. F. Händel\, J. C. Bach ja J. L. Krebs. \nKäsiohjelma 10 euroa\, vapaa pääsy. \n\nEnnen konserttia ilmainen kaakaotarjoilu kirkkosali 2:ssa klo 15.30 alkaen. Samalla voit tavata taiteilijoita. Lämpimästi tervetuloa! 
URL:https://svamuli.fi/t/duo-ciofinimakinen-kimmeltavaa-klaveerimusiikkia-ja-kuumaa-kaakaota/
LOCATION:Korson kirkko\, Merikotkantie 4\, 01450 Vantaa\, Vantaa\, Suomi
END:VEVENT
BEGIN:VEVENT
DTSTART;TZID=Europe/Helsinki:20230219T180000
DTEND;TZID=Europe/Helsinki:20230219T190000
DTSTAMP:20260424T233826
CREATED:20230207T184855Z
LAST-MODIFIED:20230207T184855Z
UID:4068-1676829600-1676833200@svamuli.fi
SUMMARY:Oulun Vanha Musiikki -festivaali: London Calling – Barokkia Brittein saarilta
DESCRIPTION:London Calling – Barokkia Brittein saarilta \nBarokin ajan Lontoo oli kansainvälisen kaupan keskus ja Euroopan suurin kaupunki. Metropolin yleisö janosi musiikkia\, ja 1700-luvun alussa Lontooseen asettunut Georg Friedrich Händel iski taidoillaan todelliseen kultasuoneen kaupungin musiikkibisneksessä ooppera- ja oratorioesitysten järjestäjänä. Englannissa musiikki oli bisnestä\, mutta samalla myös tunnustettiin sen pyhyys ja kauneus. Musiikin ihmeellinen voima on pyhälle Cecilialle\, musiikin ja muusikoiden suojelijalle\, omistettujen Händelin ja Henry Purcellin teosten aiheena. Konsertissa kuullaan katkelmia molempien säveltäjien Cecilia-oodeista. Harvemmin kuultua englantilaista barokkia ohjelmassa edustaa Charles Avison\, joka teki elämäntyönsä urkurina ja säveltäjänä Newcastlessa. Nyt kuullaan yksi Avisonin orkesterikonsertoista\, jotka hän kirjoitti Domenico Scarlattin cembalosonaattien pohjalta. \nPetteri Pitko\, urkupositiivi ja musiikin johto \nOulun barokkiorkesteri\, Lauluyhtye Voces ja Soma Ensemble \nOHJELMAMAKSU: Perus 25 €\, eläkeläinen 20 €\, opiskelija\, työtön\, lapsi (2–16 v) 10 €. Hinnat sisältävät Ticketmasterin käsittelykulut ja niihin lisätään 1\,5–2 € tilausmaksu / tilaus. Ennakkomyyntipaikat: Ticketmaster\, Oulu10-palvelupisteet ja kulttuuritalo Valveen lippumyymälä (ei käsittelykuluja). Ovimyynti alkaa tuntia ennen konserttia. Konserttiin käy Kaikukortti.
URL:https://svamuli.fi/t/oulun-vanha-musiikki-festivaali-london-calling-barokkia-brittein-saarilta/
LOCATION:Oulun Tuomiokirkko\, Kirkkokatu 3 A\, Oulu\, 90100\, Suomi
END:VEVENT
BEGIN:VEVENT
DTSTART;TZID=Europe/Helsinki:20230222T130000
DTEND;TZID=Europe/Helsinki:20230222T140000
DTSTAMP:20260424T233826
CREATED:20230207T070109Z
LAST-MODIFIED:20230207T070109Z
UID:4036-1677070800-1677074400@svamuli.fi
SUMMARY:Café Barock Tampere: Vanhan musiikin uudet toivot
DESCRIPTION:Vanhan musiikin uudet toivot esiintyvät lounaskonsertissa Metso-kirjaston musiikkiosastolla. \nVapaa pääsy  \nwww.tampere.fi/kirjastot
URL:https://svamuli.fi/t/cafe-barock-tampere-vanhan-musiikin-uudet-toivot-2/
LOCATION:Metso-kirjasto\, Pirkankatu 2\, Tampere\, Tampere\, Suomi
END:VEVENT
BEGIN:VEVENT
DTSTART;TZID=Europe/Helsinki:20230223T190000
DTEND;TZID=Europe/Helsinki:20230223T203000
DTSTAMP:20260424T233826
CREATED:20230207T185823Z
LAST-MODIFIED:20230207T185823Z
UID:4070-1677178800-1677184200@svamuli.fi
SUMMARY:Oulun Vanha Musiikki ja Oulu Sinfonia: Tanssiva helminauha
DESCRIPTION:Tanssiva helminauha \nOulun vanha musiikki ry ja Oulu Sinfonia yhteistyössä \nSana barokki tulee ranskan kielen termistä barroque\, joka tarkoittaa omituisen muotoista helmeä. Barokkimusiikista tutut Courante\, Chaconne\, Sarabande ja Gavotti lienevät tuttuja sanoja musiikin suurkuluttajille\, mutta moniko on nähnyt niitä tanssittavan? Nyt siihen tarjoutuu mahdollisuus\, kun Oulu Sinfonia\, Aurinkokuninkaan luottosäveltäjä Jean-Féry Rebel ja barokkimusiikin rikkaudet liikekieleksi muuttava Steven Player johdattelevat ranskalaistanssien kiehtovaan maailmaan. \nBjarte Eike\, kapellimestari \nHans Knut\, cembalo \nStephen Player\, barokkitanssi \nOulu Sinfonia \nLiput: 29 € perushinta\, 24 € eläkeläinen\, 16 € opiskelija\, työtön\, lapsi (3–17 v). Kaikukortilla ilmainen sisäänpääsy konserttiin (lippuja rajoitettu määrä). Kaikukorttiliput ovat noudettavissa etukäteen vain Oulu10-asiointipisteistä. Hinnat sisältävät käsittelykulut. Erikseen veloitetaan tilausmaksu 2 €/tilaus Ticketmasterin lippukaupasta tai 1\,50 €/tilaus Ticketmasterin verkkokaupasta ostettaessa. Tilausmaksu ei koske Madetojan salin lippukaupasta ostettuja lippuja eikä Kaikukortti-asiakkaita.
URL:https://svamuli.fi/t/oulun-vanha-musiikki-ja-oulu-sinfonia-tanssiva-helminauha/
LOCATION:Oulun Tuomiokirkko\, Kirkkokatu 3 A\, Oulu\, 90100\, Suomi
END:VEVENT
END:VCALENDAR