BEGIN:VCALENDAR
VERSION:2.0
PRODID:-//Suomen vanhan musiikin liitto ry - ECPv6.15.17.1//NONSGML v1.0//EN
CALSCALE:GREGORIAN
METHOD:PUBLISH
X-ORIGINAL-URL:https://svamuli.fi
X-WR-CALDESC:Tapahtumat Suomen vanhan musiikin liitto ry
REFRESH-INTERVAL;VALUE=DURATION:PT1H
X-Robots-Tag:noindex
X-PUBLISHED-TTL:PT1H
BEGIN:VTIMEZONE
TZID:Europe/Helsinki
BEGIN:DAYLIGHT
TZOFFSETFROM:+0200
TZOFFSETTO:+0300
TZNAME:EEST
DTSTART:20190331T010000
END:DAYLIGHT
BEGIN:STANDARD
TZOFFSETFROM:+0300
TZOFFSETTO:+0200
TZNAME:EET
DTSTART:20191027T010000
END:STANDARD
BEGIN:DAYLIGHT
TZOFFSETFROM:+0200
TZOFFSETTO:+0300
TZNAME:EEST
DTSTART:20200329T010000
END:DAYLIGHT
BEGIN:STANDARD
TZOFFSETFROM:+0300
TZOFFSETTO:+0200
TZNAME:EET
DTSTART:20201025T010000
END:STANDARD
BEGIN:DAYLIGHT
TZOFFSETFROM:+0200
TZOFFSETTO:+0300
TZNAME:EEST
DTSTART:20210328T010000
END:DAYLIGHT
BEGIN:STANDARD
TZOFFSETFROM:+0300
TZOFFSETTO:+0200
TZNAME:EET
DTSTART:20211031T010000
END:STANDARD
END:VTIMEZONE
BEGIN:VEVENT
DTSTART;TZID=Europe/Helsinki:20201106T190000
DTEND;TZID=Europe/Helsinki:20201106T200000
DTSTAMP:20260420T184041
CREATED:20201003T095115Z
LAST-MODIFIED:20201003T095115Z
UID:2790-1604689200-1604692800@svamuli.fi
SUMMARY:Prima pars
DESCRIPTION:VOKAALIYHTYE UOMA – PRIMA PARS \nKoe myöhäisrenessanssin moniäänisen kirkkomusiikin loisto ja herkkyys!\nVokaaliyhtye Uoma esittää maaliskuulta siirtyneessä ensikonsertissaan motetteja 1500-luvun lopun keskeisten säveltäjien kynästä. Konsertti alkaa tervehdyksistä Neitsyt Marialle ja etenee katumuspsalmien kautta adventtimusiikin riemukkaaseen pauhuun. Ohjelma luo valoa myös renessanssipolyfonian varhaisvaiheisiin ja viimeisiin vuosiin. \nVokaaliyhtye Uoma on vuosi sitten perustettu\, 1500-luvun kirkkomusiikille omistautunut 12-henkinen kokoonpano\, jonka laulajat ovat hankkineet kannuksensa joissakin pääkaupunkiseudun parhaista kuoroista. Uomaa johtaa renessanssimusiikkiin perehtynyt kuoronjohtaja-säveltäjä Teemu Tommola. \nAllegri – Brumel – Byrd – Ingegneri – Lasso – Palestrina \nMaanantaina 26.10. klo 19\nMikael Agricolan kirkossa (Tehtaankatu 23\, Hki) \nPerjantaina 6.11. klo 19\nPaavalinkirkossa (Sammatintie 5\, Hki) \nLiput: 20 e / 15 e / 10 e\n(peruslippu / eläkeläiset / opiskelijat\, lapset 7-17v.\, varusmiehet\, työttömät) \nKoronavirustilanteen vuoksi äkillisetkin muutokset ovat mahdollisia.\nKonsertissa noudatetaan suositusten mukaisia varotoimia koronaviruksen leviämisen ehkäisemiseksi. Lippuja on myynnissä rajoitettu määrä ja kirkossa noudatetaan turvavälejä. Pyydämme yleisöä käyttämään mahdollisuuksien mukaan kasvomaskeja\, huolehtimaan käsi- ja yskimishygieniasta sekä saapumaan konserttiin ajoissa ruuhkan välttämiseksi. Konsertissa on tarjolla käsihuuhdetta.
URL:https://svamuli.fi/t/prima-pars/
LOCATION:Paavalin kirkko\, Sammatintie 5\, Helsinki\, Helsinki\, Suomi
END:VEVENT
BEGIN:VEVENT
DTSTART;TZID=Europe/Helsinki:20201108T140000
DTEND;TZID=Europe/Helsinki:20201108T150000
DTSTAMP:20260420T184041
CREATED:20201102T123253Z
LAST-MODIFIED:20201102T123253Z
UID:2821-1604844000-1604847600@svamuli.fi
SUMMARY:Ninna nanna
DESCRIPTION:Laulaja-näyttelijä Anna-Maija Oka ja luutisti Olli Hyyrynen tuulettavat luuttulaulun perinnettä. Nine Inch Nails raapii Dowlandin arkkua\, Strozzin Cupido härnää rakastuneen hengiltä – luvassa on pehmeitä yhteentörmäyksiä. Esityksen on ohjannut Juho Eerola. \nSisältyy Hakasalmen huvilan sisäänpääsymaksun hintaan\, ei erillisveloitusta. \nHaluamme tehdä museokäynnistä sinulle mahdollisimman onnistuneen ja turvallisen. Katso kooste syksyn toiminnastamme ja yhteisistä ohjeista\, joita noudatamme itse ja toivomme myös kaikkien vierailijoidemme noudattavan: hakasalmenhuvila.fi
URL:https://svamuli.fi/t/ninna-nanna/
LOCATION:Hakasalmen huvila\, Mannerheimintie 13b\, 00100 Helsinki\, Helsinki\, Suomi
END:VEVENT
BEGIN:VEVENT
DTSTART;TZID=Europe/Helsinki:20201111T160000
DTEND;TZID=Europe/Helsinki:20201111T164000
DTSTAMP:20260420T184041
CREATED:20201110T120554Z
LAST-MODIFIED:20201110T120554Z
UID:2848-1605110400-1605112800@svamuli.fi
SUMMARY:Kaksiäänistä barokkia nokkahuiluilla
DESCRIPTION:TAMKin nokkahuiluopiskelijat Teea Pospiech ja Helena Holm esittävät valikoiman nokkahuiluduettoja ja -sooloja\, joissa kaksiäänisyyden mahdollisuuksia hyödynnetään monin eri tavoin\, unisonosta urkupisteisiin ja kaanoneista kokonaisiin konserttoihin\, säveltäjinä mm. Boismortier ja Telemann. Esityksen kesto on noin 40 min. \nKonsertti on osa vuoden 2020 Galleriaviikkoa. Vapaa pääsy.
URL:https://svamuli.fi/t/kaksiaanista-barokkia-nokkahuiluilla/
LOCATION:Galleria Saskia\, Pirkankatu 6\, 33210 Tampere\, Tampere\, Suomi
END:VEVENT
BEGIN:VEVENT
DTSTART;TZID=Europe/Helsinki:20201113T180000
DTEND;TZID=Europe/Helsinki:20201113T190000
DTSTAMP:20260420T184041
CREATED:20201110T120757Z
LAST-MODIFIED:20201110T120757Z
UID:2850-1605290400-1605294000@svamuli.fi
SUMMARY:Seinäjoen Vanhan musiikin tapahtuma: Lohdun ja toivon psalmeja
DESCRIPTION:Lauluyhtye Vox Silentii avaa Seinäjoen Vanhan musiikin tapahtuman. Konsertissa kuullaan keskiaikaisia psalmisävelmiä.
URL:https://svamuli.fi/t/seinajoen-vanhan-musiikin-tapahtuma-lohdun-ja-toivon-psalmeja/
LOCATION:Lakeuden Risti\, Koulukatu 24\, Seinäjoki\, Seinäjoki\, Suomi
END:VEVENT
BEGIN:VEVENT
DTSTART;TZID=Europe/Helsinki:20201114T180000
DTEND;TZID=Europe/Helsinki:20201114T190000
DTSTAMP:20260420T184041
CREATED:20201110T120833Z
LAST-MODIFIED:20201110T120833Z
UID:2852-1605376800-1605380400@svamuli.fi
SUMMARY:Seinäjoen Vanhan musiikin tapahtuma: "Laulakaa Jumalalle - virsin\, lauluin\, kantelein"
DESCRIPTION:Konsertissa esiintyvät Sanna Vuolteenaho\, laulu ja kantele sekä Eero Palviainen\, luuttu. mm. Monteverdi – Strozzi – Purcell
URL:https://svamuli.fi/t/seinajoen-vanhan-musiikin-tapahtuma-laulakaa-jumalalle-virsin-lauluin-kantelein/
LOCATION:Lakeuden Risti\, Koulukatu 24\, Seinäjoki\, Seinäjoki\, Suomi
END:VEVENT
BEGIN:VEVENT
DTSTART;TZID=Europe/Helsinki:20201115T150000
DTEND;TZID=Europe/Helsinki:20201115T170000
DTSTAMP:20260420T184041
CREATED:20201110T120956Z
LAST-MODIFIED:20201110T120956Z
UID:2854-1605452400-1605459600@svamuli.fi
SUMMARY:Seinäjoen Vanhan musiikin tapahtuma: Meditatiiviset makoilukonsertit
DESCRIPTION:Seinäjoen uudessa kulttuurikeskus Kalevan Navetassa kolmen konsertin sarja\, johon voi osallistua omalla patjalla makoillen. Ohjelmissa kuullaan renessanssimusiikkia\, improvisaatioita kansansävelmistä sekä barokin sonaatteja. \nklo 15.00 Eero Palviainen\, luuttu\nklo 15.45 Piia Kleemola\, viulu ja 15-kielinen kantele\nklo 16.30 Liisa Tamminen\, barokkialttoviulu ja Tea Polso\, cembalo
URL:https://svamuli.fi/t/seinajoen-vanhan-musiikin-tapahtuma-meditatiiviset-makoilukonsertit/
LOCATION:Kalevan Navetta\, Nyykoolinkatu 25\, 60100 Seinäjoki\, Seinäjoki\, Suomi
END:VEVENT
BEGIN:VEVENT
DTSTART;TZID=Europe/Helsinki:20201115T170000
DTEND;TZID=Europe/Helsinki:20201115T180000
DTSTAMP:20260420T184041
CREATED:20200907T132027Z
LAST-MODIFIED:20201102T095944Z
UID:2730-1605459600-1605463200@svamuli.fi
SUMMARY:Salonkimusiikkia klassismin ajan puhallinsoittimilla PERUTTU
DESCRIPTION:KONSERTTI ON PERUTTU \n1800-luvun salonkimusiikkia klassismin ajan puhallinsoittimilla\nVapaa pääsy\, ohjelmamaksu \nVera Plosila\, huilu\nPiia Maunula\, oboe\nEero Lehtimäki\, klarinetti\nHenriikka Teerikangas\, käyrätorvi\nAntti Salovaara\, fagotti \nwww.cafebarock.com \nKonsertin järjestää yhteistyössä: \nCafé Barock/Kulttuuriyhdistys Ensemble Nylandia ry\nTampereen Vanhan Musiikin Ystävät
URL:https://svamuli.fi/t/salonkimusiikkia-klassismin-ajan-puhallinsoittimilla/
LOCATION:Kulttuuritalo Laikku\, Keskustori 4\, 33100 Tampere\, Tampere\, Suomi
END:VEVENT
BEGIN:VEVENT
DTSTART;TZID=Europe/Helsinki:20201115T180000
DTEND;TZID=Europe/Helsinki:20201115T190000
DTSTAMP:20260420T184041
CREATED:20201110T115823Z
LAST-MODIFIED:20201110T115823Z
UID:2835-1605463200-1605466800@svamuli.fi
SUMMARY:FiBO: Valoa marraskuun pimeyteen
DESCRIPTION:Musiikkia barokin mestareilta \nHändel – Buxtehude – Telemann – J. S. Bach \nJuho Punkeri\, tenori\nFiBO Players \nKeväältä peruuntunut konsertti toteutuu nyt osana Lounais-Hämeen Musiikkipäivien ohjelmaa. Konsertissa kuullaan Georg Friedrich Händelin\, Dietrich Buxtehuden\, Georg Philipp Telemannin ja Johann Sebastian Bachin kirkollista musiikkia. \nLiput 20 € / 15 € Lounais-Hämeen Musiikkipäivien ja Lounaismaan Osuuspankin jäsenille: ovimyynti \nLue lisää: https://fibo.fi/konsertit/2020/valoa-marraskuun-pimeyteen/ \nfibo.fi
URL:https://svamuli.fi/t/fibo-valoa-marraskuun-pimeyteen/
LOCATION:Jokioisten kirkko\, Kirkkotie 101\, 31600 Jokioinen\, Jokioinen\, Suomi
END:VEVENT
BEGIN:VEVENT
DTSTART;TZID=Europe/Helsinki:20201117T130000
DTEND;TZID=Europe/Helsinki:20201117T140000
DTSTAMP:20260420T184041
CREATED:20200701T115239Z
LAST-MODIFIED:20200701T115239Z
UID:2672-1605618000-1605621600@svamuli.fi
SUMMARY:Café Barock: Vanhan musiikin uudet toivot
DESCRIPTION:Lounaskonserttisarja Rikhardinkadun kirjastossa jatkuu syksyllä 2020: \nke 21.10.\, ti 17.11.\, ke 18.11. ja ke 16.12. klo 13 \nVAPAA PÄÄSY \nJärjestää yhteistyössä:Café Barock / Kulttuuriyhdistys Ensemble Nylandia\, Rikhardinkadun kirjasto sekä Sibelius-Akatemian vanhan musiikin aineryhmä
URL:https://svamuli.fi/t/cafe-barock-vanhan-musiikin-uudet-toivot-14/
LOCATION:Rikhardinkadun kirjasto\, Rikhardinkatu 3\, 00130 Helsinki\, Helsinki\, Suomi
END:VEVENT
BEGIN:VEVENT
DTSTART;TZID=Europe/Helsinki:20201118T130000
DTEND;TZID=Europe/Helsinki:20201118T140000
DTSTAMP:20260420T184041
CREATED:20200701T115518Z
LAST-MODIFIED:20200701T115518Z
UID:2676-1605704400-1605708000@svamuli.fi
SUMMARY:Café Barock: Vanhan musiikin uudet toivot
DESCRIPTION:Lounaskonserttisarja Rikhardinkadun kirjastossa jatkuu syksyllä 2020: \nke 21.10.\, ti 17.11.\, ke 18.11. ja ke 16.12. klo 13 \nVAPAA PÄÄSY \nJärjestää yhteistyössä:Café Barock / Kulttuuriyhdistys Ensemble NylandiaRikhardinkadun kirjastosekä Sibelius-Akatemian vanhan musiikin aineryhmä & Yrkeshögskolan Novia
URL:https://svamuli.fi/t/cafe-barock-vanhan-musiikin-uudet-toivot-15/
LOCATION:Rikhardinkadun kirjasto\, Rikhardinkatu 3\, 00130 Helsinki\, Helsinki\, Suomi
END:VEVENT
BEGIN:VEVENT
DTSTART;TZID=Europe/Helsinki:20201122T140000
DTEND;TZID=Europe/Helsinki:20201122T151500
DTSTAMP:20260420T184041
CREATED:20201102T123426Z
LAST-MODIFIED:20201102T123426Z
UID:2823-1606053600-1606058100@svamuli.fi
SUMMARY:Die Schöne Müllerin
DESCRIPTION:Tenori Heikki Kulo ja kitaristi Olli Hyyrynen esittävät Franz Schubertin Die schöne Müllerin -laulusarjan. Osia kuuluisasta teoksesta on soitettu kitarasovituksina jo pian sen säveltämisen jälkeen\, ja nykyaikana teoksen esittäminen kokonaan kitaran säestyksellä on tullut vähitellen suositummaksi. Tällä kertaa kuullaan Johann Georg Staufferin tyylistä 1820-luvun periodikitaraa. \nSisältyy museon sisäänpääsymaksun hintaan\, ei erillisveloitusta. Käsiohjelma 10 e. \nhttps://hakasalmenhuvila.fi/tapahtumat/die-schone-mullerin/
URL:https://svamuli.fi/t/die-schone-mullerin/
LOCATION:Hakasalmen huvila\, Mannerheimintie 13b\, 00100 Helsinki\, Helsinki\, Suomi
END:VEVENT
BEGIN:VEVENT
DTSTART;TZID=Europe/Helsinki:20201125T180000
DTEND;TZID=Europe/Helsinki:20201125T191500
DTSTAMP:20260420T184041
CREATED:20201110T120009Z
LAST-MODIFIED:20201110T120009Z
UID:2838-1606327200-1606331700@svamuli.fi
SUMMARY:FiBO: Die Familie Bach – Isä\, poika ja kummisetä (Mäntsälä)
DESCRIPTION:J. S. Bach – C. P. E. Bach – Telemann \nAnton Steck\, viulu ja liidaus\nSuomalainen barokkiorkesteri \nSuomalainen barokkiorkesteri (FiBO) ja viulisti Anton Steck esittävät teoksia isä-Bachilta\, hänen Carl Philipp Emanuel -pojaltaan ja tämän kummisedältä Telemannilta. \nLiput 20/15* €: Mäntsälän KIPA-kirjakauppa\, liveto.io ja ovimyynti (* alennusryhmät) \nLue lisää: https://fibo.fi/konsertit/2020/die-familie-bach/ \nfibo.fi
URL:https://svamuli.fi/t/fibo-die-familie-bach-isa-poika-ja-kummiseta-mantsala/
LOCATION:Mäntsälän kirkko\, Vanha Porvoontie 8\, 04600 Mäntsälä\, Mäntsälä\, Suomi
END:VEVENT
BEGIN:VEVENT
DTSTART;TZID=Europe/Helsinki:20201127T120000
DTEND;TZID=Europe/Helsinki:20201127T130000
DTSTAMP:20260420T184041
CREATED:20201013T134520Z
LAST-MODIFIED:20201013T134520Z
UID:2808-1606478400-1606482000@svamuli.fi
SUMMARY:Café Barock Kulttuurihallissa: Eloisa Consort
DESCRIPTION:Café Barockin lounaskonsertti Helsingin päärautatieaseman Kulttuurihallissa. \nViola da gamba -yhtye Eloisa Consortin konsertissa tunnelmoidaan harvemmin kuullun ranskalaisen consort-ohjelmiston parissa\, jonka lomaan on ujutettu pieniä maistiaisia lähestyvän joulunajan musiikista. Viola da gambojen lämpimästi hyrisevä sointi kutsuu kuulijan hetkeksi rentoutumaan kiireen keskellä ja tuo valonpilkahduksen pimeimpään marraskuuhun. \nOhjelmassa mm. Charpentier – Couperin – Ward \nVapaa pääsy \nKonsertin kesto noin 45min \nEloisa Consort:\nJohanna Kilpijärvi\nMartti Laivuori\nPieta Mattila\nAnna Pulakka \nJärjestää yhteistyössä: \nCafé Barock / Kulttuuriyhdistys Ensemble Nylandia ry\, Kulttuurihalli
URL:https://svamuli.fi/t/cafe-barock-kulttuurihallissa-eloisa-consort/
LOCATION:Helsingin rautatieaseman Kulttuurihalli\, Kaivokatu 1\, 00100 Helsinki\, Helsinki\, Suomi
END:VEVENT
BEGIN:VEVENT
DTSTART;TZID=Europe/Helsinki:20201127T190000
DTEND;TZID=Europe/Helsinki:20201127T201500
DTSTAMP:20260420T184041
CREATED:20201110T120122Z
LAST-MODIFIED:20201110T120130Z
UID:2841-1606503600-1606508100@svamuli.fi
SUMMARY:FiBO: Die Familie Bach – Isä\, poika ja kummisetä (Ritarihuone)
DESCRIPTION:J. S. Bach – C. P. E. Bach – Telemann \nAnton Steck\, viulu ja liidaus\nSuomalainen barokkiorkesteri \nSuomalainen barokkiorkesteri (FiBO) ja viulisti Anton Steck esittävät teoksia isä-Bachilta\, hänen Carl Philipp Emanuel -pojaltaan ja tämän kummisedältä Telemannilta. \nLiput 14\,50/29/37 € (hinta paikan mukaan) käsittelykuluineen + 1 €:n toimitusmaksu tilausta kohti: Ticketmasterin myyntipisteet ja ticketmaster.fi \nLue lisää: https://fibo.fi/konsertit/2020/die-familie-bach/ \nfibo.fi
URL:https://svamuli.fi/t/fibo-die-familie-bach-isa-poika-ja-kummiseta-ritarihuone/
LOCATION:Ritarihuone\, Ritarikatu 1\, Helsinki\, Helsinki\, Suomi
END:VEVENT
BEGIN:VEVENT
DTSTART;TZID=Europe/Helsinki:20201128T103000
DTEND;TZID=Europe/Helsinki:20201128T111500
DTSTAMP:20260420T184041
CREATED:20200701T115657Z
LAST-MODIFIED:20200701T115657Z
UID:2678-1606559400-1606562100@svamuli.fi
SUMMARY:Lauantain klassiset aamusoitot: Eloisa Consort
DESCRIPTION:Eloisa Consort\, viola da gambat: \nAnna Pulakka\nPieta Mattila\nJohanna Kilpijärvi\nMartti Laivuori \nCafé Barockin ja Keravan kirjaston järjestämien Lauantain klassisten aamusoittojen ajatuksena on tarjota mahdollisuus rentoutumiseen ja rauhoittumiseen viikonlopun alkajaisiksi barokin helmien tahtiin. \nTilaisuuksiin on vapaa pääsy. Konserttiin tulijat voivat istua tuolilla\, levätä kirjaston alustalla tai halutessaan ottaa mukaan myös oman jooga-/jumppamattonsa. \nKonserttisarjan järjestävät yhteistyössä: \nKeravan kirjasto- ja kulttuuripalvelut\nCafé Barock / Kulttuuriyhdistys Ensemble Nylandia ry
URL:https://svamuli.fi/t/lauantain-klassiset-aamusoitot-eloisa-consort/
LOCATION:Keravan kaupunginkirjasto\, Paasikivenkatu 12\, 04200 Kerava\, Kerava\, Suomi
END:VEVENT
BEGIN:VEVENT
DTSTART;TZID=Europe/Helsinki:20201129T180000
DTEND;TZID=Europe/Helsinki:20201129T191500
DTSTAMP:20260420T184041
CREATED:20201110T120231Z
LAST-MODIFIED:20201110T120231Z
UID:2844-1606672800-1606677300@svamuli.fi
SUMMARY:FiBO: Die Familie Bach – Isä\, poika ja kummisetä (Järvenpää)
DESCRIPTION:J. S. Bach – C. P. E. Bach – Telemann \nAnton Steck\, viulu ja liidaus\nSuomalainen barokkiorkesteri \nSuomalainen barokkiorkesteri (FiBO) ja viulisti Anton Steck esittävät teoksia isä-Bachilta\, hänen Carl Philipp Emanuel -pojaltaan ja tämän kummisedältä Telemannilta. \nOhjelmat 15 €: ovimyynti \nLue lisää: https://fibo.fi/konsertit/2020/die-familie-bach/ \nfibo.fi
URL:https://svamuli.fi/t/fibo-die-familie-bach-isa-poika-ja-kummiseta-jarvenpaa/
LOCATION:Järvenpään kirkko\, Kirkkotie 4\, 04400 Järvenpää\, Järvenpää\, Suomi
END:VEVENT
END:VCALENDAR