BEGIN:VCALENDAR
VERSION:2.0
PRODID:-//Suomen vanhan musiikin liitto ry - ECPv6.15.17.1//NONSGML v1.0//EN
CALSCALE:GREGORIAN
METHOD:PUBLISH
X-ORIGINAL-URL:https://svamuli.fi
X-WR-CALDESC:Tapahtumat Suomen vanhan musiikin liitto ry
REFRESH-INTERVAL;VALUE=DURATION:PT1H
X-Robots-Tag:noindex
X-PUBLISHED-TTL:PT1H
BEGIN:VTIMEZONE
TZID:Europe/Helsinki
BEGIN:DAYLIGHT
TZOFFSETFROM:+0200
TZOFFSETTO:+0300
TZNAME:EEST
DTSTART:20190331T010000
END:DAYLIGHT
BEGIN:STANDARD
TZOFFSETFROM:+0300
TZOFFSETTO:+0200
TZNAME:EET
DTSTART:20191027T010000
END:STANDARD
BEGIN:DAYLIGHT
TZOFFSETFROM:+0200
TZOFFSETTO:+0300
TZNAME:EEST
DTSTART:20200329T010000
END:DAYLIGHT
BEGIN:STANDARD
TZOFFSETFROM:+0300
TZOFFSETTO:+0200
TZNAME:EET
DTSTART:20201025T010000
END:STANDARD
BEGIN:DAYLIGHT
TZOFFSETFROM:+0200
TZOFFSETTO:+0300
TZNAME:EEST
DTSTART:20210328T010000
END:DAYLIGHT
BEGIN:STANDARD
TZOFFSETFROM:+0300
TZOFFSETTO:+0200
TZNAME:EET
DTSTART:20211031T010000
END:STANDARD
END:VTIMEZONE
BEGIN:VEVENT
DTSTART;TZID=Europe/Helsinki:20200904T200000
DTEND;TZID=Europe/Helsinki:20200904T210000
DTSTAMP:20260420T154617
CREATED:20200624T142835Z
LAST-MODIFIED:20200624T142835Z
UID:2653-1599249600-1599253200@svamuli.fi
SUMMARY:Galantit villit -improvisaatiokonsertti
DESCRIPTION:Ankkabarock-festivaali täyttää 5 vuotta! Festivaalin avauskonsertissa esiintyvät Esa Pietilä (saksofoni ja äänisuunnittelu) ja Assi Karttunen (cembalo ja äänisuunnittelu). \n”Galantit villit-konsertissa saksofonisti\, säveltäjä Esa Pietilä ja cembalisti Assi Karttunen improvisoivat vapaasti ja varhaisemman musiikin pohjalta. Ohjelmassa on mukana myös Pietilän uusi cembalosävellys Fata Morgana\, johon siihenkin sisältyy improvisatorinen osio. Musiikissa on vahva ’oikein soittamisen’ eetos. Erityisen vanha tämä ajatus oikeasta ja väärästä on klassisen musiikin alalla\, mutta myös jazz\, vanha musiikki\, kansanmusiikki ja pop sisältävät omat ’oikeat’ soittotapansa\, esittämiskäytäntönsä ja traditionsa. Yhtä tärkeää\, ellei jopa tärkeämpää on avata korvat ja sydän yllättäville äänenväreille\, rytmeille ja sävelaiheille\, yhdistelmille ja musiikillisille haasteille\, jotka tuovat meidät suorittamisen\, execution ja eräänlaisen täytäntöönpanon maailmasta tämänhetkiseen\, musiikin nyt-hetkeen\, jossa mukana on myös ei-rationaalinen\, musiikillinen esiymmärrys.”\n-Assi Karttunen \nVapaa pääsy\, käsiohjelma ovelta 20/10 euroa.
URL:https://svamuli.fi/t/galantit-villit-improvisaatiokonsertti/
LOCATION:Korson kirkko\, Merikotkantie 4\, 01450 Vantaa\, Vantaa\, Suomi
END:VEVENT
BEGIN:VEVENT
DTSTART;TZID=Europe/Helsinki:20200905T180000
DTEND;TZID=Europe/Helsinki:20200905T193000
DTSTAMP:20260420T154617
CREATED:20200624T142630Z
LAST-MODIFIED:20200726T100144Z
UID:2651-1599328800-1599334200@svamuli.fi
SUMMARY:L'Amante Segreto - Barokin naissäveltäjien aarteita
DESCRIPTION:Ankkabarock-festivaali täyttää 5 vuotta! Lauantain konsertissa esiintyy barokkiyhtye Ombra Sonora: Petra Schauman (laulu)\, Mirva Laine (barokkiviulu)\, Ritva Hautsalo (viola da gamba ja lirone) ja Päivi Vesalainen (cembalo ja urut). \nTähän konserttiin esiintyjät valitsivat kiehtovia\, harvemmin esitettyjä aarteita Barbara Strozzilta\, Anna Bonilta ja Chiara Margarita Cozzolanilta. Naissäveltäjien musiikki on ollut tapetilla viime vuoden aikana. Säveltäjien sukupuolten moninaisuus ei ole toteutunut klassisen musiikin konserttiohjelmissa\, vaan suurin osa esitettävistä sävellyksistä on ollut kautta aikain miesten säveltämiä teoksia. Ankkabarock ottaa tähän kantaa tarjoamalla kokonaisen konsertin naissäveltäjien tekemää musiikkia. \nOmbra Sonora on barokkimusiikin ammattilaisten syksyllä 2015 perustama yhtye. Yhtyeen missiona on tuoda yleisön nautittavaksi renessanssin ja barokin ajan harvemmin esitettyjä sävellyksiä. Yhtye on esiintynyt omien konserttiensa lisäksi vuonna 2016 Rauma Festivossa\, vuonna 2017 Metrolla musiikkiin – konserttisarjassa\, 2018 Porvoon kesäkonserttisarjassa ja 2019 Huopalahden ja Sipoon seurakuntien kesäkonserttisarjoissa. \nVapaa pääsy\, ohjelma ovelta 20/10 euroa.
URL:https://svamuli.fi/t/lamante-secreto-barokin-naissaveltajien-aarteita/
LOCATION:Korson kirkko\, Merikotkantie 4\, 01450 Vantaa\, Vantaa\, Suomi
END:VEVENT
BEGIN:VEVENT
DTSTART;TZID=Europe/Helsinki:20200906T180000
DTEND;TZID=Europe/Helsinki:20200906T190000
DTSTAMP:20260420T154617
CREATED:20200828T102752Z
LAST-MODIFIED:20200828T102752Z
UID:2700-1599415200-1599418800@svamuli.fi
SUMMARY:FiBO: Syysfanfaari
DESCRIPTION:Orkesterisoiton juhlaa \nHändel – Somis – J. S. Bach \nKreeta-Maria Kentala\, viulu ja liidaus\nSuomalainen barokkiorkesteri \nGeorg Friedrich Händelin Vesimusiikki ja Johann Sebastian Bachin orkesterisarjat ovat ikonista musiikkia barokkiorkesterille\, täynnä ilmavaa tanssillisuutta\, puhaltimien kujerrusta ja viehkeitä kuvioita. Bachin orkesterisarjoista kuullaan nyt nro 3 D-duuri\, joka sisältää myös rakastetun Airin. Händelin Vesimusiikki oli jo omana aikanaan hitti\, josta esitettiin erilaisia versioita Lontoon teattereissa ja musiikkisaleissa. Vesimusiikista kuullaan nyt F-duuri-sarja. \nBarokkiviulun löytöretkeilijä Kreeta-Maria Kentala tuo konserttiin lisäksi harvinaisuuden Giovanni Battista Somisilta\, jonka viulusonaatteja hän on myös levyttänyt. Suotta unholaan jäänyt viulusäveltäjä toimi linkkinä ranskalaisen ja italialaisen musiikkikulttuurin välillä. \nLue lisää: https://fibo.fi/konsertit/2020/syysfanfaari/ \nLiput 14\,50/29/37 € + 1 €:n toimitusmaksu tilaus kohti: Ticketmaster \nfibo.fi
URL:https://svamuli.fi/t/fibo-syysfanfaari/
LOCATION:Ritarihuone\, Ritarikatu 1\, Helsinki\, Helsinki\, Suomi
END:VEVENT
BEGIN:VEVENT
DTSTART;TZID=Europe/Helsinki:20200906T180000
DTEND;TZID=Europe/Helsinki:20200906T193000
DTSTAMP:20260420T154617
CREATED:20200624T142428Z
LAST-MODIFIED:20200624T142428Z
UID:2649-1599415200-1599420600@svamuli.fi
SUMMARY:Ankkabarockin 5-vuotisjuhlakonsertti
DESCRIPTION:Ankkabarock-festivaali on 5-vuotias! Juhlan kunniaksi lavalle astelee ammattimuusikoiden kuoro ja orkesteri. Tervetuloa juhlimaan yhdessä. \nKonsertissa kuullaan 1600-luvun pohjoissaksalaisten säveltäjien (Dietrich Buxtehude\, Franz Tunder ja Nicolaus Bruhns) musiikkia barokkiorkesterille ja lauluyhtyeelle. Laulajat ovat Vantaan ja Helsingin kanttoreita ja orkesterina toimii 10-vuotias helsinkiläinen barokkiorkesteri Ensemble Nylandia Matias Häkkisen johdolla. Jo ensimmäisenä Ankkabarock-vuonna Ensemble Nylandia oli festivaalin orkesterina\, ja yhteistyö jatkuu edelleen hedelmällisenä. Vantaan kanttorit laulavat ja soittavat säännöllisesti yhteistyössä keskenään. Vuosittaiset kantaattikonsertit ovat olleet suosittuja. \nEnsemble Nylandia\, johtaa Matias Häkkinen\nTiia Maria Saari\, sopraano\nKatariina Kopsa\, sopraano\nPaula Patosalmi\, altto\nJussi Salonen\, tenori\nTuomas Heikkilä\, basso\nVantaan kanttorien kuoro \nVapaa pääsy\, ohjelma ovelta 20/10 euroa.
URL:https://svamuli.fi/t/ankkabarockin-5-vuotisjuhlakonsertti/
LOCATION:Korson kirkko\, Merikotkantie 4\, 01450 Vantaa\, Vantaa\, Suomi
END:VEVENT
BEGIN:VEVENT
DTSTART;TZID=Europe/Helsinki:20200908T190000
DTEND;TZID=Europe/Helsinki:20200908T200000
DTSTAMP:20260420T154617
CREATED:20200903T204354Z
LAST-MODIFIED:20200903T204354Z
UID:2722-1599591600-1599595200@svamuli.fi
SUMMARY:Barokin säveliä Italiasta ja Saksasta
DESCRIPTION:Oulun vanha musiikki avaa syyskautensa Kemissä Paattionlehdon kappelissa 8. syyskuuta. Barokin sävelhelmiä Italiasta ja Saksasta saapuvat poimimaan muusikkosisarukset Viola ja Virve Räisänen soittiminaan barokkiviulu ja cembalo sekä barokkisellisti Juuli Holma. Konsertin säveltäjänimiä ovat J.S.Bach\, P. Mealli ja A.Corelli. Konsertin järjestävät yhteistyössä Oulun Vanha Musiikki\, Kemin seurakunta ja Lappbarock 2020. Konsertti on osa Taiken tukemaa Soivaa Voimaa -hanketta. \nOulun Vanha Musiikki lähettää noin tunnin mittaisen konsertin suorana Youtube-kanavallaan ja se on katsottavissa siellä myös jälkikäteen. \nKonserttiin on vapaa pääsy. Turvavälien vuoksi kappeliin pääsee yhteensä 50 kuulijaa. \nEsiintyjät ovat Kemissä ja Rovaniemellä asuvia ammattimuusikoita\, joita yhdistävää opiskelu viulisti Kreeta-Maria Kentalan käynnistämässä barokkimusiikin koulutusohjelmassa ammattikorkeakoulu Noviassa. Viulisti Viola Räisänen opiskelee tällä hetkellä barokkimusiikkia Iso-Britannian Royal Welsh College of Music & Dramassa viulisti Rachel Podgerin johdolla Suomen Kulttuurirahaston tukemana. Juuli Holma toimii sellon äänenjohtajana Lapin kamariorkesterissa ja on mm. Soinnillinen-festivaalin taiteellinen johtaja. Virve Räisänen puolestaan toimii pianonsoiton lehtorina Meri-Lapin musiikkiopistossa ja esiintyy cembalistina ja pianistina.
URL:https://svamuli.fi/t/barokin-savelia-italiasta-ja-saksasta/
LOCATION:Paattionlehdon kappeli\, Tornionkatu 81\, 94200 Kemi\, Kemi\, Suomi
END:VEVENT
BEGIN:VEVENT
DTSTART;TZID=Europe/Helsinki:20200912T103000
DTEND;TZID=Europe/Helsinki:20200912T111500
DTSTAMP:20260420T154617
CREATED:20200701T114928Z
LAST-MODIFIED:20200701T114928Z
UID:2668-1599906600-1599909300@svamuli.fi
SUMMARY:Lauantain klassiset aamusoitot: Lassi Kari\, violone
DESCRIPTION:Lassi Kari\, violone \nCafé Barockin ja Keravan kirjaston järjestämien Lauantain klassisten aamusoittojen ajatuksena on tarjota mahdollisuus rentoutumiseen ja rauhoittumiseen viikonlopun alkajaisiksi barokin helmien tahtiin. \nTilaisuuksiin on vapaa pääsy. Konserttiin tulijat voivat istua tuolilla\, levätä kirjaston alustalla tai halutessaan ottaa mukaan myös oman jooga-/jumppamattonsa. \nKonserttisarjan järjestävät yhteistyössä: \nKeravan kirjasto- ja kulttuuripalvelut\nCafé Barock / Kulttuuriyhdistys Ensemble Nylandia ry
URL:https://svamuli.fi/t/lauantain-klassiset-aamusoitot-lassi-kari-violone/
LOCATION:Keravan kaupunginkirjasto\, Paasikivenkatu 12\, 04200 Kerava\, Kerava\, Suomi
END:VEVENT
BEGIN:VEVENT
DTSTART;TZID=Europe/Helsinki:20200915T201500
DTEND;TZID=Europe/Helsinki:20200915T213000
DTSTAMP:20260420T154617
CREATED:20200904T085617Z
LAST-MODIFIED:20200904T085617Z
UID:2725-1600200900-1600205400@svamuli.fi
SUMMARY:Elina Mustonen: Her Infinite Variety
DESCRIPTION:Cafe Barock Tampereen syksyn 2020 aloittaa Elina Mustonen esityksellään Her Infinite Variety. \n”Her Infinite Variety – Shakespearen naiset sanoin ja sävelin” on näyttämöllinen teos\, joka muodostuu Shakespearen näytelmien monologeista sekä aikakauden musiikista. Elina Mustonen toimii lavalla sekä näyttelijänä että muusikkona. Yhtenäisen dramaturgisen kokonaisuuden suunnittelusta vastaavat Mustosen lisäksi kirjallisuuden tutkija Nely Keinänen sekä ohjaaja Johanna Freundlich. \nTunnetilat vaihtelevat rakkaudesta ja himosta vihaan\, kunnianhimosta ja pelosta huumoriin. Sävellysten tarttuvat melodiat ja rytmit peilautuvat Shakespearen tekstien monitasoisuuteen ja naiskohtaloiden kirjoon (infinite variety). \nTeoksen tekstit on valittu näytelmistä Loppiaisaatto\, Henrik V\, Romeo ja Julia\, Talvinen tarina\, Julius Caesar\, Kesäyön uni\, Macbeth\, Kuningas Juhana\, Hamlet\, Othello ja Kuten haluatte. Musiikkia kuullaan mm. seuraavilta säveltäjiltä: William Byrd\, John Dowland\, Orlando Gibbons\, Thomas Morley ja Giovanni Picchi. \nLiput 20/10€.\nhttps://tampereenteatteri.fi/naytelma/cafe-barock/ \nKonsertin järjestävät yhteistyössä: \nTampereen Vanhan musiikin ystävät\nCafé Barock / Kulttuuriyhdistys Ensemble Nylandia ry
URL:https://svamuli.fi/t/elina-mustonen-her-infinite-variety/
LOCATION:Kulttuuriravintola Kivi\, Keskustori 2\, 33100 Tampere\, Tampere\, Suomi
END:VEVENT
BEGIN:VEVENT
DTSTART;TZID=Europe/Helsinki:20200920T180000
DTEND;TZID=Europe/Helsinki:20200920T190000
DTSTAMP:20260420T154617
CREATED:20200828T103212Z
LAST-MODIFIED:20200901T092729Z
UID:2702-1600624800-1600628400@svamuli.fi
SUMMARY:Missa Papae Marcelli - Palestrinaa ja kontrabassoimprovisaatiota
DESCRIPTION:Palestrinaa ja kontrabassoimprovisointia tilassa on konsertti\, jossa Lauluyhtye Versio ja kontrabasisti Ahti Lassila yhdistävät renessanssin vokaalipolyfoniaa ja improvisaatiota. Kokonaisuudessa asettuu vuorovaikutukseen kolme elementtiä: yksi renessanssin vokaalipolyfonian kirkkaimpina pidetyistä helmistä\, Lauluyhtye Version säestyksettömästi laulama\, ajattoman kaunis G.P. da Palestrinan (1525–1594) Missa Papae Marcelli\, Lassilan konsertin alussa\, osien väleissä ja teoksen lopussa soittamat improvisaatiot\, jotka keskustelevat messun kanssa ja kommentoivat sitä\, sekä konserttitila – sen akustiikka ja paikan henki. Kirkkokonserttiin on vapaa pääsy\, ohjelmamaksu 10 €. Ohjelmamyynnin tuotto ohjataan Kirkon ulkomaanavun kautta Beirutiin. Koronatilanteen vuoksi kirkkoon voidaan ottaa enintään 50 henkeä. Lisäksi konsertti striimataan. \nPaavi Marcellus II:lle omistettu kuusiääninen a cappella -messu Missa Papae Marcelli julkaistiin vuonna 1567\, ja siinä voi kuulla niin Palestrinan polyfonisempaa varhaista tyyliä (osissa Kyrie\, Sanctus ja Agnus Dei) kuin yksinkertaisempaa myöhäistä tyyliä (Gloria ja Credo). Palestrina vaikutti aikanaan merkittävästi katolisen kirkkomusiikin kehitykseen\, ja hänen tuotantoaan pidetään yleisesti renessanssipolyfonian huipentumana. \nYhdessä Versio ja Lassila vievät 1500-luvun vokaalipolyfoniaa ja 2010-luvun improvisaatiomaailmaa eri aikoina rakennettuihin kirkkorakennuksiin\, joista jokainen on omanlaisensa akustinen tila ja jolla jokaisella on oma paikan henki. Ihmisäänten moniääninen kudelma\, kontrabasson myötäelävä läsnäolo sekä Kauniaisten kirkon tila ja akustiikka muodostavat yhdessä vaikuttavan kokonaisuuden\, joka tarjoaa mahdollisuuden hiljentymiseen ja ainutlaatuiseen musiikkielämykseen. \nKontrabasisti Ahti Lassila on luonut jo aiemmin uuden konseptin\, jossa hän rakentaa kontrabassoimprovisaatiolla eri tiloihin äänimaisemia otsikolla Kontrabasso – Tila – Liike. Siinä akustinen kontrabasso resonoi tilan\, sen materiaalien ja paikalle tulleiden ihmisten kanssa muodostaen ainutkertaisen kokemuksen.  Yhteistyö laulajien kanssa tuo Lassilan taiteeseen uuden aspektin. \nLauluyhtye Versio on vuonna 2003 perustettu vanhaan musiikkiin keskittyvä kokoonpano\, jonka eri puolilta Suomea tulevat laulajat ovat musiikin ammattilaisia ja pitkälle edenneitä harrastajia. Yhtye konsertoi säännöllisesti eri puolilla Suomea erityisesti konserttisarjoissa ja festivaaleilla. Lauluyhtye Version syksyllä 2016 julkaisemalla Audivi vocem -levyllä soivat mm. Palestrinan\, Tomás Luis de Victorian (1548–1611) ja Giovanni Gabrielin (n. 1553/4–1612) teokset. \nYhtyeessä laulavat Heini Ernamo\, Hannele Huhtinen\, Heikki Isotalo\, Antti Kataja\, Minna Muukkonen\, Anne Palo\, Hilkka Rauhala\, Tuija Sulisalo\, Katri Tasala\, Timo Turtiainen\, Mikko Vehkaperä ja Sakari Ylivuori.
URL:https://svamuli.fi/t/missa-papae-marcelli-palestrinaa-ja-kontrabassoimprovisaatiota/
LOCATION:Kauniaisten kirkko\, Kavallintie 3\, 02700 Kauniainen\, Kauniainen\, Suomi
END:VEVENT
END:VCALENDAR