BEGIN:VCALENDAR
VERSION:2.0
PRODID:-//Suomen vanhan musiikin liitto ry - ECPv6.15.17.1//NONSGML v1.0//EN
CALSCALE:GREGORIAN
METHOD:PUBLISH
X-ORIGINAL-URL:https://svamuli.fi
X-WR-CALDESC:Tapahtumat Suomen vanhan musiikin liitto ry
REFRESH-INTERVAL;VALUE=DURATION:PT1H
X-Robots-Tag:noindex
X-PUBLISHED-TTL:PT1H
BEGIN:VTIMEZONE
TZID:Europe/Helsinki
BEGIN:DAYLIGHT
TZOFFSETFROM:+0200
TZOFFSETTO:+0300
TZNAME:EEST
DTSTART:20190331T010000
END:DAYLIGHT
BEGIN:STANDARD
TZOFFSETFROM:+0300
TZOFFSETTO:+0200
TZNAME:EET
DTSTART:20191027T010000
END:STANDARD
BEGIN:DAYLIGHT
TZOFFSETFROM:+0200
TZOFFSETTO:+0300
TZNAME:EEST
DTSTART:20200329T010000
END:DAYLIGHT
BEGIN:STANDARD
TZOFFSETFROM:+0300
TZOFFSETTO:+0200
TZNAME:EET
DTSTART:20201025T010000
END:STANDARD
BEGIN:DAYLIGHT
TZOFFSETFROM:+0200
TZOFFSETTO:+0300
TZNAME:EEST
DTSTART:20210328T010000
END:DAYLIGHT
BEGIN:STANDARD
TZOFFSETFROM:+0300
TZOFFSETTO:+0200
TZNAME:EET
DTSTART:20211031T010000
END:STANDARD
END:VTIMEZONE
BEGIN:VEVENT
DTSTART;TZID=Europe/Helsinki:20200712T170000
DTEND;TZID=Europe/Helsinki:20200712T180000
DTSTAMP:20260420T125321
CREATED:20200701T114038Z
LAST-MODIFIED:20200701T114038Z
UID:2657-1594573200-1594576800@svamuli.fi
SUMMARY:Café Barock Savonlinnan Kulttuurikellarissa
DESCRIPTION:Katri Susitaival\, viola da gamba\nMikko Ikäheimo\, luuttu \nOhjelmassa mm. Marin Maraisin ja John Dowlandin musiikkia gamballe ja luutulle. \nLiput 10 €\nEnnakkovaraukset katri.susitaival@gmail.com \nJärjestää Café Barock / Kulttuuriyhdistys Ensemble Nylandia ry ja BarokkiKuopio-festivaali
URL:https://svamuli.fi/t/cafe-barock-savonlinnan-kulttuurikellarissa/
LOCATION:Savonlinnan Kulttuurikellari\, Olavinkatu 34\, 57130 Savonlinna\, Savonlinna\, Finland
END:VEVENT
BEGIN:VEVENT
DTSTART;TZID=Europe/Helsinki:20200715T140000
DTEND;TZID=Europe/Helsinki:20200715T150000
DTSTAMP:20260420T125321
CREATED:20200701T114135Z
LAST-MODIFIED:20200701T114135Z
UID:2659-1594821600-1594825200@svamuli.fi
SUMMARY:BarokkiKuopio: Café Barock VB-Valokuvakeskuksessa
DESCRIPTION:Katri Susitaival\, viola da gamba\nMikko Ikäheimo\, luuttu \nOhjelmassa mm. Marin Maraisin ja John Dowlandin musiikkia gamballe ja luutulle. \nJärjestää Café Barock / Ensemble Nylandia ja BarokkiKuopio-festivaali
URL:https://svamuli.fi/t/barokkikuopio-cafe-barock-vb-valokuvakeskuksessa/
LOCATION:VB-valokuvakeskus\, Kuninkaankatu 14-16\, 70100 Kuopio\, Kuopio\, Suomi
END:VEVENT
BEGIN:VEVENT
DTSTART;TZID=Europe/Helsinki:20200720T180000
DTEND;TZID=Europe/Helsinki:20200720T190000
DTSTAMP:20260420T125321
CREATED:20200701T114331Z
LAST-MODIFIED:20200701T114331Z
UID:2661-1595268000-1595271600@svamuli.fi
SUMMARY:BarokkiKuopio: Barokkitanssien pyörteissä
DESCRIPTION:Keveyttä kesäiltaan barokin ajan tansseilla! Mm. Couperin – Bach – Marin Marais. \nRaymond Cox\, barokkiviulu\nLaura Bucht\, barokkisello\nSanni Antikainen\, cembalo\nMikko Ikäheimo\, barokkikitara & arkkiluuttu \nVapaa pääsy. \nKoronaviruspandemian takia tehtyjen rajoitusten vuoksi konsertin yleisömäärä rajataan 50 henkeen. Ennakkovaraukset osoitteesta bkuopio@gmail.com. \nJärjestää BarokkiKuopio & Café Barock / Kulttuuriyhdistys Ensemble Nylandia ry
URL:https://svamuli.fi/t/barokkikuopio-barokkitanssien-pyorteissa/
LOCATION:Juankosken Ylösnousemuksen kirkko\, 73500 Juankoski\, Kuopio\, Kuopio\, Suomi
END:VEVENT
BEGIN:VEVENT
DTSTART;TZID=Europe/Helsinki:20200720T190000
DTEND;TZID=Europe/Helsinki:20200720T194500
DTSTAMP:20260420T125321
CREATED:20200701T112813Z
LAST-MODIFIED:20200701T112813Z
UID:2655-1595271600-1595274300@svamuli.fi
SUMMARY:Singe Seele! - barokkimusiikkia kesäiltaan
DESCRIPTION:Inka Kinnunen\, sopraano\nEnsemble Nylandia\, joht. Matias Häkkinen\, cembalo \nEnsemble Nylandia:\nSini Vahervuo\, nokkahuilu / traverso\nKaisa Ruotsalainen\, barokkiviulu\nTatu Ahola\, barokkisello\nJarmo Julkunen\, luuttu\nMatias Häkkinen\, cembalo \nBach – Händel – Telemann \nHändel sävelsi Neun deutsche Arien -kokoelmansa Barthold Heinrich Brocken runoihin\, joissa luonnon kukkaan puhkeaminen on merkki Jumalan armosta. Saksalaisessa kirkossa kuullaan maanantaina 20.7. virkistävä konserttiohjelma monipuolisella instrumentaatiolla kolmen suurimman saksalaisen barokin ajan säveltäjän teoksista. \nVapaa pääsy\, ohjelmamaksu. \nKoronaviruspandemian takia tehtyjen rajoitusten vuoksi konsertin yleisömäärä rajataan 50 henkeen. \nYhteistyössä: Ensemble Nylandia ja BarokkiKuopio-festivaali
URL:https://svamuli.fi/t/singe-seele-barokkimusiikkia-kesailtaan/
LOCATION:Saksalainen kirkko\, Unioninkatu 1\, 00130 Helsinki\, Helsinki\, Suomi
END:VEVENT
END:VCALENDAR