BEGIN:VCALENDAR
VERSION:2.0
PRODID:-//Suomen vanhan musiikin liitto ry - ECPv6.15.17.1//NONSGML v1.0//EN
CALSCALE:GREGORIAN
METHOD:PUBLISH
X-WR-CALNAME:Suomen vanhan musiikin liitto ry
X-ORIGINAL-URL:https://svamuli.fi
X-WR-CALDESC:Tapahtumat Suomen vanhan musiikin liitto ry
REFRESH-INTERVAL;VALUE=DURATION:PT1H
X-Robots-Tag:noindex
X-PUBLISHED-TTL:PT1H
BEGIN:VTIMEZONE
TZID:Europe/Helsinki
BEGIN:DAYLIGHT
TZOFFSETFROM:+0200
TZOFFSETTO:+0300
TZNAME:EEST
DTSTART:20190331T010000
END:DAYLIGHT
BEGIN:STANDARD
TZOFFSETFROM:+0300
TZOFFSETTO:+0200
TZNAME:EET
DTSTART:20191027T010000
END:STANDARD
BEGIN:DAYLIGHT
TZOFFSETFROM:+0200
TZOFFSETTO:+0300
TZNAME:EEST
DTSTART:20200329T010000
END:DAYLIGHT
BEGIN:STANDARD
TZOFFSETFROM:+0300
TZOFFSETTO:+0200
TZNAME:EET
DTSTART:20201025T010000
END:STANDARD
BEGIN:DAYLIGHT
TZOFFSETFROM:+0200
TZOFFSETTO:+0300
TZNAME:EEST
DTSTART:20210328T010000
END:DAYLIGHT
BEGIN:STANDARD
TZOFFSETFROM:+0300
TZOFFSETTO:+0200
TZNAME:EET
DTSTART:20211031T010000
END:STANDARD
END:VTIMEZONE
BEGIN:VEVENT
DTSTART;TZID=Europe/Helsinki:20200301T160000
DTEND;TZID=Europe/Helsinki:20200301T173000
DTSTAMP:20260422T170447
CREATED:20200212T203144Z
LAST-MODIFIED:20200212T203144Z
UID:2549-1583078400-1583083800@svamuli.fi
SUMMARY:Sonaatteja nokkahuilulla ja cembalolla
DESCRIPTION:Nokkahuilu on muutakin kuin koulusoitin ja cembalolla voi soittaa muutakin kuin Bachia! Vanhan musiikin erityisosaajien\, nokkahuilisti Eero Saunamäen ja cembalisti Päivi Vesalaisen kiehtovassa konsertissa kulttuuritalo Laikun Musiikkisalissa kuullaan musiikkia neljältä eri vuosisadalta lähtien 1600-luvun Italiasta päätyen 2020-luvun Tampereelle – konsertissa kuullaan kantaesityksenä tamperelaisen säveltäjän ja muusikon Tuomas Turriagon uunituore sonaatti nokkahuilulle ja cembalolle. \nNokkahuilun ja cembalon harvinaislaatuinen yhdistelmä sykähdyttää monipuolisuudellaan. Esiintyjät soittavat konsertissa kaunisäänisiä\, käsityönä tehtyjä soittimia. \nLiput 10 euroa ovelta \neerosaunamaki.fi
URL:https://svamuli.fi/t/sonaatteja-nokkahuilulla-ja-cembalolla/
LOCATION:Kulttuuritalo Laikku\, Keskustori 4\, 33100 Tampere\, Tampere\, Suomi
END:VEVENT
BEGIN:VEVENT
DTSTART;TZID=Europe/Helsinki:20200308T150000
DTEND;TZID=Europe/Helsinki:20200308T160000
DTSTAMP:20260422T170447
CREATED:20200226T130049Z
LAST-MODIFIED:20200227T082231Z
UID:2587-1583679600-1583683200@svamuli.fi
SUMMARY:Hortus Amoris - Keskiajan lauluja rakkaudesta
DESCRIPTION:Keskiajan lauluja rakkaudesta Kansainvälisenä Naistenpäivänä. \nMeren Sisaret & Konsort Karhea: laulu\, luuttu\, ud\, kantele\, jouhikko\, kampiliira\, nokkahuilu\, trumpetti ja perkussiot. \nVon der Vogelweide\, de la Halle\, de Lescurel\, Machaut\, Dufay\, Attaignant etc. \nVapaa pääsy – ohjelma 5-15€
URL:https://svamuli.fi/t/hortus-amoris/
LOCATION:Suomenlinnan kirkko\, Suomenlinna C 43\, Helsinki\, Helsinki\, Suomi
END:VEVENT
BEGIN:VEVENT
DTSTART;TZID=Europe/Helsinki:20200318T130000
DTEND;TZID=Europe/Helsinki:20200318T140000
DTSTAMP:20260422T170447
CREATED:20200226T124136Z
LAST-MODIFIED:20200226T124136Z
UID:2571-1584536400-1584540000@svamuli.fi
SUMMARY:Vanhan musiikin uudet toivot: Early Music Day
DESCRIPTION:Vanhan musiikin uudet toivot -lounaskonserttisarja Rikhardinkadun kirjaston Kirjatornissa jatkuu keväällä 2020 keskiviikkoisin klo 13 neljällä konsertilla 19.2.\, 18.3.\, 15.4. ja 20.5. Konserteissa esiintyy Sibelius-Akatemian vanhan musiikin aineryhmän opiskelijoita. \nVapaa pääsy. Istumapaikkoja n. 30 hengelle. \nEsiintyjät 18.3.: \nIlkka Eronen\, traverso\nAnni Ranta\, traverso\nKristiina Talen\, alttoviulu\nAnna Pulakka\, sello \n#EarlyMusicDay2020 \nJärjestää Café Barock/Kulttuuriyhdistys Ensemble Nylandia ry ja Rikhardinkadun kirjasto yhteistyössä Taideyliopiston Sibelius-Akatemian vanhan musiikin aineryhmän kanssa
URL:https://svamuli.fi/t/vanhan-musiikin-uudet-toivot-early-music-day/
LOCATION:Rikhardinkadun kirjasto\, Rikhardinkatu 3\, 00130 Helsinki\, Helsinki\, Suomi
END:VEVENT
BEGIN:VEVENT
DTSTART;TZID=Europe/Helsinki:20200320T180000
DTEND;TZID=Europe/Helsinki:20200320T184500
DTSTAMP:20260422T170447
CREATED:20200226T124940Z
LAST-MODIFIED:20200226T124940Z
UID:2581-1584727200-1584729900@svamuli.fi
SUMMARY:Dolcissimi Dump - luuttumusiikkia Roomasta ja Lontoosta
DESCRIPTION:Renessanssin luuttumusiikkia säveltäjiltä Francesco da Milano\, Jean-Paul Paladin\, John Dowland\, William Byrd ja Anthony Holborne. \nKari Vaattovaara\, luuttu \nOhjelma 10e. \nLisätietoja: Kanttori Mikko Helenius p. 0405529175
URL:https://svamuli.fi/t/dolcissimi-dump-luuttumusiikkia-roomasta-ja-lontoosta/
LOCATION:Käpylän kirkko\, Metsolantie 14\, Helsinki\, Helsinki\, Suomi
END:VEVENT
BEGIN:VEVENT
DTSTART;TZID=Europe/Helsinki:20200321T103000
DTEND;TZID=Europe/Helsinki:20200321T120000
DTSTAMP:20260422T170447
CREATED:20200226T124357Z
LAST-MODIFIED:20200226T124357Z
UID:2573-1584786600-1584792000@svamuli.fi
SUMMARY:Vuoden vanhan musiikin teko 2019 -palkinnonjako
DESCRIPTION:Lauantaina 21.3. Keravan kaupunginkirjaston ja Café Barockin Meditativiista barokkimusiikkia -konsertissa esiintyvät Hanna Haapamäki (nokkahuilu ja traverso) ja Niklas Mellberg (teorbi ja barokkikitara). Säveltäjäniminä Bach\, Händel\, Kapsberger\, Purcell ja de Visée. \n21.3. on myös Johann sebastian Bachin syntymäpäivä ja sen kunniaksi vietetään kansainvälistä Eurooppalaisen vanhan musiikin päivää. Suomen vanhan musiikin liitto (Svamuli) jakaa vanhan musiikin omana juhlapäivänä tunnustuspalkinnon merkittävästä toiminnasta vanhan musiikin hyväksi. Tänä vuonna valinnan tunnustuspalkinnon saajaksi tekee Helsingin yliopiston Euroopan historian professori Laura Kolbe\, joka julkistaa valintansa konsertin aluksi klo 10.30. Juonnettu ja vapaamuotoinen barokkikonsertti alkaa heti lyhyen palkintojenjaon jälkeen ja kestää noin 45 minuuttia. \nSuomen vanhan musiikin liitto ry:n vuosikokous alkaa Keravan kirjastolla klo 12.00\, ja kokouksessa on mahdollisuus liittyä yhdistyksen jäseneksi. \n*** \nKeravan kirjasto- ja kulttuuripalvelut sekä Café Barock tarjoavat kevyttä\, helposti lähestyttävää ja korkeatasoista barokkimusisointia Keravan kirjaston Pentinkulma-salissa lauantai-aamuisin klo 10.30. keväällä 2020: \n15.2. Sini Vahervuo\, huilut & Jukka Rautasalo\, viola da gamba \n21.3. Hanna Haapamäki\, traverso ja nokkahuilu & Niklas Mellberg\, teorbi ja barokkikitara \n25.4. Lassi Kari\, violone \nTule hiljentymään ja rauhoittamaan mielesi viikonlopun alkajaisiksi barokin ajan helmien tahtiin. Konsertit ovat juonnettuja ja vapaamuotoisia. Kaikkiin tilaisuuksiin on vapaa pääsy. \nJärjestää yhteistyössä Keravan kaupunginkirjasto ja Kulttuuriyhdistys Ensemble Nylandia ry\, ja Suomen vanhan musiikin liitto Svamuli ry
URL:https://svamuli.fi/t/vuoden-vanhan-musiikin-teko-2019-palkinnonjako/
LOCATION:Keravan kaupunginkirjasto\, Paasikivenkatu 12\, 04200 Kerava\, Kerava\, Suomi
END:VEVENT
BEGIN:VEVENT
DTSTART;TZID=Europe/Helsinki:20200321T160000
DTEND;TZID=Europe/Helsinki:20200321T170000
DTSTAMP:20260422T170447
CREATED:20200225T091643Z
LAST-MODIFIED:20200313T085055Z
UID:2563-1584806400-1584810000@svamuli.fi
SUMMARY:Lepohetki-konsertti: Italian terveiset PERUTTU
DESCRIPTION:KONSERTTI PERUTTU \nklo 16.00–17.00 ja 17.30–18.30 \nLepohetki-konsertti:\nItalian terveiset – Renessanssista barokkiin luutun seurassa\nEero Palviainen\, luuttu \nSuuren suosion saaneet BRQ Vantaa Festivalin järjestämät Lepohetki-konsertit saavat jatkoa. Luutun tunteita ilmaiseva lumovoima herättää italialaisten renessanssin ja barokin ajan säveltäjien soinnut eloon. \nEero Palviainen\, vanhan musiikin pioneeri ja luuttuvirtuoosi\, on jo vuosikymmenien ajan soittanut enimmäkseen kansainvälisillä areenoilla. Nyt häntä on ainutlaatuinen mahdollisuus kuulla kotikulmilla intiimissä\, tunnelmallisessa Lepohetki-konseptilla toteutetussa konsertissa. \nLepohetki-konsertissa yleisö nauttii musiikista joogapatjoilla leväten. Voit lainata joogamaton paikan päältä tai ottaa oman mukaan. Vapaa pääsy\, ohjelma 10\,-.
URL:https://svamuli.fi/t/lepohetki-konsertti-italian-terveiset/
LOCATION:Galleria K\, Asematie 7\, Vantaa\, Vantaa\, Suomi
END:VEVENT
BEGIN:VEVENT
DTSTART;TZID=Europe/Helsinki:20200321T160000
DTEND;TZID=Europe/Helsinki:20200321T170000
DTSTAMP:20260422T170447
CREATED:20200225T191153Z
LAST-MODIFIED:20200225T191153Z
UID:2568-1584806400-1584810000@svamuli.fi
SUMMARY:Vanhan musiikin päivän konsertti
DESCRIPTION:Pakilan\, Espoon ja Vantaan musiikkiopistojen cembalo- ja nokkahuiluoppilaat juhlistavat konsertillaan kansainvälistä Vanhan musiikin päivää.
URL:https://svamuli.fi/t/vanhan-musiikin-paivan-konsertti/
LOCATION:Hakunilan kirkko\, Hakunilantie 48\, 01200 Vantaa\, Vantaa\, Suomi
END:VEVENT
BEGIN:VEVENT
DTSTART;TZID=Europe/Helsinki:20200321T190000
DTEND;TZID=Europe/Helsinki:20200321T210000
DTSTAMP:20260422T170447
CREATED:20200226T125752Z
LAST-MODIFIED:20200226T125752Z
UID:2585-1584817200-1584824400@svamuli.fi
SUMMARY:God Save Britannia – Early Music Day Concert of Finland
DESCRIPTION:(God Save) Britannia – Euroopan vanhan musiikin päivän Suomen-konsertti \nMusiikkia Britanniasta renessanssista myöhäisromantiikkaan. Konsertti juhlistaa EU:n jättävän Britannian musiikkihistorian suuruutta ja perintöä. \nMusic of British composers from the Renaissance until the late Romantic period\, to remember and to honour the rich and varied musical heritage of the United Kingdom. \nSäveltäjät / Music by:\nThomas Tallis\, William Byrd\, Maurice Greene\, Edward Elgar\, Robert Pearsall\, William Cornysh et al. \nLiput lippu.fi ja tuntia ennen ovelta\nTickets lippu.fi and at the venue one hour prior to the concert\n25 / 20 / 15 € (cash\, Mobilepay\, card) \nLumen Valo Vocal Ensemble \nAnna Villberg & Titta Lampela – soprano\nHanna Graeffe & Riikka Noreila – alto\nAaro Haapaniemi & Arttu Hartikainen – tenor\nValter Maasalo – baritone\nJuha Suomalainen – bass\nsekä / with: Anna Oramo – urut
URL:https://svamuli.fi/t/god-save-britannia-early-music-day-concert-of-finland/
LOCATION:Saksalainen kirkko\, Unioninkatu 1\, 00130 Helsinki\, Helsinki\, Suomi
END:VEVENT
BEGIN:VEVENT
DTSTART;TZID=Europe/Helsinki:20200322T130000
DTEND;TZID=Europe/Helsinki:20200322T134500
DTSTAMP:20260422T170447
CREATED:20200226T125104Z
LAST-MODIFIED:20200226T125104Z
UID:2583-1584882000-1584884700@svamuli.fi
SUMMARY:Vanhan musiikin lastentanssiaiset Turun linnassa
DESCRIPTION:Lasten musiikkijuhliin sisältyvä tanssiaiskonsertti\, jossa Turun vanha musiikki ry:n muusikoista koottu Herttuan Musikantit vie yleisön tanssin pyörteisiin vanhojen sävelaarteiden kuljettamana. Tanssiaisasu päälle ja mukaan ilonpitoon Aurinkokuninkaan tyyliin! \nLiput: 15/10€. 0-3v 0€.\nPerhelippu (2 aikuista & 2 lasta / 1 aikuinen & 3 lasta) 43€. \nEnnakkovaraukset: info@turunvanhamusiikki.fi
URL:https://svamuli.fi/t/vanhan-musiikin-lastentanssiaiset-turun-linnassa/
LOCATION:Turun linnan Kuninkaansali\, Linnankatu 80\, 20100 Turku\, Turku\, Suomi
END:VEVENT
BEGIN:VEVENT
DTSTART;TZID=Europe/Helsinki:20200326T200000
DTEND;TZID=Europe/Helsinki:20200326T213000
DTSTAMP:20260422T170447
CREATED:20200311T065129Z
LAST-MODIFIED:20200311T065129Z
UID:2595-1585252800-1585258200@svamuli.fi
SUMMARY:Minä olin yö - Jacques Brelin ja barokin lauluja\, levynjulkistamiskonsertti
DESCRIPTION:Janne Marja-ahon ja Barokkiyhtye Cornucopian levy ”Minä olin yö – Jacques Brelin ja barokin lauluja” on vihdoin ilmestynyt!\nLevyn julkaisukonsertissa Länsi-Helsingin musiikkiopiston tunnelmallisessa salissa yhtyettä jututtaa Risto Nordell. Äänitekniikasta konsertissa vastaa levyn huikea äänittäjä-tuottaja Esko Grundström. \nLiput ovelta 10\,-/5\,- käteisellä ja kortilla\nLevyjä myytävänä\, 20e/kpl\nTarjous: Levy+lippu 25e\, levyn jo ostaneille sisäänpääsy 5e \nJanne Marja-aho\, laulu\nPekka Silén\, nokkahuilu\nLouna Hosia\, viola da gamba\nMarianna Henriksson\, cembalo\nSolmund Nystabakk\, teorbi \nUudella cd:llä kuullaan raju ja lumoava yhdistelmä ranskalaista chansonia ja barokkia. Jacques Brelin laulut yhtye on sovittanut barokkisoittimille\, ja barokin laulujen uusia tulkintoja leimaavat niiden yhteiset teemat chansonien kanssa: rakkaus ja sen menetys\, kuolema\, seksi.
URL:https://svamuli.fi/t/mina-olin-yo-jacques-brelin-ja-barokin-lauluja-levynjulkistamiskonsertti/
LOCATION:Länsi-Helsingin musiikkiopisto\, Nuottapolku 11\, Helsinki\, Helsinki\, Suomi
END:VEVENT
BEGIN:VEVENT
DTSTART;TZID=Europe/Helsinki:20200328T190000
DTEND;TZID=Europe/Helsinki:20200328T203000
DTSTAMP:20260422T170447
CREATED:20200306T074948Z
LAST-MODIFIED:20200306T074948Z
UID:2591-1585422000-1585427400@svamuli.fi
SUMMARY:Prima Pars - ensikonsertti
DESCRIPTION:VOKAALIYHTYE UOMA \nPRIMA PARS \nKoe myöhäisrenessanssin moniäänisen kirkkomusiikin loisto ja herkkyys! \nVokaaliyhtye Uoma esittää ensikonsertissaan motetteja 1500-luvun lopun keskeisten säveltäjien kynästä. Konsertti alkaa tervehdyksistä Neitsyt Marialle ja etenee katumuspsalmien kautta adventtimusiikin riemukkaaseen pauhuun. Ohjelma luo valoa myös renessanssipolyfonian varhaisvaiheisiin ja viimeisiin vuosiin. \nVokaaliyhtye Uoma on upouusi\, 1500-luvun kirkkomusiikille omistautunut 12-henkinen kokoonpano\, jonka laulajat ovat hankkineet kannuksensa joissakin pääkaupunkiseudun parhaista kuoroista. Uomaa johtaa renessanssimusiikkiin perehtynyt kuoronjohtaja-säveltäjä Teemu Tommola. \nAllegri – Brumel – Byrd – Ingegneri – Lasso – Palestrina \nLiput käteisellä ovelta: 20 e / 15 e / 10 e\n(peruslippu / eläkeläiset / opiskelijat\, lapset 7-17v\, varusmiehet\, työttömät)
URL:https://svamuli.fi/t/prima-pars-ensikonsertti/
LOCATION:Paavalin kirkko\, Sammatintie 5\, Helsinki\, Helsinki\, Suomi
END:VEVENT
END:VCALENDAR