BEGIN:VCALENDAR
VERSION:2.0
PRODID:-//Suomen vanhan musiikin liitto ry - ECPv6.15.17.1//NONSGML v1.0//EN
CALSCALE:GREGORIAN
METHOD:PUBLISH
X-WR-CALNAME:Suomen vanhan musiikin liitto ry
X-ORIGINAL-URL:https://svamuli.fi
X-WR-CALDESC:Tapahtumat Suomen vanhan musiikin liitto ry
REFRESH-INTERVAL;VALUE=DURATION:PT1H
X-Robots-Tag:noindex
X-PUBLISHED-TTL:PT1H
BEGIN:VTIMEZONE
TZID:Europe/Helsinki
BEGIN:DAYLIGHT
TZOFFSETFROM:+0200
TZOFFSETTO:+0300
TZNAME:EEST
DTSTART:20190331T010000
END:DAYLIGHT
BEGIN:STANDARD
TZOFFSETFROM:+0300
TZOFFSETTO:+0200
TZNAME:EET
DTSTART:20191027T010000
END:STANDARD
BEGIN:DAYLIGHT
TZOFFSETFROM:+0200
TZOFFSETTO:+0300
TZNAME:EEST
DTSTART:20200329T010000
END:DAYLIGHT
BEGIN:STANDARD
TZOFFSETFROM:+0300
TZOFFSETTO:+0200
TZNAME:EET
DTSTART:20201025T010000
END:STANDARD
BEGIN:DAYLIGHT
TZOFFSETFROM:+0200
TZOFFSETTO:+0300
TZNAME:EEST
DTSTART:20210328T010000
END:DAYLIGHT
BEGIN:STANDARD
TZOFFSETFROM:+0300
TZOFFSETTO:+0200
TZNAME:EET
DTSTART:20211031T010000
END:STANDARD
END:VTIMEZONE
BEGIN:VEVENT
DTSTART;TZID=Europe/Helsinki:20200205T130000
DTEND;TZID=Europe/Helsinki:20200205T140000
DTSTAMP:20260422T184235
CREATED:20200116T084630Z
LAST-MODIFIED:20200116T084630Z
UID:2525-1580907600-1580911200@svamuli.fi
SUMMARY:Oulun Vanha Musiikki: Orfeus Britanniassa
DESCRIPTION:Anna-Maaria Oramo\, cembalo\, clavisimbalum (keskiaikainen cembalo) ja laulu\nByrd – Händel – Tomkins \nKeskipäivän musiikkihetkessä monitaitoinen Anna-Maaria Oramo laulaa keskiajan musiikkia itseään clavisimbalumilla säestäen ja esiintyy myös cembalistina. Britteinsaarilla syntynyt musiikki luo tunnelmaa\, joka vaihtelee Byrdin täyteläisistä soinneista Händelin draamaan\, tuntemattomiksi jääneiden tekijöiden lauluista omintakeiseen Tomkinsiin. \nKäsiohjelma 10 e
URL:https://svamuli.fi/t/oulun-vanha-musiikki-orfeus-britanniassa/
LOCATION:Oulun Tuomiokirkko\, Kirkkokatu 3 A\, Oulu\, 90100\, Suomi
END:VEVENT
BEGIN:VEVENT
DTSTART;TZID=Europe/Helsinki:20200205T190000
DTEND;TZID=Europe/Helsinki:20200205T210000
DTSTAMP:20260422T184235
CREATED:20200116T084832Z
LAST-MODIFIED:20200116T084832Z
UID:2527-1580929200-1580936400@svamuli.fi
SUMMARY:Oulun Vanha Musiikki: Stella splendens
DESCRIPTION:Stella splendens – Musiikki ja tähtitiede \nVanhan musiikin yhtye Sonus Rosa\nAnna Maaria Oramo\, cembalo\, clavisimbalum\nSebastien Comerón ja Pertti Rautiainen\, tähtitiede \nKeskiaikaisen musiikin ja tähtitieteen yhdistävä konsertti vie yleisön matkalle universumin ääriin. \nLiput: 20/15/5 e Oulu10-palvelupisteet ja Valveen lippumyymälä (ei käsittelykuluja) sekä Ticketmaster (+käsittelykulut 1–2\,50 e)
URL:https://svamuli.fi/t/oulun-vanha-musiikki-stella-splendens/
LOCATION:Valvesali\, Hallituskatu 7\, Oulu\, Oulu\, Suomi
END:VEVENT
BEGIN:VEVENT
DTSTART;TZID=Europe/Helsinki:20200205T190000
DTEND;TZID=Europe/Helsinki:20200205T210000
DTSTAMP:20260422T184235
CREATED:20200130T104859Z
LAST-MODIFIED:20200130T105416Z
UID:2539-1580929200-1580936400@svamuli.fi
SUMMARY:Ristiveto: Rödberg Leipzigissa
DESCRIPTION:Ristiveto-festivaalin ensimmäinen konsertti keskittyy Leipzigin musiikkielämään ja on samalla Rödberg-trion levynjulkaisukonsertti! Antti Tikkasen\, Markus Hohdin ja Joonas Ahosen muodostama trio on ollut pystyssä vuodesta 2010\, jolloin se debytoi Vantaan musiikkijuhlilla ja on sen jälkeen esiintynyt aina kun sen jäsenten aikataulut sallivat. Trio keskittyy nimenomaan suolikielin ja fortepianoin esitettävään ohjelmistoon. \nFelix ja Fanny Mendelssohn olivat molemmat lahjakkaita säveltäjiä\, ja arvostivat suuresti toisiaan. Ajalle tyypillisesti Fannyn säveltäjänuraa ei katsottu yhtä hyvällä kuin veljensä\, ja Fannyn sävellyksiä julkaistiin Felixin nimissä. Felix asettui 26-vuotiaana Leipzigiin ja hänestä tuli suuri hahmo paikallisessa musikkielämässä. Hän johti Gewandhaus-orkesteria sekä perusti konservatorion\, jonne keräsi samanhenkisiä kollegoita opettajiksi. \nFestivaalin teemasäveltäjien ympärillä pyöri tärkeitä viulistihahmoja: Ferdinand David esitti Felixin viulukonserttoa\, Joseph Joachim oli hieman yllättäen Lisztin orkesterin konserttimestari Weimarissa\, vaikka oli Schumannien ja Mendelssohnien läheinen ystävä. Clara Schumann oli kaupungin pianistisupertähti\, joka valitsi Mendelssohnin leirin ja vihasi intohimoisesti Lisztiä! \nOhjelma: \nFanny Mendelssohn: Pianotrio d-molli\, op. 11\nFerdinand David: Romanssi\, op. 28 nro 4\nClara Schumann: Romanssi\, op. 22 nro 3\nJoseph Joachim: Romanssi\, op. 2 nro 1\nFelix Mendelssohn: Pianotrio c-molli\, op. 66 \nAntti Tikkanen\, viulu\nMarkus Hohti\, sello\nJoonas Ahonen\, piano \nEriikka Maalismaa\, viulu\nEmil Holmström\, piano\nLotta Emanuelsson\, teosten esittely \nLiput 15€ / 10€ (opiskelijat ja alle 18-v)\nhttps://holvi.com/shop/shonemusic/section/ristiveto/
URL:https://svamuli.fi/t/ristiveto-rodberg-leipzigissa/
LOCATION:Balderin sali\, Aleksanterinkatu 12\, Helsinki\, Helsinki\, Suomi
END:VEVENT
BEGIN:VEVENT
DTSTART;TZID=Europe/Helsinki:20200207T150000
DTEND;TZID=Europe/Helsinki:20200209T160000
DTSTAMP:20260422T184235
CREATED:20200114T162906Z
LAST-MODIFIED:20200114T162906Z
UID:2523-1581087600-1581264000@svamuli.fi
SUMMARY:29. Haapaveden Wanhan Musiikin tapahtuma FolkBarock
DESCRIPTION:Vanhan- ja kansanmusiikin kurssi. \nKoulutuksen lisäksi ohjelmassa viikonloppuna: \nKonsertit Haapaveden kirkossa\npe 7.2.. klo 20.00 Petri Hakala & Markku Lepistö\nla 8.2. klo 19.00 Opettajat ja kurssilaiset Oskari Hannula\nsu 9.2. klo 15.00 Tapahtuman päätöskonsertti:\nHaapaveden kamariorkesteri joht. Neeme Punder\, Charles Barbier\nkurssilaisia\, vaskiyhtye\, Bach\,: Brandenburgilainen konsertto nro 3\nMuffat: sarja\, Johann Hermann Schein: Banchetto Musicale Suite
URL:https://svamuli.fi/t/29-haapaveden-wanhan-musiikin-tapahtuma-folkbarock/
LOCATION:Haapaveden kirkko\,  Tähtelänkuja 5\, 86600 Haapavesi\, Haapavesi\, Suomi
END:VEVENT
BEGIN:VEVENT
DTSTART;TZID=Europe/Helsinki:20200207T190000
DTEND;TZID=Europe/Helsinki:20200207T210000
DTSTAMP:20260422T184235
CREATED:20200116T085154Z
LAST-MODIFIED:20200116T085154Z
UID:2529-1581102000-1581109200@svamuli.fi
SUMMARY:Oulun Vanha Musiikki: J’ay pris amours
DESCRIPTION:J’ay pris amours – Olen valinnut rakkauden \nEnsemble Gamut!\nAino Peltomaa\, sopraano\, harppu\, perkussiot\nIlkka Heinonen\, jouhikko\, g-violone\nJuho Myllylä\, nokkahuilut\, elektroniikka\nMarianna Henriksson\, cembalo \nNuoren polven muusikoiden kollektiivi Ensemble Gamut! yhdistää keskiajan sävelmiä suomalaisiin kansanlauluihin rakkaudesta. Suru\, himo\, kaipuu\, katkeruus ja menetys kuuluvat musiikissa ja runoudessa. Konsertin kantavana teemana on paljon matkustanut\, varioitu ja käytetty keskiajan hittibiisi J´ay pris amours. \nLiput: Ennakkoon 20/15/5 e Oulu10-palvelupisteet ja Valveen lippumyymälä (ei käsittelykuluja) sekä Ticketmaster (+käsittelykulut 1–2\,50 e). Ovelta 25/20/10e
URL:https://svamuli.fi/t/oulun-vanha-musiikki-jay-pris-amours/
LOCATION:Oulun Lääninhallituksen talo\, Linnankatu 3\, 90100 Oulu\, Oulu\, Suomi
END:VEVENT
BEGIN:VEVENT
DTSTART;TZID=Europe/Helsinki:20200207T190000
DTEND;TZID=Europe/Helsinki:20200207T210000
DTSTAMP:20260422T184235
CREATED:20200130T105055Z
LAST-MODIFIED:20200130T105055Z
UID:2541-1581102000-1581109200@svamuli.fi
SUMMARY:Ristiveto: Conservatoire Supérieur
DESCRIPTION:Kuten Mendelssohn\, Gabriel Fauré oli merkittävä henkilö konservatorioiden historiassa. Siinä missä Mendelssohn oli konservatiivi\, jonka oppilaat jatkoivat opettajansa viitoittamalla tiellä\, Faurén oppilaat eivät kokeneet velvoitetta rajoittautua liikaa opettajansa sävelkieleen. Oppilaiden tyylien kirjo oli huikea: Georges Enescu\, Claude Debussy\, Nadia Boulanger\, Maurice Ravel\, Florent Schmitt… Ravel muisti opettajansa olleen erityisen avoin tyyleille ja ideoille\, vaikka yleinen ilmapiiri Ranskan musiikkielämässä oli usein rajoittunut. Ristiveto-festivaali keskittyy romantiikan ja 1900-luvun alun musiikin esittämiseen periodisoittimilla. \nOhjelma: \nGabriel Fauré: Pianotrio d-molli\, op. 120\nGeorges Enescu: Impromptu Concertant viululle ja pianolle\nNadia Boulanger: Trois pièces sellolle ja pianolle \nFelix Mendelssohn: Jousikvintetto nro 2 B-duuri\, op. 87 \nPablo Hernán Benedí\, viulu\nEriikka Maalismaa\, viulu\nHanna Pakkala\, alttoviulu\nPisku Ristiluoma\, alttoviulu\nAnna Westerlund\, sello\nMarkus Hohti\, sello\nJoonas Ahonen\, piano\nEmil Holmström\, piano\nLotta Emanuelsson\, teosten esittely \nLisätietoja: www.ristiveto.fi \nLiput 15€ / 10€ (opiskelijat ja alle 18-v)\nhttps://holvi.com/shop/shonemusic/section/ristiveto/
URL:https://svamuli.fi/t/ristiveto-conservatoire-superieur/
LOCATION:Balderin sali\, Aleksanterinkatu 12\, Helsinki\, Helsinki\, Suomi
END:VEVENT
BEGIN:VEVENT
DTSTART;TZID=Europe/Helsinki:20200208T150000
DTEND;TZID=Europe/Helsinki:20200208T170000
DTSTAMP:20260422T184235
CREATED:20200130T105247Z
LAST-MODIFIED:20200130T105247Z
UID:2543-1581174000-1581181200@svamuli.fi
SUMMARY:Ristiveto: Päätösbileet Weimarissa
DESCRIPTION:Ristiveto-festivaalin viimeinen konsertti on iloinen sekoitus konservatoriojärjestelmän historiaa. Weimarissa vaikuttanut Franz Liszt keräsi ympärilleen uudistusmielisiä hahmoja\, joista eräs Richard Faltin päätyi Suomeen. Faltinin kautta Suomessa alettiin luoda yhteyksiä saksalaiseen konservatoriomaailmaan.\nCamille Saint-Saëns oli ensimmäisiä ranskalaisia muusikoita\, jotka olivat kiinnostuneita ajan saksalaisesta progressiivisesta musiikista\, etenkin Wagnerista ja Lisztistä. Hän herätti huomiota tuomalla näitä tuulia pieneen kouluunsa ’École Niedermeyer’\, ja hänen oppilaansa Fauré vei edelleen uutta ajattelua johtamaansa Pariisin konservatorioon. \nFaurén viimeiseksi teokseksi jäänyt jousikvartetto päättää festivaalin. Jo pitkään sairastellut säveltäjä kuoli keuhkokuumeeseen vain 2 kuukautta sävellystyön päätyttyä. Ristiveto-festivaali keskittyy romantiikan ja 1900-luvun musiikin esittämiseen periodisoittimilla. \nOhjelma: \nLiszt–Saint-Saëns: Orfeus\, sinfoninen runo\, sov. pianotriolle\nFerruccio Busoni: Finnische Volksweisen nro 1 pianolle nelikätisesti\nRichard Wagner: Lentävä Hollantilainen -alkusoitto pianolle nelikätisesti\, sov. Claude Debussy\nLili Boulanger: Nocturne&Cortege viululle ja pianolle\nGabriel Fauré: Jousikvartetto op. 121\n\nPablo Hernán Benedí\, viulu\nEriikka Maalismaa\, viulu\nHanna Pakkala\, alttoviulu\nAnna Westerlund\, sello\nMarkus Hohti\, sello\nJoonas Ahonen\, piano\nEmil Holmström\, piano\nLotta Emanuelsson\, teosten esittely \nLisätiedot: www.ristiveto.fi \nLiput 15€ / 10€ (opiskelijat ja alle 18-v)\nhttps://holvi.com/shop/shonemusic/section/ristiveto/
URL:https://svamuli.fi/t/ristiveto-paatosbileet-weimarissa/
LOCATION:Balderin sali\, Aleksanterinkatu 12\, Helsinki\, Helsinki\, Suomi
END:VEVENT
BEGIN:VEVENT
DTSTART;TZID=Europe/Helsinki:20200209T150000
DTEND;TZID=Europe/Helsinki:20200209T170000
DTSTAMP:20260422T184235
CREATED:20200116T085321Z
LAST-MODIFIED:20200116T085321Z
UID:2531-1581260400-1581267600@svamuli.fi
SUMMARY:Oulun Vanha Musiikki: Hän antaa rakkailleen unen…
DESCRIPTION:Topi Lehtipuu & Oulun barokkiorkesteri\nVirva Puumala\, sopraano\nAnu Arvola\, altto\nJanne Sihvo\, basso\nCappella pro Vocale -lauluyhtye\nSofia Magdalena -kuoro johtajanaan Taru Pisto \nVivaldi – Bach – Pärt \nEsiintymisareenoita New Yorkista Tokioon kiertävä tenori Topi Lehtipuu tuo Ouluun monitaiteisen kantaesityksensä\, joka käsittelee syyllisyyttä ja siitä vapautumista. \nVideotaidetta\, näyttämötoimintaa ja vanhaa musiikkia yhdistelevässä teoksessa Lehtipuu kuljettaa omalla taiturillisella tavallaan yleisön Lontoon ja Islannin kautta Ouluun. Festivaalin päätöskonsertissa Lehtipuun kanssa esiintyvät Oulun barokkiorkesteri\, sopraano Virva Puumala Janne Sihvo (basso)\, Anu Arvola (altto) sekä vanhan musiikin kuorot Cappella pro Vocale ja Sofia Magdalena. \nLiput: Ennakkoon 25/20/10 e Oulu10-palvelupisteet ja Valveen lippumyymälä (ei käsittelykuluja) sekä Ticketmaster (+käsittelykulut 1–2\,50 e). Ovelta 30/25/15 e
URL:https://svamuli.fi/t/oulun-vanha-musiikki-han-antaa-rakkailleen-unen/
LOCATION:Oulun musiikkikeskus\, Madetojan sali\, Leevi Madetojan katu 1-3\, 90150 Oulu\, Oulu\, Suomi
END:VEVENT
BEGIN:VEVENT
DTSTART;TZID=Europe/Helsinki:20200215T103000
DTEND;TZID=Europe/Helsinki:20200215T113000
DTSTAMP:20260422T184235
CREATED:20200210T085213Z
LAST-MODIFIED:20200210T085213Z
UID:2547-1581762600-1581766200@svamuli.fi
SUMMARY:Meditatiivista barokkimusiikkia
DESCRIPTION:Sini Vahervuo\, traverso ja nokkahuilut\nJukka Rautasalo\, viola da gamba \nJohn Cooper – van Eyck – Hotteterre – Hume – Simpson \n​Keravan kaupunginkirjaston Lauantain klassiset aamusoitot -konserttisarjan kevätkausi käynnistyy Pentinkulma-salissa. Ensimmäisessä aamusoitossa esiintyvät huilisti Sini Vahevuo ja viola da gamban taitaja Jukka Rautasalo. Luvassa on englantilaista ja ranskalaista musiikkia 1600-1700-luvuilta. \nAamusoittojen ajatuksena on tarjota mahdollisuus rentoutumiseen ja rauhoittumiseen viikonlopun alkajaisiksi. \nTilaisuuteen on vapaa pääsy. Konserttiin tulijat voivat istua tuolilla\, levätä kirjaston alustalla tai halutessaan ottaa mukaan myös oman jooga-/jumppamattonsa. Konserttisarjan järjestävät yhteistyössä Keravan kirjasto- ja kulttuuripalvelut ja Café Barock. \nLauantain klassiset aamusoitot -konserttisarja kevät 2020: \nLa 15.2. klo 10.30 Sini Vahervuo\, huilut & Jukka Rautasalo\, viola da gamba\nLa 21.3. klo 10.30 Hanna Haapamäki\, nokkahuilu & Niklas Melberg\, kitara\nLa 25.4. klo 10.30 Lassi Kari\, violone \nwww.cafebarock.com \nJärjestää Keravan kaupunginkirjasto\, Café Barock ja Ensemble Nylandia
URL:https://svamuli.fi/t/meditatiivista-barokkimusiikkia/
LOCATION:Keravan kaupunginkirjasto\, Paasikivenkatu 12\, 04200 Kerava\, Kerava\, Suomi
END:VEVENT
END:VCALENDAR