BEGIN:VCALENDAR
VERSION:2.0
PRODID:-//Suomen vanhan musiikin liitto ry - ECPv6.15.17.1//NONSGML v1.0//EN
CALSCALE:GREGORIAN
METHOD:PUBLISH
X-ORIGINAL-URL:https://svamuli.fi
X-WR-CALDESC:Tapahtumat Suomen vanhan musiikin liitto ry
REFRESH-INTERVAL;VALUE=DURATION:PT1H
X-Robots-Tag:noindex
X-PUBLISHED-TTL:PT1H
BEGIN:VTIMEZONE
TZID:Europe/Helsinki
BEGIN:DAYLIGHT
TZOFFSETFROM:+0200
TZOFFSETTO:+0300
TZNAME:EEST
DTSTART:20180325T010000
END:DAYLIGHT
BEGIN:STANDARD
TZOFFSETFROM:+0300
TZOFFSETTO:+0200
TZNAME:EET
DTSTART:20181028T010000
END:STANDARD
BEGIN:DAYLIGHT
TZOFFSETFROM:+0200
TZOFFSETTO:+0300
TZNAME:EEST
DTSTART:20190331T010000
END:DAYLIGHT
BEGIN:STANDARD
TZOFFSETFROM:+0300
TZOFFSETTO:+0200
TZNAME:EET
DTSTART:20191027T010000
END:STANDARD
BEGIN:DAYLIGHT
TZOFFSETFROM:+0200
TZOFFSETTO:+0300
TZNAME:EEST
DTSTART:20200329T010000
END:DAYLIGHT
BEGIN:STANDARD
TZOFFSETFROM:+0300
TZOFFSETTO:+0200
TZNAME:EET
DTSTART:20201025T010000
END:STANDARD
END:VTIMEZONE
BEGIN:VEVENT
DTSTART;TZID=Europe/Helsinki:20191203T190000
DTEND;TZID=Europe/Helsinki:20191203T210000
DTSTAMP:20260422T214314
CREATED:20191123T120959Z
LAST-MODIFIED:20191123T120959Z
UID:2502-1575399600-1575406800@svamuli.fi
SUMMARY:Kauneimmat barokkijoululaulut Korson kirkossa
DESCRIPTION:Lumoavia\, tuttuja\, riehakkaita\, mutta myös intiimin pehmeitä joululauluja eri puolilta Eurooppaa tunnelmallisesti barokkisoittimin esitettynä. Mukana myös yhteislauluja. Yhteistyössä Café Barock ja Ensemble Nylandia. \nJussi Salonen\, tenori\nEnsemble Nylandia:\nSini Vahervuo\, huilut\nJarmo Julkunen\, ukulele ja reness.kitara\nMatias Häkkinen\, cembalo ja musiikinjohto \nVapaa pääsy\, ohjelmamaksu
URL:https://svamuli.fi/t/kauneimmat-barokkijoululaulut-korson-kirkossa/
LOCATION:Korson kirkko\, Merikotkantie 4\, 01450 Vantaa\, Vantaa\, Suomi
END:VEVENT
BEGIN:VEVENT
DTSTART;TZID=Europe/Helsinki:20191204T120000
DTEND;TZID=Europe/Helsinki:20191204T130000
DTSTAMP:20260422T214314
CREATED:20190916T074641Z
LAST-MODIFIED:20190916T074641Z
UID:2400-1575460800-1575464400@svamuli.fi
SUMMARY:Lounaskonsertti\, vokaaliyhtye Lumous
DESCRIPTION:Vokaaliyhtye Lumous\, johtaa Debra Gomez-Tapio
URL:https://svamuli.fi/t/lounaskonsertti-vokaaliyhtye-lumous/
LOCATION:Aleksanterin kirkko\, Pyynikin kirkkopuisto\, Tampere\, Tampere\, Suomi
END:VEVENT
BEGIN:VEVENT
DTSTART;TZID=Europe/Helsinki:20191204T190000
DTEND;TZID=Europe/Helsinki:20191204T210000
DTSTAMP:20260422T214314
CREATED:20190917T134732Z
LAST-MODIFIED:20190917T134732Z
UID:2434-1575486000-1575493200@svamuli.fi
SUMMARY:Café Barock Oulu: Kauneimmat barokkijoululaulut
DESCRIPTION:Kauneimmat barokkijoululaulut soivat teatteriravintola Vänmannissa. Konsertin vierailevina tähtinä ovat Ensemble Nylandian muusikot kosketinsoittaja Matias Häkkinen\, nokkahuilisti ja traversisti Sini Vahervuo ja ukuleletaituri Jarmo Julkunen. Kattausta täydentävät paikalliset muusikkomme. \nLiput 20€\, 15€ (eläkeläiset) ja 5€ (opiskelijat\, työttömät ja lapset). Liput myynnissä etukäteen Oulu10-palvelupisteissä ja Kulttuuritalo Valveen lippumyymälässä ilman käsittelykuluja ja\nTicketmasterissa (+käsittelykulut). Jos lippuja on jäljellä\, niitä myydään ovelta tuntia ennen esitystä hintaan 25€/20€/10€. \nKonsertin järjestää Oulun Vanha Musiikki yhteistyössä Kulttuuriyhdistys Café Barock ry:n kanssa.
URL:https://svamuli.fi/t/cafe-barock-oulu-kauneimmat-barokkijoululaulut/
LOCATION:Teatteriravintola Vänmanni\, Kaarlenväylä 2\, 90100 Oulu\, Oulu\, Suomi
END:VEVENT
BEGIN:VEVENT
DTSTART;TZID=Europe/Helsinki:20191207T103000
DTEND;TZID=Europe/Helsinki:20191207T113000
DTSTAMP:20260422T214314
CREATED:20190917T133941Z
LAST-MODIFIED:20190917T133941Z
UID:2423-1575714600-1575718200@svamuli.fi
SUMMARY:Café Barock: Meditatiivista barokkimusiikkia
DESCRIPTION:Keväällä 2019 alkanut konserttisarja saa jatkuu syksyllä alkaen syyskuusta. \nKeravan kirjasto- ja kulttuuripalvelut sekä Café Barock tarjoavat kevyttä\, helposti lähestyttävää ja korkeatasoista barokkimusisointia Keravan kirjaston Pentinkulma-salissa lauantai-aamuisin 28.9.\, 26.10. ja 7.12. klo 10.30. Tule hiljentymään ja rauhoittamaan mielesi viikonlopun alkajaisiksi barokin ajan helmien tahtiin. \nKaikkiin tilaisuuksiin on vapaa pääsy. \n28.9. Salli Vilkanen\, traverso ja Anna Pulakka\, barokkisello (J.S.Bach – C.P.E.Bach) \n26.10. Kaisa Ruotsalainen\, barokkiviulu ja saha (Biber – Bach – Telemann – suomalaisia kansansävelmiä) \n7.12. Kauneimmat barokkijoululaulut\, Ensemble Nylandia: Sini Vahervuo\, huilut\, Jarmo Julkunen\, ukulele ja renessanssikitara\, Matias Häkkinen\, cembalo \nJärjestää yhteistyössä Keravan kaupunginkirjasto ja Kulttuuriyhdistys Café Barock ry
URL:https://svamuli.fi/t/cafe-barock-meditatiivista-barokkimusiikkia-3/
LOCATION:Keravan kaupunginkirjasto\, Paasikivenkatu 12\, 04200 Kerava\, Kerava\, Suomi
END:VEVENT
BEGIN:VEVENT
DTSTART;TZID=Europe/Helsinki:20191208T180000
DTEND;TZID=Europe/Helsinki:20191208T200000
DTSTAMP:20260422T214314
CREATED:20191123T120751Z
LAST-MODIFIED:20191123T120751Z
UID:2498-1575828000-1575835200@svamuli.fi
SUMMARY:Kauneimmat barokkijoululaulut tuomiokirkossa (Hki)
DESCRIPTION:Vanhoissa joululauluissa on jotain meille perin tuttua. Ne ovat kuin musiikillinen äidinkielemme\, niiden yksinkertaisuus koskettaa meitä. Kauneimmat barokkijoululaulut -konsertissa Helsingin Tuomiokirkossa 8.12. kuullaan ja lauletaan yhdessä vuosisatoja suosiossa säilyneitä vanhoja joululauluja 1500-1700-luvuilta ympäri Eurooppaa. Mukana on myös otteita jouluisista suurteoksista kuten Händelin Messiaasta ja Charpentierin Joulumessusta. \nEnsemble Nylandia (Sini Vahervuo\, barokkihuilut\, Kaisa Ruotsalainen\, barokkiviulu\, Jarmo Julkunen\, ukulele ja luutut\, joht. Matias Häkkinen\, cembalo)\, Kamarikuoro Viva vox\, sopraano ja kuoronjohto Inka Kinnunen. \nVapaa pääsy\, ohjelma 10 e sisältäen yhteislaulujen sanat. Ohjelman voi ostaa ovelta käteisellä ja kortilla\, sekä ennakkoon: https://holvi.com/shop/ensemblenylandia/
URL:https://svamuli.fi/t/kauneimmat-barokkijoululaulut-tuomiokirkossa-hki/
LOCATION:Helsingin Tuomiokirkko\, Unioninkatu 29\, Helsinki\, Helsinki\, Suomi
END:VEVENT
BEGIN:VEVENT
DTSTART;TZID=Europe/Helsinki:20191210T190000
DTEND;TZID=Europe/Helsinki:20191210T210000
DTSTAMP:20260422T214314
CREATED:20190917T134836Z
LAST-MODIFIED:20190917T134836Z
UID:2437-1576004400-1576011600@svamuli.fi
SUMMARY:Sattuma-klubi: Kauneimmat barokkijoululaulut
DESCRIPTION:Juho Eerola\, laulu\nEnsemble Nylandia:\nJarmo Julkunen\, ukulele ja luutut\nSini Vahervuo\, huilut\nMatias Häkkinen\, koskettimet \nMonigenreinen Sattuma-klubi aloittaa toimintansa Bottalla elokuussa 2019. Sattuma tapahtuu Bottan yläkerrassa\, Tina-klubin tiloissa tiistai-iltaisin alkaen elokuusta. Klubin järjestäjinä toimivat: vanhan musiikin yhdistys Café Barock\, jazz-kollektiivi Vallilan Jazz\, klassinen kamarimusiikkiyhdistys Kamari Ry sekä elektroakustinen Tölöläb-yhtye. Café Barock isännöi Sattuma-klubilla syksyllä 17.9.\, 24.9.\, 5.11. ja 10.12. \nSattuma-klubi järjestetään Koneen säätiön tuella. \n#koneensäätiö \n#rohkeatekijä
URL:https://svamuli.fi/t/sattuma-klubi-kauneimmat-barokkijoululaulut/
LOCATION:Ostrobotnian Tina-klubi\, Museokatu 10\, 00100 Helsinki\, Helsinki\, Finland
END:VEVENT
BEGIN:VEVENT
DTSTART;TZID=Europe/Helsinki:20191215T180000
DTEND;TZID=Europe/Helsinki:20191215T200000
DTSTAMP:20260422T214314
CREATED:20191123T120854Z
LAST-MODIFIED:20191123T120854Z
UID:2500-1576432800-1576440000@svamuli.fi
SUMMARY:Vanhan musiikin Kauneimmat joululaulut
DESCRIPTION:Joulumusiikkia menneiltä ajoilta. Laulu- ja soitinmusiikkia\, yhteislaulua ja kynttilänvaloa. \nEspoon Laulu johtajanaan Säde Bartling\nEnsemble Nylandia:\nSini Vahervuo\, barokkipoikkihuilu ja nokkahuilut\,\nJarmo Julkunen\, renessanssikitara ja ukulele\,\nMatias Häkkinen\, cembalo ja urut\nMiestrio (ohjaus Juha Virta\, Sari Rautio) \nVapaa pääsy\, ohjelmamaksu
URL:https://svamuli.fi/t/vanhan-musiikin-kauneimmat-joululaulut/
LOCATION:Olarin kirkko\, Olarinluoma 4\, Espoo\, Espoo\, Suomi
END:VEVENT
BEGIN:VEVENT
DTSTART;TZID=Europe/Helsinki:20191218T130000
DTEND;TZID=Europe/Helsinki:20191218T140000
DTSTAMP:20260422T214314
CREATED:20190917T134301Z
LAST-MODIFIED:20190917T134301Z
UID:2429-1576674000-1576677600@svamuli.fi
SUMMARY:Vanhan musiikin uudet toivot
DESCRIPTION:Vanhan musiikin uudet toivot -lounaskonserttisarja Rikhardinkadun kirjaston Kirjatornissa jatkuu syksyllä 2019 keskiviikkoisin klo 13 kolmella konsertilla 23.10.\, 20.11. ja 18.12. Konserteissa esiintyy Sibelius-Akatemian vanhan musiikin aineryhmän opiskelijoita. \nVapaa pääsy. \nIstumapaikkoja n.30 hengelle. \nJärjestää Kulttuuriyhdistys Café Barock ry ja Rikhardinkadun kirjasto yhteistyössä Sibelius-Akatemian vanhan musiikin aineryhmän kanssa
URL:https://svamuli.fi/t/vanhan-musiikin-uudet-toivot-3/
LOCATION:Rikhardinkadun kirjasto\, Rikhardinkatu 3\, 00130 Helsinki\, Helsinki\, Suomi
END:VEVENT
BEGIN:VEVENT
DTSTART;TZID=Europe/Helsinki:20191219T190000
DTEND;TZID=Europe/Helsinki:20191219T210000
DTSTAMP:20260422T214314
CREATED:20190916T074900Z
LAST-MODIFIED:20190916T074900Z
UID:2403-1576782000-1576789200@svamuli.fi
SUMMARY:Angeles del cielo – Taivaan enkelit
DESCRIPTION:Vokaaliyhtye Lumous ja Fioretto Ensemble\, johtaa Debra Gomez-Tapio \nKertoja Jukka Virtala \nKonsertillinen riemullista ja harrasta\, leikkisää ja lempeää enkeliaiheista ja jouluista musiikkia renessanssiajan Espanjasta.
URL:https://svamuli.fi/t/angeles-del-cielo-taivaan-enkelit-2/
LOCATION:Messukylän kirkko\, Messukylänkatu 54\, 33700 Tampere\, Tampere\, Suomi
END:VEVENT
BEGIN:VEVENT
DTSTART;TZID=Europe/Helsinki:20191221T150000
DTEND;TZID=Europe/Helsinki:20191221T170000
DTSTAMP:20260422T214314
CREATED:20191219T104920Z
LAST-MODIFIED:20191219T104920Z
UID:2512-1576940400-1576947600@svamuli.fi
SUMMARY:Kauneimmat wanhat joululaulut
DESCRIPTION:Turun Vanha Musiikki ry:n perinteinen joulukonsertti ravintola Koulun historianluokan rennon lämpimässä tunnelmassa. Ravintolan tiskiltä voi hakea mukaan sopivan juoman ja tulla nauttimaan vanhan joulumusiikin helmistä. \nLiput 20/15 €. \nEnnakkovaraukset ja tiedustelut: info@turunvanhamusiikki.fi
URL:https://svamuli.fi/t/kauneimmat-wanhat-joululaulut/
LOCATION:Panimoravintola Koulu\, Turku\, Eerikinkatu 18\, 20100 Turku\, Turku\, Suomi
END:VEVENT
BEGIN:VEVENT
DTSTART;TZID=Europe/Helsinki:20191221T190000
DTEND;TZID=Europe/Helsinki:20191221T210000
DTSTAMP:20260422T214314
CREATED:20191123T121104Z
LAST-MODIFIED:20191123T121104Z
UID:2504-1576954800-1576962000@svamuli.fi
SUMMARY:Kauneimmat barokkijoululaulut Forum Boxissa (Hki)
DESCRIPTION:Inka Kinnunen ja Juho Eerola\, laulu \nEnsemble Nylandia:\nSini Vahervuo\, huilut\nKaisa Ruotsalainen\, barokkiviulu\nJarmo Julkunen\, ukulele ja reness.kitara\njoht. Matias Häkkinen\, cembalo \nCafé Barockin perinteinen Kauneimmat barokkijoululaulut -tilaisuus galleria Forum Boxissa. Yhteislaulua ja -soittoa 415-vireessä Ensemble Nylandian soittajien johdolla. \nKulttuuriyhdistys Café Barock ry:n vuoden 2019 jäsenmaksun maksaneille vapaa pääsy. \nLiput 20€ / 10€ ovelta ja ennakkoon:https://holvi.com/shop/cafebarocksuomi/
URL:https://svamuli.fi/t/kauneimmat-barokkijoululaulut-forum-boxissa-hki/
LOCATION:Galleria Forum Box\, Ruoholahdenranta 3a\, 00180\, Helsinki\, Helsinki\, Suomi
END:VEVENT
BEGIN:VEVENT
DTSTART;TZID=Europe/Helsinki:20191229T190000
DTEND;TZID=Europe/Helsinki:20191229T210000
DTSTAMP:20260422T214314
CREATED:20191219T104807Z
LAST-MODIFIED:20191219T104807Z
UID:2510-1577646000-1577653200@svamuli.fi
SUMMARY:Espoon barokin perinteinen joulukonsertti
DESCRIPTION:Espoon barokin perinteinen joulukonsertti järjestetään taas Espoon tuomiokirkossa. Tänä vuonna konsertissa kuullaan jouluista barokkimusiikkia mm. Bachilta\, Gebeliltä ja Vivaldilta. Espoon barokin solistina esiintyy altto Katariina Heikkilä. \nEspoon barokin yhtye:\nKirsti Apajalahti ja Anna Pohjola\, viulu\nVappu Helasvuo\, altto\nPieta Mattila\, sello\nLaura Vihreäpuu\, urut \nVapaa pääsy\nOhjelma 20€ / jäsenhinta 10€
URL:https://svamuli.fi/t/espoon-barokin-perinteinen-joulukonsertti-2/
LOCATION:Espoon tuomiokirkko\, Kirkkopuisto 5\, Espoo\, Espoo\, Suomi
END:VEVENT
END:VCALENDAR