BEGIN:VCALENDAR
VERSION:2.0
PRODID:-//Suomen vanhan musiikin liitto ry - ECPv6.15.17.1//NONSGML v1.0//EN
CALSCALE:GREGORIAN
METHOD:PUBLISH
X-WR-CALNAME:Suomen vanhan musiikin liitto ry
X-ORIGINAL-URL:https://svamuli.fi
X-WR-CALDESC:Tapahtumat Suomen vanhan musiikin liitto ry
REFRESH-INTERVAL;VALUE=DURATION:PT1H
X-Robots-Tag:noindex
X-PUBLISHED-TTL:PT1H
BEGIN:VTIMEZONE
TZID:Europe/Helsinki
BEGIN:DAYLIGHT
TZOFFSETFROM:+0200
TZOFFSETTO:+0300
TZNAME:EEST
DTSTART:20180325T010000
END:DAYLIGHT
BEGIN:STANDARD
TZOFFSETFROM:+0300
TZOFFSETTO:+0200
TZNAME:EET
DTSTART:20181028T010000
END:STANDARD
BEGIN:DAYLIGHT
TZOFFSETFROM:+0200
TZOFFSETTO:+0300
TZNAME:EEST
DTSTART:20190331T010000
END:DAYLIGHT
BEGIN:STANDARD
TZOFFSETFROM:+0300
TZOFFSETTO:+0200
TZNAME:EET
DTSTART:20191027T010000
END:STANDARD
BEGIN:DAYLIGHT
TZOFFSETFROM:+0200
TZOFFSETTO:+0300
TZNAME:EEST
DTSTART:20200329T010000
END:DAYLIGHT
BEGIN:STANDARD
TZOFFSETFROM:+0300
TZOFFSETTO:+0200
TZNAME:EET
DTSTART:20201025T010000
END:STANDARD
END:VTIMEZONE
BEGIN:VEVENT
DTSTART;TZID=Europe/Helsinki:20190703T193000
DTEND;TZID=Europe/Helsinki:20190703T210000
DTSTAMP:20260423T043712
CREATED:20190619T153053Z
LAST-MODIFIED:20190619T153053Z
UID:2283-1562182200-1562187600@svamuli.fi
SUMMARY:Enchanté!
DESCRIPTION:Ensemble Barocco eli nokkahuilisti-traversisti Hanna Haapamäki\, viulisti Lotta Suvanto\, gambisti Maija Lampela ja cembalisti Anna Orasmaa konsertoivat ranskalaiseen tapaan Vaasan kirkon Iltamusiikki-konserttisarjassa. Luvassa on musiikkia mm. Jean-Féry Rebeliltä\, Marin Maraisilta\, Jacques Duphlyltä sekä Georg Philipp Telemannilta.
URL:https://svamuli.fi/t/enchante/
LOCATION:Vaasan kirkko\, Kirkkopuisto\, Vaasa\, Vaasa\, Finland
END:VEVENT
BEGIN:VEVENT
DTSTART;TZID=Europe/Helsinki:20190714T140000
DTEND;TZID=Europe/Helsinki:20190714T150000
DTSTAMP:20260423T043712
CREATED:20190628T074856Z
LAST-MODIFIED:20190628T074856Z
UID:2294-1563112800-1563116400@svamuli.fi
SUMMARY:Hakasalmen hätävara - Baroque for Dessert
DESCRIPTION:Barokkimuusikot Anna Pohjola ja Laura Vihreäpuu esittävät vanhaa musiikkia viululla ja cembalolla. Ohjelmassa on sooloja ja duoja 200 vuoden ajalta säveltäjäniminä Sweelinck\, J.S.Bach\, Telemann\, Rebel ja Schmelzer. \nKäsiohjelma 10 e
URL:https://svamuli.fi/t/hakasalmen-hatavara-baroque-for-dessert/
LOCATION:Hakasalmen huvila\, Mannerheimintie 13b\, 00100 Helsinki\, Helsinki\, Suomi
END:VEVENT
BEGIN:VEVENT
DTSTART;TZID=Europe/Helsinki:20190714T190000
DTEND;TZID=Europe/Helsinki:20190714T210000
DTSTAMP:20260423T043712
CREATED:20190614T130643Z
LAST-MODIFIED:20190614T130643Z
UID:2256-1563130800-1563138000@svamuli.fi
SUMMARY:Barokkiklubi Savonlinnan Kulttuurikellarissa
DESCRIPTION:Café Barock valtaa Savonlinnan kulttuurikellarin cembalisti Matias Häkkisen johdolla. \nEnsemble Nylandia: \nSini Vahervuo\, barokkihuilut\nKaisa Ruotsalainen\, barokkiviulu\nPetri Arvo\, barokkifagotti & nokkahuilu\nKatri Susitaival\, viola da gamba\nMatias Häkkinen\, cembalo \nLiput 10€ ovelta tai ennakkoon osoitteesta https://holvi.com/shop/cafebarocksuomi/
URL:https://svamuli.fi/t/barokkiklubi-savonlinnan-kulttuurikellarissa/
LOCATION:Savonlinnan Kulttuurikellari\, Olavinkatu 34\, 57130 Savonlinna\, Savonlinna\, Finland
END:VEVENT
BEGIN:VEVENT
DTSTART;TZID=Europe/Helsinki:20190717T133000
DTEND;TZID=Europe/Helsinki:20190717T143000
DTSTAMP:20260423T043712
CREATED:20190607T072813Z
LAST-MODIFIED:20190607T072813Z
UID:2211-1563370200-1563373800@svamuli.fi
SUMMARY:BarokkiKuopio: Kahvikonsertti kuopiolaisittain
DESCRIPTION:BarokkiKuopio -festivaalin aloituskonsertti! Paakelsit ja barokkimusiikki täyttivät kansalaisen arkea jo 300 vuotta sitten. Kuopiolaismuusikot kutsuvat kaupunkilaiset torin laidalle ravitsemaan sielua ja ruumista mm. J. J. Quantzin sävelin! \nMarketta Kivimäki\, nokkahuilu\, Teea Karttunen ja Fernando Uehara (Kuopion kaupunginorkesteri)\, huilu\, Anna Maria McElwain ja Sanni Antikainen\, cembalo \nVapaa pääsy
URL:https://svamuli.fi/t/barokkikuopio-kahvikonsertti-kuopiolaisittain/
LOCATION:Ramin Konditoria\, Puijonkatu 23\, Kuopio\, Kuopio\, Finland
END:VEVENT
BEGIN:VEVENT
DTSTART;TZID=Europe/Helsinki:20190717T150000
DTEND;TZID=Europe/Helsinki:20190717T160000
DTSTAMP:20260423T043712
CREATED:20190607T073038Z
LAST-MODIFIED:20190607T073038Z
UID:2214-1563375600-1563379200@svamuli.fi
SUMMARY:BarokkiKuopio: Seitsemän rituaalia
DESCRIPTION:Sju ritualer eli Seitsemän rituaalia on säveltäjä Gustav Nyströmin renessanssinokkahuiluyhtye Q Consortille vuonna 2015 säveltämä sarja\, joka saa kokonaisuudessaan ensiesityksensä tämän vuoden BarokkiKuopio-festivaalilla. Eri kokoisten puisten renessanssinokkahuilujen pehmeä ääniä sekoittuu teoksessa Nyströmin teknomusiikista vaikutteita saaneeseen rytmi- ja sävelkieleen. Teoksen tematiikkana ovat viikonpäivät skandinavisessa mytologiassa; sarjan osat kuvaavat viikonpäiville nimensä antaneita eri tavoin sankarillisia aasajumalia Måne\, Tyr\, Oden\, Tor\, Freja\, ja Sol. Lauantai on poikkeus – se on saanut nimensä peseytymisestä (löga sig). Puhdistavatko Seitsemän rituaalia nokkahuilun maineen\, vai tarvitaanko vielä rituaali\, jossa muovinokkahuilut poltetaan? \nhttp://www.ensemblenylandia.info/qconsort \nVapaa pääsy\, käsiohjelma 10/7e ovelta 30 min ennen konserttia. Korttimaksu käy.
URL:https://svamuli.fi/t/barokkikuopio-seitseman-rituaalia/
LOCATION:Kuopion keskusseurakuntatalo\, Suokatu 22\, Kuopio\, Kuopio\, Suomi
END:VEVENT
BEGIN:VEVENT
DTSTART;TZID=Europe/Helsinki:20190717T170000
DTEND;TZID=Europe/Helsinki:20190717T180000
DTSTAMP:20260423T043712
CREATED:20190610T072730Z
LAST-MODIFIED:20190610T072730Z
UID:2242-1563382800-1563386400@svamuli.fi
SUMMARY:Miekkailukoulu ja muita musiikillisia taistoja
DESCRIPTION:Haminan Miekat\, muurit\, musketit -historiafestivaalin barokkikonsertissa kuullaan teoksia 1600-luvulta. Miekkailuoppitunnin kulkua esittävän J. H. Schmelzerin teoksen lisäksi konserteissa kuullaan kolme sodan taistelunmelskeitä kuvailevaa sävellystä. Viulisteilta taituruutta vaativat kappaleet sisältävät rähinää ja roisketta tunnelman pysyessä silti keveänä. Vastakkaista tunnelmaa näille kolmikymmenvuotisen sodan tunnelmille luovat B. Marinin Passacalio\, J.H. Schmelzerin Serenata con altre arie sekä Lamento sopra la morte Ferdinand III. Rikas harmonia ja barokkimusiikille ominaiset pidätykset korostuvat erityisesti näissä teoksissa ja tekevät niistä ylettömän kauniita ja lohdullisia. \nKonsertissa esiintyvät Dora Asterstad ja Anna Pohjola (barokkiviulu)\, Riittaliisa Hakulinen (barokkialttoviulu)\, Elina Mattila (barokkisello)\, Mikko Ikäheimo (teorbi) ja Laura Vihreäpuu (cembalo). \nLiput ennakkoon 10€ lippu.fi\nOvelta 12€ \nwww.hamina.fi/bastioni/tapahtumat/miekat-muurit-ja-musketit-historiafestivaali/ohjelma-ja-liput/
URL:https://svamuli.fi/t/miekkailukoulu-ja-muita-musiikillisia-taistoja/
LOCATION:Haminan puistotalon sali\, Fredrikinkatu 9\, Hamina\, Hamina\, Suomi
END:VEVENT
BEGIN:VEVENT
DTSTART;TZID=Europe/Helsinki:20190717T190000
DTEND;TZID=Europe/Helsinki:20190717T210000
DTSTAMP:20260423T043712
CREATED:20190607T073217Z
LAST-MODIFIED:20190607T073217Z
UID:2216-1563390000-1563397200@svamuli.fi
SUMMARY:BarokkiKuopio: Ave virgo\, ave vos
DESCRIPTION:Neitsyt Marian kuvia ja estotonta burleskia samalla lavalla? Totta se on. Armi von Vepin ja barokkiyhtye Detrituksen monitaiteellisessa illassa kohtaavat kuva\, ääni ja rohkea kehollisuus. Performanssi ja siihen liittyvä musiikkivideo ovat osa Koneen säätiön tuella tehtyä projektia\, johon musiikin ja tanssin lisäksi kuuluu blogi\, jossa vierailevat kirjoittajat pohtivat naista taiteen kohteena ja tekijänä sekä yhteiskunnan vaikutusta Mariakuvaan ja Mariakuvan vaikutusta taiteen naiskuvaan. Konsertin vanhimman ja uusimman kappaleen sävellysvuosien välillä on lähes 1000 vuotta\, ja performansseissa nähdään monta erilaista ja yllättävääkin nais- tai Mariakuvaa. \nArmi von Vep\, tanssi\, Anna-Maija Oka ja Milla Mäkinen\, laulu\, Sini Vahervuo\, nokkahuilut\, Maija Lampela\, viola da gamba\, Kaisamaija Uljas\, teorbi ja barokkikitara \nLiput 10/7e\, ovelta 30 min ennen. Myös korttimaksu käy. \nhttps://avevirgoavevos.tumblr.com/
URL:https://svamuli.fi/t/barokkikuopio-ave-virgo-ave-vos/
LOCATION:Kulttuurikeskus 44\, Kauppakatu 44\, Kuopio\, Kuopio\, Finland
END:VEVENT
BEGIN:VEVENT
DTSTART;TZID=Europe/Helsinki:20190717T210000
DTEND;TZID=Europe/Helsinki:20190717T230000
DTSTAMP:20260423T043712
CREATED:20190607T073334Z
LAST-MODIFIED:20190607T073334Z
UID:2219-1563397200-1563404400@svamuli.fi
SUMMARY:BarokkiKuopio: Iltaklubi
DESCRIPTION:BarokkiKuopion suosittu iltaklubi jälleen Pannarissa! Rock-yhtye Tavallinen peili heittäytyy pelottomasti 1960–80-lukujen ikivihreisiin barokkifagottien\, sähköcembalon ja laulajan voimin. Mukana myös sähkönokkahuilu! \nJuho Eerola\, laulu\, Petri Arvo\, sähkönokkahuilu ja barokkifagotti\, Antti Salovaara\, barokkifagotti\, Matias Häkkinen\, sähköcembalo \nKonsertti järjestetään yhteistyössä Café Barockin kanssa. \nVapaaehtoinen 5e ohjelmamaksu \nhttps://pannuhuone.ravintolamestarit.net/\nwww.cafebarock.com
URL:https://svamuli.fi/t/barokkikuopio-iltaklubi/
LOCATION:Ravintola Pannuhuone\, Kauppakatu 25\, 70100 Kuopio\, Kuopio\, Suomi
END:VEVENT
BEGIN:VEVENT
DTSTART;TZID=Europe/Helsinki:20190718T120000
DTEND;TZID=Europe/Helsinki:20190718T130000
DTSTAMP:20260423T043712
CREATED:20190607T073639Z
LAST-MODIFIED:20190607T073639Z
UID:2221-1563451200-1563454800@svamuli.fi
SUMMARY:BarokkiKuopio: Pikkuväen barokkia
DESCRIPTION:Tämä konsertti on lapsille ja lapsenmielisille sekä kaikille muille! Ohjelmassa pirteää barokkia sekä kappaleita Sini Vahervuon uudesta Pieni nokkahuilukirja -oppaasta. \nSini Vahervuo\, nokkahuilu\, Anna Pulakka\, barokkisello\, Sanni Antikainen\, cembalo \nhttps://www.aviador.fi/kirjat/pieni-nokkahuilukirja.htm \nVapaa pääsy \nwww.barokkikuopio.com
URL:https://svamuli.fi/t/barokkikuopio-pikkuvaen-barokkia/
LOCATION:Kuopion pääkirjasto\, Maaherrankatu 12\, Kuopio\, Kuopio\, Finland
END:VEVENT
BEGIN:VEVENT
DTSTART;TZID=Europe/Helsinki:20190718T180000
DTEND;TZID=Europe/Helsinki:20190718T200000
DTSTAMP:20260423T043712
CREATED:20190607T073738Z
LAST-MODIFIED:20190607T073738Z
UID:2224-1563472800-1563480000@svamuli.fi
SUMMARY:BarokkiKuopio: Suomen klavikordiseura 20 vuotta!
DESCRIPTION:Suomen klavikordiseura juhlii 20. vuottaan! BarokkiKuopion perustaminen vuonna 2005 oli Markus Kuikan ja Suomen klavikordiseuran uskalias teko\, jonka seurauksista nautitaan edelleen. Juhlakonsertissa kosketinsoittimen intiimeimmät sävyt nousevat pääosaan. \nAnna Maria McElwain\, Päivi Vesalainen\, Heli Kantola ja Maritta Heliö\, klavikordi. Konsertin juontaa Pekka Vapaavuori. \nHämeenniemi – al Sawadi – Bach – Couperin – Sweelinck \nVapaa pääsy\, käsiohjelma 10/7e
URL:https://svamuli.fi/t/barokkikuopio-suomen-klavikordiseura-20-vuotta/
LOCATION:Kuopion keskusseurakuntatalo\, Suokatu 22\, Kuopio\, Kuopio\, Suomi
END:VEVENT
BEGIN:VEVENT
DTSTART;TZID=Europe/Helsinki:20190718T190000
DTEND;TZID=Europe/Helsinki:20190718T203000
DTSTAMP:20260423T043712
CREATED:20190611T154534Z
LAST-MODIFIED:20190611T184409Z
UID:2253-1563476400-1563481800@svamuli.fi
SUMMARY:I fiori del barocco - barokin kukka-aarioita
DESCRIPTION:Esiintyjät: Tia Svanberg (sopraano) ja Marjaana Merikanto (cembalo) \nSäveltäjäniminä mm. Arne\, Caldara\, Frescobaldi\, Händel ja Vivaldi \nVapaa pääsy!
URL:https://svamuli.fi/t/i-fiori-del-barocco-barokin-kukka-aarioita/
LOCATION:Pyhän Laurin kirkko\, Kirkkotie 45\, Vantaa\, Vantaa\, Suomi
END:VEVENT
BEGIN:VEVENT
DTSTART;TZID=Europe/Helsinki:20190718T200000
DTEND;TZID=Europe/Helsinki:20190718T220000
DTSTAMP:20260423T043712
CREATED:20190607T073940Z
LAST-MODIFIED:20190607T073940Z
UID:2226-1563480000-1563487200@svamuli.fi
SUMMARY:BarokkiKuopio: Agricolan jäljillä
DESCRIPTION:Agricolan huimapäinen matka Eurooppaan poiki Suomeen uskonpuhdistuksen ja Raamatun käännöksen. Illan teosten juuret ulottuvat reformin ajan Saksaan ja Piae Cantiones -laulukirjan kirkkaimpiin helmiin. \nTuuli Lindeberg\, sopraano\nJukka Rautasalo\, diskanttigamba ja musiikinjohto\nAnthony Marini\, tenorigamba\nLouna Hosia\, bassogamba\nIlkka Heinonen\, violone\nMatias Häkkinen\, cembalo \nPratsu – Senfl – Brahms – Resinarius -. Walter – Franck\nLauluja Piae cantiones -kokoelmasta \nKonsertti on osa Kuopion Tuomiokirkkoseurakunnan kesäkonserttisarjaa. \nVapaa pääsy\, ohjelmat 10/7e vain käteisellä ovelta 45min ennen konsertin alkua.
URL:https://svamuli.fi/t/barokkikuopio-agricolan-jaljilla/
LOCATION:Kuopion Tuomiokirkko\, Vuorikatu 17\, 70100 Kuopio\, Kuopio\, Suomi
END:VEVENT
BEGIN:VEVENT
DTSTART;TZID=Europe/Helsinki:20190719T140000
DTEND;TZID=Europe/Helsinki:20190719T160000
DTSTAMP:20260423T043712
CREATED:20190607T074114Z
LAST-MODIFIED:20190607T074114Z
UID:2228-1563544800-1563552000@svamuli.fi
SUMMARY:BarokkiKuopio: Soiva patsas
DESCRIPTION:Konsertissa kokonaisuudessaan kuultava Das Wohltemperiertes Klavier I on suuri teos muusikolle\, ja vielä suurempi harppaus musiikinhistorialle. Konsertin yhteydessä voi tutustua VB-keskuksen kuulentonäyttelyyn kuukävelyn 50-vuotispäivän aattona! \nKonsertin esiintyjä Jouko Laivuori kirjoittaa itse näin: \n”Robert Schumann sanoi: ”Pidä Das Wohltemperierte Klavieria jokapäiväisenä leipänäsi\, silloin sinusta tulee etevä muusikko”. Muitakin kuluneita anekdootteja tästä kokoelmasta muistetaan: Hans von Bülow kutsui Bachin kokoelmaa vanhaksi testamentiksi\, kun Beethovenin sonaatit ovat uusi testamentti. Näiden preludien ja fuugien merkitys on mittaamaton\, kaikki muusikot ovat viettäneet niiden parissa tärkeitä hetkiä\, niin opintojen alussa (kuten 11-vuotias Ludwig van)\, kuin myöhemminkin. \nKokoelma on tekijänsä sanoin ”niin hyödyksi ja huviksi opinhaluiselle nuorisolle\, kuin myös ajanvietteeksi niille\, jotka tämän tutkimisen jo taitavat.” Itselleni tästä on tullut todellinen vanha & uusi testamentti. Viisas kirja jonka päivittäin avaan oppiakseni lakia ja järjestystä\, armoa ja lohdutusta. Guru Bachin teos toimii myös meditaationa ja joogana – venyttelyn merkitys ei vähene varsinkaan kun täytin juuri 60.” \nJouko Laivuori\, cembalo \nVB-valokuvakeskuksen pääsymaksu 8/6e\nhttps://vb-valokuvakeskus.fi/
URL:https://svamuli.fi/t/barokkikuopio-soiva-patsas/
LOCATION:VB-valokuvakeskus\, Kuninkaankatu 14-16\, 70100 Kuopio\, Kuopio\, Suomi
END:VEVENT
BEGIN:VEVENT
DTSTART;TZID=Europe/Helsinki:20190719T190000
DTEND;TZID=Europe/Helsinki:20190719T210000
DTSTAMP:20260423T043712
CREATED:20190607T074232Z
LAST-MODIFIED:20190607T074232Z
UID:2230-1563562800-1563570000@svamuli.fi
SUMMARY:BarokkiKuopio: Urhean musiikin konsertti
DESCRIPTION:Sankareita\, sonaatteja ja sumeilematonta tunteilua! Näitä kaikkia ja paljon enemmän on luvassa maksimisykettä koettelevassa konsertissa\, jossa lihaskuntokin joutuu armottomaan rääkkiin! \nKuhnau – Soler – Räisänen – Telemann – Schmeltzer – Barriere \nSini Vahervuo\, nokkahuilu\, Kaisa Ruotsalainen & Meelis Orges\, barokkiviulu\, Anna Pulakka\, barokkisello\, Sanni Antikainen & Matias Häkkinen\, cembalo \nVapaa pääsy\, käsiohjelma 10/7e ovelta 30min ennen konsertin alkua käteisellä tai kortilla tai BarokkiKuopion nettikaupasta https://holvi.com/shop/barokkikuopio/ \nwww.barokkikuopio.com
URL:https://svamuli.fi/t/barokkikuopio-urhean-musiikin-konsertti/
LOCATION:Pyhän Johanneksen kirkko\, Ampujanpolku 2\, Kuopio\, Kuopio\, Suomi
END:VEVENT
BEGIN:VEVENT
DTSTART;TZID=Europe/Helsinki:20190720T110000
DTEND;TZID=Europe/Helsinki:20190720T133000
DTSTAMP:20260423T043712
CREATED:20190610T072939Z
LAST-MODIFIED:20190610T072939Z
UID:2244-1563620400-1563629400@svamuli.fi
SUMMARY:Renko-viikon konsertit - ranskalaista barokkimusiikkia
DESCRIPTION:Barokkiyhtye Rosinante soittaa ranskalaista barokkimusiikkia 1700-luvulta Hämeenlinna-Vanajan seurakunnan perinteisesti järjestämässä Renko-viikon kolmessa lauantain päiväkonsertissa klo 11\, 12 ja 13. \nOhjelmassa mm. Telemannin Pariisilainen kvartetto nro 1 sekä muiden ranskalaisten ja ranskalaisesta tyylistä vaikutteita saaneiden aikalaisten musiikkia. Rengon konsertit ovat yhtyeen kesäkonserttikiertueen avaus. Kiertueen reitti noudattelee 1700-luvun tärkeitä kulkureittejä. \nSoile Ylivuori\, traverso\nAnna Pohjola\, barokkiviulu\nPieta Mattila\, viola da gamba\nLaura Vihreäpuu\, cembalo \nKonsertin kesto à 30 min\nVapaa pääsy\, ohjelma 10 €
URL:https://svamuli.fi/t/renko-viikon-konsertit-ranskalaista-barokkimusiikkia/
LOCATION:Rengon Pyhän Jaakon kirkko\, Rengon raitti\, 14300 Renko\, Renko\, Finland
END:VEVENT
BEGIN:VEVENT
DTSTART;TZID=Europe/Helsinki:20190720T150000
DTEND;TZID=Europe/Helsinki:20190720T160000
DTSTAMP:20260423T043712
CREATED:20190607T074412Z
LAST-MODIFIED:20190607T074412Z
UID:2232-1563634800-1563638400@svamuli.fi
SUMMARY:BarokkiKuopio: Kijkje in de keuken – kulissien takana
DESCRIPTION:Kansainvälisesti tunnettu hollantilainen The Royal Wind Music -yhtye saapuu Kuopioon! ”Kijkje in de keuken” eli sananmukaisesti ”kurkkaus keittiöön” on interaktiivinen tilaisuus\, jossa tavanomaisen konsertinomaisuuden lomassa esitellään yhtyeen toimintatapoja. Kerromme sunnuntain ohjelman taustoista\, soitamme esimerkkikatkelmia teosten yksityiskohtia valaisten\, ja samalla selviää esimerkiksi millä tavalla näinkin erikoinen kokoonpano harjoittelee tai lähestyy uusia teoksia. Interaktiivisuus tarkoittaa että yleisö pääsee osallistumaan konsertin kulkuun\, esim. äänestämällä – ja peräti johtamalla! Ja tietenkin aina voi esittää kysymyksiä! Ohjelmassa kuullaan katkelmia ja muutamia kokonaisia kappaleita sunnuntain ohjelmasta. \nKonsertti järjestetään yhteistyössä Ensemble Nylandian kanssa. \nwww.royalwindmusic.org \nVapaa pääsy\, käsiohjelma 10/7e ovelta 30min ennen konsertin alkua kortilla ja käteisellä tai BarokkiKuopion nettikaupasta https://holvi.com/shop/barokkikuopio/
URL:https://svamuli.fi/t/barokkikuopio-kijkje-in-de-keuken-kulissien-takana/
LOCATION:Pyhän Johanneksen kirkko\, Ampujanpolku 2\, Kuopio\, Kuopio\, Suomi
END:VEVENT
BEGIN:VEVENT
DTSTART;TZID=Europe/Helsinki:20190720T170000
DTEND;TZID=Europe/Helsinki:20190720T190000
DTSTAMP:20260423T043712
CREATED:20190607T074540Z
LAST-MODIFIED:20190607T074540Z
UID:2234-1563642000-1563649200@svamuli.fi
SUMMARY:BarokkiKuopio: What Magick Has Victorious Love
DESCRIPTION:Uusi ja vanha törmäävät rohkeasti Ensemble Nylandian ja sopraano Tuuli Lindebergin kantaesittäessä Eero Hämeenniemen Kolme laulua rakkaudesta Tuomo Pekkasen latinankielisiin runoihin yhdessä Purcellin musiikin kanssa! \nPurcellin aikana Englannissa syntyi erityinen maallisen soololaulun lajityyppi\, nk. hulluuskohtauslaulu (mad song)\, jossa laulaja esitti mieleltään järkkynyttä hahmoa ja tämän äärimmäisiä tunnetiloja. Naiset saivat ensi kertaa esiintyä teatterilavalla Englannissa vuonna 1660; siihen asti naisrooleja olivat esittäneet nuoret pojat. Hulluuskohtauslauluista tulikin Purcellin aikana erityisesti naispuolisten näyttelijä-laulajien bravuuri. Näyttämöllä ”hullun” roolihahmon suulla saattoi esittää raskastakin yhteiskuntakritiikkiä joutumatta rangaistuksi. \nTuuli Lindeberg\, laulu\nEnsemble Nylandia johtajanaan Matias Häkkinen \nwww.ensemblenylandia.info \nVapaa pääsy\, ohjelmat 10/7e ovelta 30min ennen konsertin alkua käteisellä ja kortilla\, tai BarokkiKuopion nettikaupasta https://holvi.com/shop/barokkikuopio/
URL:https://svamuli.fi/t/barokkikuopio-what-magick-has-victorious-love/
LOCATION:Pyhän Johanneksen kirkko\, Ampujanpolku 2\, Kuopio\, Kuopio\, Suomi
END:VEVENT
BEGIN:VEVENT
DTSTART;TZID=Europe/Helsinki:20190721T150000
DTEND;TZID=Europe/Helsinki:20190721T170000
DTSTAMP:20260423T043712
CREATED:20190607T074656Z
LAST-MODIFIED:20190607T074656Z
UID:2236-1563721200-1563728400@svamuli.fi
SUMMARY:BarokkiKuopio: Nostre maistre et bon Pere - mestarit ja kisällit
DESCRIPTION:Maailmankuulu hollantilainen The Royal Wind Music –renessanssinokkahuiluorkesteri soittaa BarokkiKuopion loppuhuipennnuksena Nostre maistre et bon pere -ohjelman\, joka tutkii renessanssin ajan mestareiden ja heidän oppipoikiensa muodostamia kulttuuriperinteiden ja musiikillisten taitojen verkostoja. Luvassa on Kuopiossa ennenkuulematon kokoelma eri kokoisia renessanssinokkahuiluja\, joilla yhtye loihtii ilmoille uskomattoman skaalan erilaisia sävyjä ja sointeja! Tämän jälkeen et suhtaudu nokkahuilumusiikkiin enää koskaan samoin kuin ennen. \nMestarit ja Kisällit kertoo 1400-1500-lukujen kiehtovasta säveltäjäpolvien ketjusta\, jossa musiikilliset tyylit kehittyivät ja hioutuivat kohti renessanssin geometrisen täydellisyyden ihannetta.\nMoni nimi lienee ketjusta tuttu\, kuten Josquin Desprez tai Claudio Monteverdi\, mutta ohjelma tuo myös esiin täysrenessanssin juuret ja vähemmän tunnetut nimet kuten Johannes Ockeghem\, Jean Richafort\, Johann Steffens ja monia muita. \nThe Royal Wind Music nojautuu esitystavoissaan historiallisiin ideaaleihin\, mutta yhdistää renessanssimusiikin kulmakiviin myös luovia sovituksia etsiessään omaa ilmaisuaan. Ohjelmassa kuullaan monipuolinen valikoima teostyyppejä\, soitinnuksia ja sävyjä\, aina puhuttelevasta hengellisestä musiikista instrumentaalimusiikkiin ja triosta koko orkesterin laajuuteen. \nwww.royalwindmusic.org \nVapaa pääsy\, käsiohjelma 10/7e ovelta 30min ennen konsertin alkua kortilla ja käteisellä\, tai BarokkiKuopion nettikaupasta https://holvi.com/shop/barokkikuopio/
URL:https://svamuli.fi/t/barokkikuopio-nostre-maistre-et-bon-pere-mestarit-ja-kisallit/
LOCATION:Kuopion Tuomiokirkko\, Vuorikatu 17\, 70100 Kuopio\, Kuopio\, Suomi
END:VEVENT
BEGIN:VEVENT
DTSTART;TZID=Europe/Helsinki:20190722T110000
DTEND;TZID=Europe/Helsinki:20190728T120000
DTSTAMP:20260423T043712
CREATED:20190317T141156Z
LAST-MODIFIED:20190317T141156Z
UID:2137-1563793200-1564315200@svamuli.fi
SUMMARY:Vanhan musiikin kesäkurssi
DESCRIPTION:Tervetuloa Helsingin Vanhan Musiikin Seuran järjestämälle perinteiselle Vanhan musiikin kesäkurssille 22.-28.7.2019 Itä-Hämeen opistolle Hartolaan. Ilmoittautumisaika alkaa 1.4.2019 verkkosivullamme www.cmah.org ja mukaan mahtuu 52 ensimmäistä. \nInstrumentit ja opettajat – Instruments and teachers: \nBarokkioboe – Baroque oboe: Katharina Arfken\nBarokkiviulu – Baroque violin: Minna Kangas\, Anna Rainio\nCembalo – Harpsichord: Elina Mustonen\nLaulu – Singing: Veikko Kiiver\nLuuttu – Lute: Niklas Mellberg\nNokkahuilu-Recorder: Pekka Silén\, Janek Öller\nRenessanssiröörisoittimet – Renaissance reeds: Bernhard Stilz\nSello\, gamba – Cello\, viola da gamba: Louna Hosia\nTraverso\, nokkahuilu – Traverso\, recorder: Sini Vahervuo \nLisätietoa – more information: www.cmah.org
URL:https://svamuli.fi/t/vanhan-musiikin-kesakurssi-2/
LOCATION:Itä-Hämeen opisto\, Kaikulantie 90\, Hartola\, Hartola\, Suomi
END:VEVENT
BEGIN:VEVENT
DTSTART;TZID=Europe/Helsinki:20190722T190000
DTEND;TZID=Europe/Helsinki:20190722T210000
DTSTAMP:20260423T043712
CREATED:20190606T080605Z
LAST-MODIFIED:20190606T080605Z
UID:2209-1563822000-1563829200@svamuli.fi
SUMMARY:Nostre Maistre et bon Pere - Mestarit ja Kisällit
DESCRIPTION:The Royal Wind Musicin ja Ensemble Nylandian yhteiskonsertti Temppeliaukion kirkossa. 16-henkinen kamarikokoonpano esittää värikkään ja jännittävän kirjon renessanssimusiikin kehityskaarta aina 1400-luvun alkupuolelta 1600-luvun alun Monteverdiin. \nHeinäkuussa Suomeen kiertueelle tuleva The Royal Wind Music on alankomaalainen 1500-luvun renessanssimusiikkiin erikoistunut nokkahuiluyhtye. Paul Leenhoutsin vuonna 1997 perustaman kokoonpanon tekee jopa maailmankin mittakaavassa ainutlaatuiseksi sen erityinen äänenväri ja yli neljänkymmenen yksilön historiallisiin malleihin pohjautuva vaikuttava soitinkokoelma\, jonka näyttävin yksilö on harvinainen 3 metriä pitkä subkontrabassonokkahuilu. \nThe Royal Wind Music on esiintynyt aina Pohjois- ja Keski-Amerikkaa myöten\, ja Euroopassa se on kiertänyt laajalti keskeisiä\, itäisiä ja läntisiä osia\, mutta vierailu Suomeen tulee olemaan Pohjolanmatka ensimmäistä laatuaan. \nOhjelma Nostre Maistre et bon Pere – Mestarit ja Kisällit kertoo 1400-1500-lukujen kiehtovasta säveltäjäsukupolvien ketjusta\, jossa musiikilliset tyylit kehittyivät ja hioutuivat kohti renessanssin geometrisen täydellisyyden ihannetta. \nSäveltäjät: Josquin Desprez\, Claudio Monteverdi\, Johannes Ockeghem\, Jean Richafort\, Johann Steffens ja monia muita \nLiput ovelta 20€/10€\, sekä ennakkoon Ensemble Nylandian Barokkiputiikista (ennakkohinta 18€/9€). Barokkiputiikki:https://holvi.com/shop/ensemblenylandia/\nHuom. Varaudu todistamaan oikeutesi alennusryhmään. \nwww.royalwindmusic.org\nwww.ensemblenylandia.info \nFB-tapahtuman linkki: https://www.facebook.com/events/338795763657364/
URL:https://svamuli.fi/t/nostre-maistre-et-bon-pere-mestarit-ja-kisallit/
LOCATION:Temppeliaukion kirkko\, Lutherinkatu 3\, Helsinki \, HELSINKI\, Suomi
END:VEVENT
BEGIN:VEVENT
DTSTART;TZID=Europe/Helsinki:20190731T180000
DTEND;TZID=Europe/Helsinki:20190731T193000
DTSTAMP:20260423T043712
CREATED:20190610T073214Z
LAST-MODIFIED:20190610T073214Z
UID:2247-1564596000-1564601400@svamuli.fi
SUMMARY:Kuin Telemann Pariisissa (Veikkola)
DESCRIPTION:Barokkiyhtye Rosinanten ranskalaisen barokkimusiikin kesäkiertue jatkuu Kirkkonummella\, joka sekin oli jo 1700-luvulla tärkeän kulkureitin varrella. Kulkureitteinä toimivat tuolloin Hämeen härkätie\, Ylinen Viipurintie ja Alinen Viipurintie eli Kuninkaantie. Niitä pitkin keskieurooppalainen kulttuuri saavutti myös Pohjolan\, kun piispat\, kauppiaat ja taiteilijat kulkivat Turun ja Viipurin väliä\, ja jatkoivat edelleen pääkaupunkeihin Tukholmaan tai Pietariin. \nKonsertin ohjelma on 1700-luvulla suuressa suosiossa ollutta ranskalaista ja ranskalaisesta tyylistä vaikuttunutta kamarimusiikkia\, ja konserteissa kuultavat soittimet kuuluivat ajan suosikkisoittimiin. Ohjelmassa on musiikkia säveltäjiltä Georg Philipp Telemann\, André Chéron\, Jacques Hotteterre\, Jean-Féry Rebel ja Louis-Gabriel Guillemain. \nBarokkiyhtye Rosinante\nSoile Ylivuori\, traverso\nAnna Pohjola\, barokkiviulu\nPieta Mattila\, viola da gamba\nLaura Vihreäpuu\, cembalo \nLiput 15/10 € ovelta.
URL:https://svamuli.fi/t/kuin-telemann-pariisissa-veikkola/
LOCATION:Eerikinkartano\, Eerikinkartanontie 164\, 02880 Veikkola\, Veikkola\, Finland
END:VEVENT
END:VCALENDAR