BEGIN:VCALENDAR
VERSION:2.0
PRODID:-//Suomen vanhan musiikin liitto ry - ECPv6.15.17.1//NONSGML v1.0//EN
CALSCALE:GREGORIAN
METHOD:PUBLISH
X-ORIGINAL-URL:https://svamuli.fi
X-WR-CALDESC:Tapahtumat Suomen vanhan musiikin liitto ry
REFRESH-INTERVAL;VALUE=DURATION:PT1H
X-Robots-Tag:noindex
X-PUBLISHED-TTL:PT1H
BEGIN:VTIMEZONE
TZID:Europe/Helsinki
BEGIN:DAYLIGHT
TZOFFSETFROM:+0200
TZOFFSETTO:+0300
TZNAME:EEST
DTSTART:20180325T010000
END:DAYLIGHT
BEGIN:STANDARD
TZOFFSETFROM:+0300
TZOFFSETTO:+0200
TZNAME:EET
DTSTART:20181028T010000
END:STANDARD
BEGIN:DAYLIGHT
TZOFFSETFROM:+0200
TZOFFSETTO:+0300
TZNAME:EEST
DTSTART:20190331T010000
END:DAYLIGHT
BEGIN:STANDARD
TZOFFSETFROM:+0300
TZOFFSETTO:+0200
TZNAME:EET
DTSTART:20191027T010000
END:STANDARD
BEGIN:DAYLIGHT
TZOFFSETFROM:+0200
TZOFFSETTO:+0300
TZNAME:EEST
DTSTART:20200329T010000
END:DAYLIGHT
BEGIN:STANDARD
TZOFFSETFROM:+0300
TZOFFSETTO:+0200
TZNAME:EET
DTSTART:20201025T010000
END:STANDARD
END:VTIMEZONE
BEGIN:VEVENT
DTSTART;TZID=Europe/Helsinki:20190301T190000
DTEND;TZID=Europe/Helsinki:20190301T210000
DTSTAMP:20260425T171023
CREATED:20190215T091203Z
LAST-MODIFIED:20190215T091203Z
UID:2099-1551466800-1551474000@svamuli.fi
SUMMARY:FiBO: Maailman synty (Helsinki)
DESCRIPTION:Varhaisbarokkia ja suomalaista kansanmusiikkia \nMerula–Monteverdi–Strozzi–Uccellini–Valderrábano ja suomalaista kansanmusiikkia \nVirpi Räisänen\, mezzosopraano\nTaito Hoffrén\, runolaulu\nSuomalaisia kansanmuusikoita\nFiBO Players \nSuomalaisen barokkiorkesterin 30-vuotisjuhlavuoden aikana matkataan barokin juurille. Maailman synty -ohjelma tutkiskelee yhtä barokkimusiikin perusajatuksista\, puheen ja musiikin yhteyttä. Jos renessanssin musiikissa soivat maailmankaikkeuden abstraktit ja universaalit rakenteet\, nousi 1600-luvulla keskiöön yksilöllinen ihminen kaikkine tunteineen. Musiikin tehtävä oli ennen kaikkea vaikuttaa kuulijoihin\, ja italialaisen varhaisbarokin säveltäjien teoksissa tämä ihanne tulee hyvin esille. \nAjatus musiikin maagisesta voimasta esiintyy myös Kalevalassa\, jonka keskushahmo Väinämöinen omaa ihmeellisen laulun ja soiton mahdin. Hahmossa on paljon yhtäläisyyksiä antiikin mytologian Orfeukseen\, myyttiseen laulajaan\, joka pystyi lumoamaan luonnon ja ihmiset. Suomalainen kansanperinne yhdistyykin konsertissa kiinnostavalla tavalla varhaisbarokkiin. \nPauliina Fred ja Petteri Pitko alustavat konsertin Ritarihuoneella 1.3. kello 18–18.30. \nLue lisää: https://fibo.fi/konsertit/2019/maailman-synty/ \nKonsertti kuuluu kevään 2019 Ritarihuoneen residenssisarjaan. Sarjan ensimmäinen konsertti oli 5.2.\, kolmas on 29.3. \nLiput 14\,50/29/37 €\, Ticketmaster \nLipputiedustelut: lippu@fibo.fi\nfibo.fi
URL:https://svamuli.fi/t/fibo-maailman-synty-helsinki/
LOCATION:Ritarihuone\, Ritarikatu 1\, Helsinki\, Helsinki\, Suomi
END:VEVENT
BEGIN:VEVENT
DTSTART;TZID=Europe/Helsinki:20190310T150000
DTEND;TZID=Europe/Helsinki:20190310T170000
DTSTAMP:20260425T171023
CREATED:20190122T091133Z
LAST-MODIFIED:20190122T091133Z
UID:2061-1552230000-1552237200@svamuli.fi
SUMMARY:Kolme väriä cembalolle
DESCRIPTION:Matias Häkkinen soittaa J.S. Bachin ja Frobergerin teoksia kolmen konsertin sarjassa. \nEnsimmäisessä konsertissa kuullaan musiikkia sävellajeissa D-G. Sointivärit muodostavat yhtenäisen kokonaisuuden. \nMatias Häkkinen\, cembalo \nOhjelma 10/5 euroa\, vapaa pääsy \nKonsertti on osa Korson seurakunnan Värit musiikissa -sarjaa.
URL:https://svamuli.fi/t/kolme-varia-cembalolle/
LOCATION:Korson kirkko\, Merikotkantie 4\, 01450 Vantaa\, Vantaa\, Suomi
END:VEVENT
BEGIN:VEVENT
DTSTART;TZID=Europe/Helsinki:20190316T180000
DTEND;TZID=Europe/Helsinki:20190316T193000
DTSTAMP:20260425T171023
CREATED:20190222T084635Z
LAST-MODIFIED:20190222T084635Z
UID:2120-1552759200-1552764600@svamuli.fi
SUMMARY:La Chiamata!
DESCRIPTION:Renessanssin luuttumusiikkia Italiasta ja Ranskasta\, Kari Vaattovaara\, luuttu. Dall’Aquila\, Paladin\, de Rippe.
URL:https://svamuli.fi/t/la-chiamata/
LOCATION:Olaus Petrin kirkko\, Minervankatu 6\, 00100 Helsinki\, Helsinki\, Suomi
END:VEVENT
BEGIN:VEVENT
DTSTART;TZID=Europe/Helsinki:20190317T150000
DTEND;TZID=Europe/Helsinki:20190317T200000
DTSTAMP:20260425T171023
CREATED:20190217T092054Z
LAST-MODIFIED:20190217T092054Z
UID:2103-1552834800-1552852800@svamuli.fi
SUMMARY:Oppineita naisia – Kuten haluatte
DESCRIPTION:Kohtauksia ja musiikkia Shakespearen ja Molièren maailmoista. \nSuuren suosion saavuttaneet esitykset samassa paketissa! \n”Her Infinite Variety – Shakespearen naiset sanoin ja sävelin” ja ”JOUEZ! – Molièren matkassa” tekevät hauskalla ja helposti lähestyttävällä tavalla klassikkokirjailijoiden teokset tutuiksi tunnissa. Näytelmäkohtauksia kehystävät ja kommentoivat aikalaissäveltäjien mukaansatempaavat ja koskettavat sävelet. Tuloksena on kaksi aivan uudenlaista ja toisiaan täydentävää musiikkiteatteriesitystä. Elina Mustonen yhdistää suvereenisti roolinsa näyttelijänä ja muusikkona soittiminaan virginaali ja cembalo. \n”Her Infinite Variety” klo 15 \nEsityksen tekstit on valittu näytelmistä Loppiaisaatto\, Henrik V\, Romeo ja Julia\, Talvinen tarina\, Julius Caesar\, Kesäyön uni\, Macbeth\, Kuningas Juhana\, Hamlet\, Othello ja Kuten haluatte. Musiikkia kuullaan mm. seuraavilta säveltäjiltä: William Byrd\, John Dowland\, Orlando Gibbons\, Thomas Morley ja Giovanni Picchi. Tuoreet suomennokset tukevat tilanteiden sekä tekstien ajattomuutta ja ajankohtaisuutta. \nProduktio on kiertänyt ympäri Suomea\, ja se on nähty myös Dublinissa ja Lontoossa esityspaikkoina maineikkaat Rose Theatre ja Garrick’s Temple to Shakespeare. \nDramaturgia ja ohjaus: Johanna Freundlich\, Nely Keinänen\, Elina Mustonen\nMusiikillinen suunnittelu ja sovitus: Elina Mustonen\nEsiintyjä: Elina Mustonen\nEsityksen kesto: 60 min \n”JOUEZ! – Molièren matkassa” klo 19 \nEsitys koostuu kohtauksista Molièren näytelmistä Luulosairas\, Tartuffe\, Saituri\, Ihmisvihaaja\, Naisten koulu\, Don Juan\, Oppineita naisia\, Sievistelevät hupsut ja Versaillesin impromptu. Esityksen musiikin ovat säveltäneet Molièren yhteistyökumppanit Jean-Baptiste Lully ja Marc-Antoine Charpentier sekä barokin ajan tärkeimmät ranskalaiset cembalosäveltäjät Louis Couperin\, Jean-Henry d’Anglebert\, François Couperin ja Jean-Babtiste Forqueray. \n”Fenomenaalinen luomus teatteritaidetta rautaisen musiikillisen briljanssin ryydittämänä.”\n– Koillissanomat \nDramaturgia ja ohjaus: Johanna Freundlich\nVisualisointi: Nina Mansikka\nMusiikillinen suunnittelu ja sovitus: Elina Mustonen\nEsiintyjä: Elina Mustonen \nEsityksen kesto: 60 min
URL:https://svamuli.fi/t/oppineita-naisia-kuten-haluatte/
LOCATION:Musiikkiteatteri Kapsäkki\, Hämeentie 68\, Helsinki\, Helsinki\, Suomi
END:VEVENT
BEGIN:VEVENT
DTSTART;TZID=Europe/Helsinki:20190319T201500
DTEND;TZID=Europe/Helsinki:20190319T220000
DTSTAMP:20260425T171023
CREATED:20181226T105647Z
LAST-MODIFIED:20181226T105647Z
UID:2004-1553026500-1553032800@svamuli.fi
SUMMARY:Café Barock Tampere: Nokkahuilun renessanssi
DESCRIPTION:Café Barock Tampere: Nokkahuilun renessanssi \nQ Consortin vetämänä tupa täynnä nokkiksia ja musiikkia renessanssista Rautavaaraan. \nQ Consort:\nSini Vahervuo\, Riikka Holopainen\, Reetta Varjonen-Ollus\, Milja Tiainen ja Anna Saunamäki \nLisäksi aimo annos tamperelaisia nokkahuilisteja!
URL:https://svamuli.fi/t/cafe-barock-tampere-nokkahuilun-renessanssi/
LOCATION:Kulttuuriravintola Kivi\, Keskustori 2\, 33100 Tampere\, Tampere\, Suomi
END:VEVENT
BEGIN:VEVENT
DTSTART;TZID=Europe/Helsinki:20190321T130000
DTEND;TZID=Europe/Helsinki:20190321T140000
DTSTAMP:20260425T171023
CREATED:20181217T094438Z
LAST-MODIFIED:20181217T094438Z
UID:1981-1553173200-1553176800@svamuli.fi
SUMMARY:Café Barock: Vanhan musiikin uudet toivot
DESCRIPTION:Lounaskonserttisarja Rikhardinkadun kirjastossa jatkuu keväällä 2019. Vanhan musiikin uudet toivot eli Sibelius-Akatemian vanhan musiikin opiskelijat esiintyvät lounaskonserttisarjassa Rikhardinkadun kirjastossa ke 16.1.\, ke 20.2.\, to 21.3.\, ke 17.4. ja ke 15.5 aina klo 13. \nRikhardinkadun kirjaston lounaskonserttisarjaa Kirjatornissa järjestävät yhteistyössä: \nKulttuuriyhdistys Café Barock\nRikhardinkadun kirjasto\nSibelius-Akatemian vanhan musiikin aineryhmä
URL:https://svamuli.fi/t/cafe-barock-vanhan-musiikin-uudet-toivot-8/
LOCATION:Rikhardinkadun kirjasto\, Rikhardinkatu 3\, 00130 Helsinki\, Helsinki\, Suomi
END:VEVENT
BEGIN:VEVENT
DTSTART;TZID=Europe/Helsinki:20190321T190000
DTEND;TZID=Europe/Helsinki:20190321T200000
DTSTAMP:20260425T171023
CREATED:20190217T092322Z
LAST-MODIFIED:20190217T092322Z
UID:2105-1553194800-1553198400@svamuli.fi
SUMMARY:JOUEZ! - Molièren matkassa
DESCRIPTION:”JOUEZ! – Molièren matkassa” tekee Molièren tuotannon tutuksi tunnissa. Esitys koostuu kohtauksista Molièren näytelmistä Luulosairas\, Tartuffe\, Saituri\, Ihmisvihaaja\, Naisten koulu\, Don Juan\, Oppineita naisia\, Sievistelevät hupsut ja Versaillesin impromptu. Tätä kaikkea täydentää ja peilaa aikakauden rikas musiikki\, jolla oli alun perinkin merkittävä rooli Molièren teoksissa. Musiikin säveltäjinä ovat Molièren yhteistyökumppanit Jean-Baptiste Lully ja Marc-Antoine Charpentier sekä barokin ajan tärkeimmät ranskalaiset cembalosäveltäjät Louis Couperin\, Jean-Henry d’Anglebert\, François Couperin ja Jean-Babtiste Forqueray. Molière käsittelee ihmisyyden eri puolia ja erityisesti kaikkialla tunnistettavia heikkouksia komedian välillä viiltävin ja anarkistisinkin keinoin. Esitys näyttelevälle cembalistille on syntynyt Elina Mustosen\, Johanna Freundlichin ja Nina Mansikan yhteistyönä. \nLavalla: Elina Mustonen\nTekstidramaturgia ja henkilöohjaus: Johanna Freundlich\nVisualisointi: Nina Mansikka\nMusiikillinen suunnittelu ja sovitus: Elina Mustonen
URL:https://svamuli.fi/t/jouez-molieren-matkassa-4/
LOCATION:Valvesali\, Hallituskatu 7\, Oulu\, Oulu\, Suomi
END:VEVENT
BEGIN:VEVENT
DTSTART;TZID=Europe/Helsinki:20190321T190000
DTEND;TZID=Europe/Helsinki:20190321T210000
DTSTAMP:20260425T171023
CREATED:20190219T124431Z
LAST-MODIFIED:20190219T124431Z
UID:2110-1553194800-1553202000@svamuli.fi
SUMMARY:Early Music Day in Espoo - Bachin syntymäpäivät
DESCRIPTION:Fasch – Telemann – Bach \nEspoon barokki juhlistaa Bachin syntymäpäivää\, eli Euroopan vanhan musiikin päivää\, esiintymällä tunnelmallisessa Albergan kartanossa. Ohjelmassa musiikkia mm. Telemannilta ja tietysti Bachilta. \nEspoon barokin yhtye\nHanna Haapamäki\, traverso\nAnna Pohjola\, viulu\nElina Mattila\, sello\nPieta Mattila\, viola da gamba\nLaura Vihreäpuu\, cembalo \nLiput 15€\, jäsenhinta 10€\nLiput ostettavissa tuntia ennen ovelta tai varattavissa sähköpostilla osoitteesta info@espoonbarokki.com \n— \n21.3 firar Esbo barock Bachs födelsedag och den Europeiska Dagen för Tidig Musik med en konsert på Alberga gård. På programmet är musik av bl.a. Bach och Telemann. \nEsbo barocks ensemble\nHanna Haapamäki\, traversflöjt\nAnna Pohjola\, violin\nElina Mattila\, cello\nPieta Mattila\, viola da gamba\nLaura Vihreäpuu\, cembalo \nBiljetter 15€/ Medlemspris 10€\nBiljetter kan köpas vid dörren en timme före konserten eller reservas på förhand via mail: info@espoonbarokki.com
URL:https://svamuli.fi/t/early-music-day-in-espoo-bachin-syntymapaivat/
LOCATION:Albergan kartano\, Sokerilinnantie 7\, 02600 Espoo\, Espoo\, Suomi
END:VEVENT
BEGIN:VEVENT
DTSTART;TZID=Europe/Helsinki:20190323T150000
DTEND;TZID=Europe/Helsinki:20190323T170000
DTSTAMP:20260425T171023
CREATED:20190313T132328Z
LAST-MODIFIED:20190313T132328Z
UID:2135-1553353200-1553360400@svamuli.fi
SUMMARY:"Prinsessan uni eli kuinka lohikäärme kukistettiin" -vanhan musiikin lastenkonsertti
DESCRIPTION:Klassikkosatu Prinsessa Ruususesta palaa juurilleen\, kun Herttuan musikantit ja nuoret soittajat seikkailevat vanhojen sävelaarteiden parissa huikean sirkusesityksen kuvittamana. Kesto n. 45min.\nLiput: 12.00 / 8.00 €. 0-1v 0€. \nEsitys on Turun Vanha Musiikki ry:n ja Lasten musiikkijuhlien yhteinen tuotanto.
URL:https://svamuli.fi/t/prinsessan-uni-eli-kuinka-lohikaarme-kukistettiin-vanhan-musiikin-lastenkonsertti/
LOCATION:Turun linnan Kuninkaansali\, Linnankatu 80\, 20100 Turku\, Turku\, Suomi
END:VEVENT
BEGIN:VEVENT
DTSTART;TZID=Europe/Helsinki:20190324T140000
DTEND;TZID=Europe/Helsinki:20190324T150000
DTSTAMP:20260425T171023
CREATED:20190323T085152Z
LAST-MODIFIED:20190323T085152Z
UID:2149-1553436000-1553439600@svamuli.fi
SUMMARY:Barokkikurssin päätöskonsertti
DESCRIPTION:Martin Wegelius -instituutin barokkikurssin päätöskonsertti. Kurssin oppilaat ja opettajat esittävät musiikkia mm säveltäjiltä Purcell\, Gabrieli ja Schein. Vapaa pääsy.
URL:https://svamuli.fi/t/barokkikurssin-paatoskonsertti/
LOCATION:G18 -sali\, Yrjönkatu 18\, Helsinki\, Helsinki\, Suomi
END:VEVENT
BEGIN:VEVENT
DTSTART;TZID=Europe/Helsinki:20190324T150000
DTEND;TZID=Europe/Helsinki:20190324T160000
DTSTAMP:20260425T171023
CREATED:20181010T140256Z
LAST-MODIFIED:20181010T140256Z
UID:1848-1553439600-1553443200@svamuli.fi
SUMMARY:Kahden klavikordin kimara
DESCRIPTION:Klavikordikonsertti ”Kahden klavikordin kimara”.\nEsiintyjinä klavikordistit Anna Maria McElwain ja Eija Virtanen. Ohjelmassa kuullaan mm. Johann Sebastian Bachin konsertto kahdelle klaveerille C-duuri BWV 1061 ja ”Air”. Tilaisuuteen on vapaa pääsy.
URL:https://svamuli.fi/t/kahden-klavikordin-kimara/
LOCATION:Siuron kirkko\, Siurontie 67\, 37200 SIURO\, Siuro\, Suomi
END:VEVENT
BEGIN:VEVENT
DTSTART;TZID=Europe/Helsinki:20190329T190000
DTEND;TZID=Europe/Helsinki:20190329T210000
DTSTAMP:20260425T171023
CREATED:20190305T082259Z
LAST-MODIFIED:20190305T082259Z
UID:2132-1553886000-1553893200@svamuli.fi
SUMMARY:FiBO: Barokkia Pohjolan hoveista
DESCRIPTION:Musiikkiaarteita Tukholmasta ja Kööpenhaminasta \nScheibe–Lully–Roman \nChristopher Palameta\, oboe\nSuomalainen barokkiorkesteri \nPohjoismailla oli jo kauan sitten ikkunat auki Eurooppaan. 1600-luvulla Ruotsi ja Tanska-Norja olivat voimakkaita monarkioita\, joiden hoveissa musiikkielämä kukoisti. Ruotsin kuninkaalliset nauttivat esimerkiksi Aurinkokuninkaan luottosäveltäjän Jean-Baptiste Lullyn oopperoista ja baleteista. Kööpenhaminaan päätyneestä saksalaisesta Johann Adolf Scheibesta taas tuli kuningas Kristian VI:n musiikinjohtaja. Nyt esitettävä sinfonia hautajaiskantaatista vain 27-vuotiaana kuolleen Tanskan kuningatar Luisan kunniaksi kuuluu Scheiben hienoimpiin teoksiin. \nMutta osattiin sitä Pohjolassakin. Johan Helmich Roman on pohjoismaisen barokin ikioma suurnimi ja ylipäätään ensimmäinen huomattava pohjoismainen säveltäjä. Suomikin voi napata osan kunniasta\, sillä Romanin otaksutaan polveutuvan suomalaisesta Raumannusten suvusta. Hänet muistetaan etenkin Tukholman hoviin säveltämästään musiikista. \nPauliina Fred alustaa konsertin Ritarihuoneella kello 18–18.30. \nLue lisää: http://fibo.fi/konsertit/2019/barokkia-pohjolan-hoveista/ \nKonsertti kuuluu kevään 2019 Ritarihuoneen residenssisarjaan. Sarjan ensimmäinen konsertti oli 5.2. ja toinen 1.3. \nLiput 14\,50/29/37 €\, Ticketmaster \nLipputiedustelut: lippu@fibo.fi\nfibo.fi
URL:https://svamuli.fi/t/fibo-barokkia-pohjolan-hoveista/
LOCATION:Ritarihuone\, Ritarikatu 1\, Helsinki\, Helsinki\, Suomi
END:VEVENT
BEGIN:VEVENT
DTSTART;TZID=Europe/Helsinki:20190331T150000
DTEND;TZID=Europe/Helsinki:20190331T170000
DTSTAMP:20260425T171023
CREATED:20190122T091222Z
LAST-MODIFIED:20190122T091222Z
UID:2063-1554044400-1554051600@svamuli.fi
SUMMARY:Kolme väriä cembalolle
DESCRIPTION:Matias Häkkinen soittaa J.S. Bachin ja Frobergerin teoksia kolmen konsertin sarjana. \nSarjan toisessa konsertissa kuullaan musiikkia sävellajeissa Eb – C – Bb. Sointivärit muodostavat yhtenäisen kokonaisuuden. \nMatias Häkkinen\, cembalo \nOhjelma 10/5 euroa\, vapaa pääsy \nKonsertti on osa Korson seurakunnan Värit musiikissa -sarjaa.
URL:https://svamuli.fi/t/kolme-varia-cembalolle-2/
LOCATION:Korson kirkko\, Merikotkantie 4\, 01450 Vantaa\, Vantaa\, Suomi
END:VEVENT
END:VCALENDAR