BEGIN:VCALENDAR
VERSION:2.0
PRODID:-//Suomen vanhan musiikin liitto ry - ECPv6.15.17.1//NONSGML v1.0//EN
CALSCALE:GREGORIAN
METHOD:PUBLISH
X-ORIGINAL-URL:https://svamuli.fi
X-WR-CALDESC:Tapahtumat Suomen vanhan musiikin liitto ry
REFRESH-INTERVAL;VALUE=DURATION:PT1H
X-Robots-Tag:noindex
X-PUBLISHED-TTL:PT1H
BEGIN:VTIMEZONE
TZID:Europe/Helsinki
BEGIN:DAYLIGHT
TZOFFSETFROM:+0200
TZOFFSETTO:+0300
TZNAME:EEST
DTSTART:20180325T010000
END:DAYLIGHT
BEGIN:STANDARD
TZOFFSETFROM:+0300
TZOFFSETTO:+0200
TZNAME:EET
DTSTART:20181028T010000
END:STANDARD
BEGIN:DAYLIGHT
TZOFFSETFROM:+0200
TZOFFSETTO:+0300
TZNAME:EEST
DTSTART:20190331T010000
END:DAYLIGHT
BEGIN:STANDARD
TZOFFSETFROM:+0300
TZOFFSETTO:+0200
TZNAME:EET
DTSTART:20191027T010000
END:STANDARD
BEGIN:DAYLIGHT
TZOFFSETFROM:+0200
TZOFFSETTO:+0300
TZNAME:EEST
DTSTART:20200329T010000
END:DAYLIGHT
BEGIN:STANDARD
TZOFFSETFROM:+0300
TZOFFSETTO:+0200
TZNAME:EET
DTSTART:20201025T010000
END:STANDARD
END:VTIMEZONE
BEGIN:VEVENT
DTSTART;TZID=Europe/Helsinki:20190204T190000
DTEND;TZID=Europe/Helsinki:20190204T200000
DTSTAMP:20260425T171028
CREATED:20190123T100211Z
LAST-MODIFIED:20190123T100211Z
UID:2069-1549306800-1549310400@svamuli.fi
SUMMARY:Olli Hyyrynen ja luuttu Katajanokan kitarasalongissa
DESCRIPTION:Bachia luutulla \nVapaa pääsy\, mutta koska tilaa on rajallisesti yleisön tulee ilmoittautua ennakkoon osoitteeseen:\nkatajanokan.kitarasalonki@gmail.com \nhttps://m.facebook.com/KatajanokanKitarasalonki/photos/a.276733275818288/1156221497869457/?type=3
URL:https://svamuli.fi/t/olli-hyyrynen-ja-luuttu-katajanokan-kitarasalongissa/
LOCATION:Katajanokan kitarasalonki\, Luotsikatu 5\, Helsinki\, Helsinki\, Suomi
END:VEVENT
BEGIN:VEVENT
DTSTART;TZID=Europe/Helsinki:20190205T190000
DTEND;TZID=Europe/Helsinki:20190205T210000
DTSTAMP:20260425T171028
CREATED:20190107T095242Z
LAST-MODIFIED:20190107T100358Z
UID:2009-1549393200-1549400400@svamuli.fi
SUMMARY:OVM2019: C.P.E. Bach - Huilun lumoa
DESCRIPTION:Pekka Elsilä ja Jenni Kaikkonen\, traverso\nKati Valkama\, viola da gamba\nAnna-Maaria Oramo\, cembalo \nKiinnostava läpileikkaus Carl Philipp Emanuel Bachin tunnelmallisesta ja sensitiivisestä kamarimusiikkituotannosta 50 vuoden ajalta 1735-1786. Lämminsointiset traversot\, sielukas gamba ja jalosointinen cembalo johdattelevat kuulijat vahvan barokkisista isä-Bach -vaikutteista yhä klassisempaan ilmaisuun.
URL:https://svamuli.fi/t/ovm19-c-p-e-bach-huilun-lumoa/
LOCATION:Oulun Lääninhallituksen talo\, Linnankatu 3\, 90100 Oulu\, Oulu\, Suomi
END:VEVENT
BEGIN:VEVENT
DTSTART;TZID=Europe/Helsinki:20190205T190000
DTEND;TZID=Europe/Helsinki:20190205T210000
DTSTAMP:20260425T171028
CREATED:20190114T100818Z
LAST-MODIFIED:20190114T100818Z
UID:2035-1549393200-1549400400@svamuli.fi
SUMMARY:FiBO: Contemporary Baroque
DESCRIPTION:Aikamme musiikkia vanhoille soittimille \nNordin–Thorvaldsdottir–Nemtsov–Richter \nAntti Tikkanen\, viulu ja liidaus\nSuomalainen barokkiorkesteri \nUuden musiikin esittäminen vanhoilla soittimilla on ollut osa Suomalaisen barokkiorkesterin toimintaa jo vuosia\, ja orkesteri on myös itse tilannut lukuisia teoksia. Nyt FiBOn kotisalissa kuullaan ensimmäinen kokonaan elävien säveltäjien teoksista koostuva\, Musica nova Helsingin kanssa yhteistyössä järjestettävä konsertti! \nMutta missä on menneisyyden ja nykyisyyden raja? Ero on joskus hiuksenhieno. Tuttuakin tutummasta Vivaldin Neljästä vuodenajasta kuullaan Max Richterin vuonna 2012 kantaesitetty Four Seasons Recomposed -teos. Sen uudelleenväritetyt harmoniapohjat ja elektronisia sointimattoja muistuttavat pinnat synnyttävät korviahivelevää ambient-Vivaldia. \nFiBOn kesällä 2018 kantaesittämä Sarah Nemtsovin beyond its simple space perustuu Robert Creeleyn Helsinki-aiheiseen runoon. Tekstin meditatiivista arkirealismia heijasteleva teos vie barokkisoittimet keskelle nykymusiikin keinovaroja\, laajennettuja soittotapoja ja elektronista efektointia. Lisäksi kuullaan barokkisoitinten hienovaraista sointimaailmaa luotaavia kamariteoksia pohjoismaisilta Anna Thorvaldsdottirilta ja Jesper Nordinilta. \nPetteri Pitko alustaa konsertin Ritarihuoneella 5.2. kello 18–18.30. \nLue lisää: http://fibo.fi/konsertit/2019/contemporary-baroque/ \nKonsertti kuuluu kevään 2019 Ritarihuoneen residenssisarjaan. Sarjan muut konsertit ovat 1.3. ja 29.3. \nLiput 14\,50/29/37 €\, Ticketmaster\nSarjaliput 68/88 €\, Ticketmaster \nLipputiedustelut: lippu@fibo.fi\nfibo.fi
URL:https://svamuli.fi/t/fibo-contemporary-baroque/
LOCATION:Ritarihuone\, Ritarikatu 1\, Helsinki\, Helsinki\, Suomi
END:VEVENT
BEGIN:VEVENT
DTSTART;TZID=Europe/Helsinki:20190207T120000
DTEND;TZID=Europe/Helsinki:20190207T130000
DTSTAMP:20260425T171028
CREATED:20190107T095351Z
LAST-MODIFIED:20190107T100319Z
UID:2011-1549540800-1549544400@svamuli.fi
SUMMARY:OVM2019: Keskipäivän kevennys
DESCRIPTION:Laura Röntynen\, cembalo & Stephanie Archer\, nokkahuilu \nByrd – Storace – Forqueray – Blavet \nKeskipäivän musiikkihetkessä kuullaan annos virtuoottisia kosketinsoitinkappaleita. Ranskalaisen huiluvirtuoosi Michel Blavetin sonaatti ”La Lumague” tuo Laura Röntysen vierelle cembalon sointia värittämään taiturillisen nokkahuilisti Stephanie Archerin.
URL:https://svamuli.fi/t/ovm19-keskipaivan-kevennys/
LOCATION:Oulun Tuomiokirkko\, Kirkkokatu 3 A\, Oulu\, 90100\, Suomi
END:VEVENT
BEGIN:VEVENT
DTSTART;TZID=Europe/Helsinki:20190207T190000
DTEND;TZID=Europe/Helsinki:20190207T210000
DTSTAMP:20260425T171028
CREATED:20190107T095449Z
LAST-MODIFIED:20190107T100158Z
UID:2014-1549566000-1549573200@svamuli.fi
SUMMARY:OVM2019: Follia
DESCRIPTION:Peter Spissky & Laura Kangas\, barokkiviulu\nJohanna Leponiemi\, barokkialttoviulu\nRiina Salminen\, barokkisello\nVirve Räisänen\, cembalo \nPurcell – Biber – Schmelzer – Vivaldi – Händel \nBarokin parasta ostinato-hoitoa barokkiviuluvelho Peter Spisskyn kamarimusiikkiklinikalta! Tässä konsertissa nautitaan coctail folliaa\, chaconnea\, passacaillea ja lamentoa suloisen talvimelankolian hoitoon.
URL:https://svamuli.fi/t/ovm19-follia/
LOCATION:Oulun Lääninhallituksen talo\, Linnankatu 3\, 90100 Oulu\, Oulu\, Suomi
END:VEVENT
BEGIN:VEVENT
DTSTART;TZID=Europe/Helsinki:20190208T190000
DTEND;TZID=Europe/Helsinki:20190208T210000
DTSTAMP:20260425T171028
CREATED:20190107T095553Z
LAST-MODIFIED:20190107T095630Z
UID:2016-1549652400-1549659600@svamuli.fi
SUMMARY:OVM2019: Kyliltä ja kartanoista
DESCRIPTION:Torbjörn Näsbom\, avainviulu & Andreas Edlund\, cembalo \nRoman – Bach – Marais – kansansävelmiä \nVuodesta 2002 yhdessä musisoinut duo Näsbom-Edlund yhdistää sopuisasti kaksi soitin- ja soittoperinnettä\, ruotsalaisen kansanmusiikin avainviuluineen (nyckelharpa) ja cembalon barokin äänenä.
URL:https://svamuli.fi/t/ovm19-kylilta-ja-kartanoista/
LOCATION:Voimala 1889\, Kasarmintie 1\, 90130 Oulu\, Oulu\, Suomi
END:VEVENT
BEGIN:VEVENT
DTSTART;TZID=Europe/Helsinki:20190209T150000
DTEND;TZID=Europe/Helsinki:20190209T170000
DTSTAMP:20260425T171028
CREATED:20190107T095755Z
LAST-MODIFIED:20190107T095755Z
UID:2019-1549724400-1549731600@svamuli.fi
SUMMARY:OVM2019: Kello kolmen tee ja Espanjan Armada
DESCRIPTION:Paulus Sipilä laulu\nMikko Ikäheimo\, Marko Jouste ja Kari Suvilehto\, teorbi\, luuttu\, vihuela ja barokkikitara \nSanz – Campion – Ortiz – Dowland -Purcell \nEspanjalaisen barokin näppäilysoitinarmada kohtaa englantilaisen laulumusiikin. Varhaisbarokin teekutsuille oululaisten muusikoiden vieraaksi saapuu monipuolinen näppäilyvirtuoosi Mikko Ikäheimo.
URL:https://svamuli.fi/t/ovm2019-kello-kolmen-tee-ja-espanjan-armada/
LOCATION:Oulun Taidemuseo\, Kasarmintie 9\, 90100 Oulu\, Oulu\, Suomi
END:VEVENT
BEGIN:VEVENT
DTSTART;TZID=Europe/Helsinki:20190209T180000
DTEND;TZID=Europe/Helsinki:20190209T200000
DTSTAMP:20260425T171028
CREATED:20190107T095921Z
LAST-MODIFIED:20190107T095921Z
UID:2022-1549735200-1549742400@svamuli.fi
SUMMARY:OVM2019: Barokkitanssin taikaa Obo & Peter Spissky & Nordic Baroque Dancers
DESCRIPTION:Händel: Sinfonia oopperasta Xerxes (III näytös)\nLully: Passacaille oopperasta Armide\nBach: Orkesterisarja nro 2 h-molli BWV1067\nRebel: Les Caractères de la dance\nHändel:Passacaglia Sonaatista G-duuri HWV 399\nVivaldi: Konsertto 4 viululle h-molli RV 580 \nMuun muassa Drottningholmin kuninkaallisessa linnateatterissa esiintyvän Nordic Baroque Dancers -ammattilaisensemblen ensivierailulla Oulussa barokkitanssin pyörteisiin meidät saattavat tanssija-koreografit Karin Modigh ja Noah Hellwig. Oulun barokkiorkesteria liidaa laajasti Euroopassa konsertoiva barokkiviulisti Peter Spissky.
URL:https://svamuli.fi/t/ovm2019-barokkitanssin-taikaa-obo-peter-spissky-nordic-baroque-dancers/
LOCATION:Raahesali\, Kirkkokatu 28\, 92100 Raahe\, Raahe\, Suomi
END:VEVENT
BEGIN:VEVENT
DTSTART;TZID=Europe/Helsinki:20190210T140000
DTEND;TZID=Europe/Helsinki:20190210T153000
DTSTAMP:20260425T171028
CREATED:20190207T095707Z
LAST-MODIFIED:20190207T095707Z
UID:2097-1549807200-1549812600@svamuli.fi
SUMMARY:Kraut und Rüben – Bachin Goldberg-variaatiot
DESCRIPTION:Kraut und Rüben – Bachin Goldberg-variaatiot \nCembalisti Assi Karttunen soittaa Johann Sebastian Bachin Goldberg-variaatiot BWV 988.\nSisäänpääsy museon pääsymaksulla.\nKäsiohjelma 5 e. \nwww.assikarttunen.fi \nhttps://www.facebook.com/events/323005284981142/\nhttp://hakasalmenhuvila.fi/tapahtumat/konsertit-hakasalmen-huvilassa/ \nKonsertin aikana croquis-piirtäjä Marja Heinonen ikuistaa pikapiirroksin soittajaa soittimensa ääressä. \nLisää Marja Heinosen toiminnasta.\nhttp://katutaidehelsinki.fi/katutaidekierrokset/omat-kulmat-marja-heinonen/
URL:https://svamuli.fi/t/kraut-und-ruben-bachin-goldberg-variaatiot/
LOCATION:Hakasalmen huvila\, Mannerheimintie 13b\, 00100 Helsinki\, Helsinki\, Suomi
END:VEVENT
BEGIN:VEVENT
DTSTART;TZID=Europe/Helsinki:20190210T150000
DTEND;TZID=Europe/Helsinki:20190210T170000
DTSTAMP:20260425T171028
CREATED:20190107T100113Z
LAST-MODIFIED:20190107T100114Z
UID:2025-1549810800-1549818000@svamuli.fi
SUMMARY:OVM2019: Barokkitanssin taikaa Obo & Peter Spissky & Nordic Baroque Dancers
DESCRIPTION:Händel – Lully – Bach – Rebel – Vivaldi \nMuun muassa Drottningholmin kuninkaallisessa linnateatterissa esiintyvän Nordic Baroque Dancers -ammattilaisensemblen ensivierailulla Oulussa barokkitanssin pyörteisiin meidät saattavat tanssija-koreografit Karin Modigh ja Noah Hellwig. Oulun barokkiorkesteria liidaa laajasti Euroopassa konsertoiva barokkiviulisti Peter Spissky.
URL:https://svamuli.fi/t/ovm2019-barokkitanssin-taikaa-obo-peter-spissky-nordic-baroque-dancers-2/
LOCATION:Oulun musiikkikeskus\, Madetojan sali\, Leevi Madetojan katu 1-3\, 90150 Oulu\, Oulu\, Suomi
END:VEVENT
BEGIN:VEVENT
DTSTART;TZID=Europe/Helsinki:20190210T170000
DTEND;TZID=Europe/Helsinki:20190210T190000
DTSTAMP:20260425T171028
CREATED:20190116T093325Z
LAST-MODIFIED:20190117T082333Z
UID:2048-1549818000-1549825200@svamuli.fi
SUMMARY:Länsi-Helsingin musiikkiopiston barokkiorkesteri Ex Occidente Lux
DESCRIPTION:Barokkiorkesteri Ex Occidente Lux esiintyy\, johtajana Terhi Mali \nsol.\nPietari Halme\, nokkahuilu\nJaakko Luoma\, fagotti\nVeera Pesu\, oboe\nIirisilona Segerstam\, laulu \nHändel – Vivaldi – Marcello \nVapaa pääsy
URL:https://svamuli.fi/t/barokkiorkesterin-konsertti/
LOCATION:Musik- och kulturskolan Sandels\, Topeliuksenkatu 2\, Helsinki\, Helsinki\, Suomi
END:VEVENT
BEGIN:VEVENT
DTSTART;TZID=Europe/Helsinki:20190212T190000
DTEND;TZID=Europe/Helsinki:20190212T210000
DTSTAMP:20260425T171028
CREATED:20190129T072248Z
LAST-MODIFIED:20190129T072248Z
UID:2082-1549998000-1550005200@svamuli.fi
SUMMARY:Schumann\, Holmström ja Maalismaa
DESCRIPTION:Eriikka Maalismaan ja Emil Holmströmin uunituore levy (ALBA) näkee päivänvalon tiistaina 12.2. Temppeliaukion kirkossa! Levy sisältää Robert Schumannin kaikki kolme viulusonaattia ajanmukaisin soittimin esitettyinä.\nKonsertissa kuullaan kuitenkin muutakin kuin Schumannin viulusonaatteja\, kun lavalle saadaan vierailijoiksi alttoviulutaiteilija Lilli Maijala ja sellotaiteilija Markus Hohti! Eikä tässä vielä kaikki\, Emil on luvannut soittaa juuri remontoidulla 140-vuotiaalla Bösendorferillaan myös Schubertia. \nKonserttiin on vapaa pääsy\, tervetuloa ihmettelemään suolikielten ja periodiflyygelin ääniä ja juhlistamaan levyn syntyä! \nOhjelma: \nR. Schumann: Sonaatti pianolle ja viululle nro 1\, op. 105\nF. Schubert: Moments musicaux nrot 1-3\, D.780\nR. Schumann: Pianokvartetto\, op. 47 \nEriikka Maalismaa\, viulu\nEmil Holmström\, piano\nSPECIAL GUESTS\nLilli Maijala\, alttoviulu\nMarkus Hohti\, sello \nMyynnissä käsiohjelma 5€ sekä levy 20€\, maksaa voi myös pankkikortilla.
URL:https://svamuli.fi/t/schumann-holmstrom-ja-maalismaa/
LOCATION:Temppeliaukion kirkko\, Lutherinkatu 3\, Helsinki \, HELSINKI\, Suomi
END:VEVENT
BEGIN:VEVENT
DTSTART;TZID=Europe/Helsinki:20190215T190000
DTEND;TZID=Europe/Helsinki:20190215T210000
DTSTAMP:20260425T171028
CREATED:20190114T123423Z
LAST-MODIFIED:20190114T123423Z
UID:2037-1550257200-1550264400@svamuli.fi
SUMMARY:Hypnoottinen passacaglia
DESCRIPTION:Matias Häkkinen\, musiikinjohto ja cembalo\nTampere Filharmonia \nOhjelma:\nHenry Purcell (1659–1695): Musiikkia kuningatar Maryn hautajaisiin\nClaudio Monteverdi (1567–1643): Alkusoitto oopperasta Odysseuksen paluu kotimaahan\nDietrich Buxtehude (n.1637–1707): Kantaatti Alles was ihr tut\, orkesterille\nArvo Pärt (1935–): Summa\, jousiorkesterille\nHenry Purcell (1659-1695): Passacaglia oopperasta Kuningas Arthur\nJohann Sebastian Bach (1685–1750): Orkesterisarja III D-duuri\nGeorg Friedrich Händel (1685–1795): Alkusoitto oopperasta Acis ja Galatea\nGeorg Muffat (1653–1704): Sonaatti nro 5 G-duuri kokoelmasta Armonico Tributo (sov. M. Häkkinen) \nLiput 27/20/12/6 € \nLue lisää konsertista:\nhttps://tamperefilharmonia.fi/konsertit/barokkikonsertti-hypnoottinen-passacaglia-tuomiokirkko/
URL:https://svamuli.fi/t/hypnoottinen-passacaglia/
LOCATION:Tampereen tuomiokirkko\, Tuomiokirkonkatu\, 33100\, Tampere\, Tampere\, Suomi
END:VEVENT
BEGIN:VEVENT
DTSTART;TZID=Europe/Helsinki:20190219T201500
DTEND;TZID=Europe/Helsinki:20190219T220000
DTSTAMP:20260425T171028
CREATED:20181226T105459Z
LAST-MODIFIED:20181226T105459Z
UID:2002-1550607300-1550613600@svamuli.fi
SUMMARY:Café Barock Tampere: Ranskalaisen naisen salongissa
DESCRIPTION:Café Barock Tampere \nTi 19.2. klo 20.15\nRanskalaisen naisen salongissa \nMaija Lampela\, pardessus\nSanni Antikainen\, cembalo \nPardessus oli 1700-luvun ranskalaisten ylimystönaisten soitin\, jolla korvattiin rahvaanomaista viulua. Konsertin ohjelma on tyylikkään keveä ja salonkikelpoinen kokoelma sekä alunperin pardessukselle sävellettyjä että viulukirjallisuudesta lainattuja teoksia. \nJ. S. Bach – Barriere – Matteis – Dollé
URL:https://svamuli.fi/t/cafe-barock-tampere-ranskalaisen-naisen-salongissa/
LOCATION:Kulttuuriravintola Kivi\, Keskustori 2\, 33100 Tampere\, Tampere\, Suomi
END:VEVENT
BEGIN:VEVENT
DTSTART;TZID=Europe/Helsinki:20190220T130000
DTEND;TZID=Europe/Helsinki:20190220T140000
DTSTAMP:20260425T171028
CREATED:20181217T094346Z
LAST-MODIFIED:20181217T094346Z
UID:1979-1550667600-1550671200@svamuli.fi
SUMMARY:Café Barock: Vanhan musiikin uudet toivot
DESCRIPTION:Lounaskonserttisarja Rikhardinkadun kirjastossa jatkuu keväällä 2019. Vanhan musiikin uudet toivot eli Sibelius-Akatemian vanhan musiikin opiskelijat esiintyvät lounaskonserttisarjassa Rikhardinkadun kirjastossa ke 16.1.\, ke 20.2.\, to 21.3.\, ke 17.4. ja ke 15.5 aina klo 13. \nRikhardinkadun kirjaston lounaskonserttisarjaa Kirjatornissa järjestävät yhteistyössä: \nKulttuuriyhdistys Café Barock\nRikhardinkadun kirjasto\nSibelius-Akatemian vanhan musiikin aineryhmä
URL:https://svamuli.fi/t/cafe-barock-vanhan-musiikin-uudet-toivot-7/
LOCATION:Rikhardinkadun kirjasto\, Rikhardinkatu 3\, 00130 Helsinki\, Helsinki\, Suomi
END:VEVENT
BEGIN:VEVENT
DTSTART;TZID=Europe/Helsinki:20190224T150000
DTEND;TZID=Europe/Helsinki:20190224T170000
DTSTAMP:20260425T171028
CREATED:20190122T091030Z
LAST-MODIFIED:20190122T091030Z
UID:2059-1551020400-1551027600@svamuli.fi
SUMMARY:Orfeus Britanniassa
DESCRIPTION:Orfeus Britanniassa -konsertti sisältää keskiaikaista musiikkia kokoelmista Codex Faenza (n. 1400) ja Codex Robertsbridge (n. 1330). Musiikkia kuullaan myös säveltäjiltä Byrd\, Händel ja Tomkins. \nAnna-Maaria Oramo\, cembalo\, clavisimbalum ja laulu \nKonserttiin on vapaa pääsy ja ohjelma maksaa 10/5 euroa.\nTervetuloa! \nKonsertti on osa Korson seurakunnan Värit musiikissa -sarjaa.
URL:https://svamuli.fi/t/orfeus-britanniassa/
LOCATION:Korson kirkko\, Merikotkantie 4\, 01450 Vantaa\, Vantaa\, Suomi
END:VEVENT
BEGIN:VEVENT
DTSTART;TZID=Europe/Helsinki:20190225T180000
DTEND;TZID=Europe/Helsinki:20190225T200000
DTSTAMP:20260425T171028
CREATED:20190221T084813Z
LAST-MODIFIED:20190221T084813Z
UID:2112-1551117600-1551124800@svamuli.fi
SUMMARY:Barokkisellon B-tutkintokonsertti
DESCRIPTION:OHJELMA\nAntonio Vivaldi – sellosonaatti no 1\nJohann Sebastian Bach – soolosellosarja d-molli\nJean-Baptiste Barrière – VI sellosonaatti\, 2.kirja \nJohanna Randvere – barokkisello\nContinuoryhmä – Anna Pulakka ja Matias Häkkinen \n-Väliaika- \nJoseph Haydn – sellokonsertto C-duuri\nRobert Schumann – Fantasiestücke \nJohanna Randvere – klassinen sello\, klassinenjousi ja 1800-luvun jousi\nEléonore Luciani – fortepiano
URL:https://svamuli.fi/t/barokkisellon-b-tutkintokonsertti/
LOCATION:Sibelius-Akatemian T-talon Ackté-sali\, Töölönkatu 28\, helsinki\, helsinki\, Suomi
END:VEVENT
END:VCALENDAR