BEGIN:VCALENDAR
VERSION:2.0
PRODID:-//Suomen vanhan musiikin liitto ry - ECPv6.15.17.1//NONSGML v1.0//EN
CALSCALE:GREGORIAN
METHOD:PUBLISH
X-WR-CALNAME:Suomen vanhan musiikin liitto ry
X-ORIGINAL-URL:https://svamuli.fi
X-WR-CALDESC:Tapahtumat Suomen vanhan musiikin liitto ry
REFRESH-INTERVAL;VALUE=DURATION:PT1H
X-Robots-Tag:noindex
X-PUBLISHED-TTL:PT1H
BEGIN:VTIMEZONE
TZID:Europe/Helsinki
BEGIN:DAYLIGHT
TZOFFSETFROM:+0200
TZOFFSETTO:+0300
TZNAME:EEST
DTSTART:20170326T010000
END:DAYLIGHT
BEGIN:STANDARD
TZOFFSETFROM:+0300
TZOFFSETTO:+0200
TZNAME:EET
DTSTART:20171029T010000
END:STANDARD
BEGIN:DAYLIGHT
TZOFFSETFROM:+0200
TZOFFSETTO:+0300
TZNAME:EEST
DTSTART:20180325T010000
END:DAYLIGHT
BEGIN:STANDARD
TZOFFSETFROM:+0300
TZOFFSETTO:+0200
TZNAME:EET
DTSTART:20181028T010000
END:STANDARD
BEGIN:DAYLIGHT
TZOFFSETFROM:+0200
TZOFFSETTO:+0300
TZNAME:EEST
DTSTART:20190331T010000
END:DAYLIGHT
BEGIN:STANDARD
TZOFFSETFROM:+0300
TZOFFSETTO:+0200
TZNAME:EET
DTSTART:20191027T010000
END:STANDARD
END:VTIMEZONE
BEGIN:VEVENT
DTSTART;TZID=Europe/Helsinki:20180901T140000
DTEND;TZID=Europe/Helsinki:20180901T153000
DTSTAMP:20260426T005028
CREATED:20180620T093443Z
LAST-MODIFIED:20180620T093443Z
UID:1659-1535810400-1535815800@svamuli.fi
SUMMARY:Ankkabarock: Portraits – Muotokuvia
DESCRIPTION:Miten instrumentalisti ja tanssija voivat äänin ja liikkein maalata muotokuvia tilassa – tai olla toistensa muotokuvia? \nHanna Jokinen\, cembalo\nLeonardo Delfanti\, tanssi \nPortraits – Muotokuvia on teos\, jossa tutkitaan yhdessä\, miten instrumentalisti ja tanssija voivat äänin ja liikkein maalata muotokuvia tilassa\, tai olla toistensa muotokuvia. Teoksen musiikkina ovat J.S. Bachin Ranskalainen sarja no. 2 sekä Jean-Philippe Rameaun Pièces de clavecin 1. Vapaa pääsy\, käsiohjelma 10 €. Ohjelmia myydään kirkon ovella tuntia ennen konsertin alkua.
URL:https://svamuli.fi/t/ankkabarock-portraits-muotokuvia/
LOCATION:Korson kirkko\, Merikotkantie 4\, 01450 Vantaa\, Vantaa\, Suomi
END:VEVENT
BEGIN:VEVENT
DTSTART;TZID=Europe/Helsinki:20180901T180000
DTEND;TZID=Europe/Helsinki:20180901T193000
DTSTAMP:20260426T005028
CREATED:20180620T093559Z
LAST-MODIFIED:20180620T093559Z
UID:1661-1535824800-1535830200@svamuli.fi
SUMMARY:Ankkabarock: Tanssiva muusa
DESCRIPTION:Barokkikonsertissa kuullaan musiikkia säveltäjiltä Michael Praetorius\, Georg Friedrich Händel\, Johann Sebastian Bach ja André Campra. \nJussi Salonen\, tenori\nSanni Antikainen\, cembalo\nPiia Maunula\, oboe\nKaisa Ruotsalainen\, viulu\nAnna Pulakka\, sello \nKonserttiin on vapaa pääsy\, ohjelmamaksu 20 €. Ohjelmia myydään kirkon ovella tuntia ennen konsertin alkua. \nTanssiva muusa on osa 31.8.–2.9. Korson seurakunnassa järjestettävää Ankkabarock-festivaalia\, jonka koko ohjelma on nähtävissä osoitteessa www.ankkabarock.fi ja Facebook-sivulla Ankkabarock 2018.
URL:https://svamuli.fi/t/ankkabarock-tanssiva-muusa/
LOCATION:Korson kirkko\, Merikotkantie 4\, 01450 Vantaa\, Vantaa\, Suomi
END:VEVENT
BEGIN:VEVENT
DTSTART;TZID=Europe/Helsinki:20180902T180000
DTEND;TZID=Europe/Helsinki:20180902T193000
DTSTAMP:20260426T005028
CREATED:20180620T093705Z
LAST-MODIFIED:20180620T093705Z
UID:1663-1535911200-1535916600@svamuli.fi
SUMMARY:Ankkabarock: Johann nyt! 2
DESCRIPTION:Ankkabarock-festarin päätösesitys yhdistelee alttoviulun ja tanssin aineksia. \nJohann nyt! 2 on esitys\, jonka toteuttavat Sanni Kriikku (tanssi) ja Vuokko Lahtinen (alttoviulu). Koreografiasta vastaa Vilma Tihilä. \nEsitykseen on vapaa pääsy\, ohjelmamaksu 10 €. Ohjelmia myydään kirkon ovella tuntia ennen esitystä. \nJohann nyt! 2 on osa 31.8.–2.9. Korson seurakunnassa järjestettävää Ankkabarock-festivaalia\, jonka koko ohjelma on nähtävissä osoitteessa www.ankkabarock.fi ja Facebook-sivulla Ankkabarock 2018.
URL:https://svamuli.fi/t/ankkabarock-johann-nyt-2/
LOCATION:Korson kirkko\, Merikotkantie 4\, 01450 Vantaa\, Vantaa\, Suomi
END:VEVENT
BEGIN:VEVENT
DTSTART;TZID=Europe/Helsinki:20180908T180000
DTEND;TZID=Europe/Helsinki:20180908T200000
DTSTAMP:20260426T005028
CREATED:20180831T071705Z
LAST-MODIFIED:20180831T071705Z
UID:1772-1536429600-1536436800@svamuli.fi
SUMMARY:Ave Virgo\, Ave Vos
DESCRIPTION:Ave Virgo\, Ave Vos on performatiivinen konserttiteos\, jossa barokkiyhtye esittää Neitsyt Marialle renesanssi- ja barokkiajalla sävellettyjä kappaleita. Burleskitaiteilija Armi Von Vep luo lavalle oman representaationsa Neitsyt Mariasta. \n#AVAV on Detrituksen ja Armi Von Vepin ensimmäinen yhteistyöprojekti ja totutun kyseenalaistamista monilla tavoilla. Klassisen musiikin konsertti ja burleski tarjoavat yhdistelmän\, joka haastaa esiintyjät ja yleisön ajattelemaan sekä naista taiteen kohteena ja tekijänä että klassisen musiikin konserttia performatiivisena\, jopa kantaaottavana konseptina. Neitsyt Marian myyttisen\, pyhän hahmon tutkiminen ja esittäminen burleskitaiteen lähtökohdista voidaan myös nähdä kannanottona\, mutta minkä kannan? #burleskimaria \nAVE VIRGO\, AVE VOS haluaa herättää ajatuksia ja keskustelua. Projektin aikana työryhmä on julkaissut aiheeseen liittyviä kirjoituksia blogissaan sekä työryhmän jäseniltä että vierailevilta kirjoittajilta. Kutsumme yleisön ottamaan osaa keskustelutilaisuuteen\, joka järjestetään esityksen jälkeen. \nPerformanssin ensiesitykset ovat Teatteri Universumissa Helsingissä 8.9 ja 9.9.2018. klo 18.\nProjektia tukee Koneen Säätiö – Kone Foundation ja Teatteri Universumin esityksiä on mukana tuottamassa Café Barock Helsinki.\nLiput 15/10 € ovelta ja holvi.com/shop/cafebarocksuomi\n#rohkeatekijä \nMuusikot:\nAnna-Maija Oka: laulu\, lyömäsoittimet\nMilla Mäkinen: laulu\, lyömäsoittimet\nSini Vahervuo: nokkahuilut\, lyömäsoittimet\nMaija Lampela: viola da gamba\, lyömäsoittimet\nKaisamaija Uljas: teorbi\, barokkikitara \nPerformanssi: Armi Von Vep \nTuotanto & Konseptisuunnittelu: Kaisamaija Uljas\nPuvustus: Armi Von Vep & Muusikot\nValosuunnittelu: Roy Boswell\nKuvat: Gustav Larsson
URL:https://svamuli.fi/t/ave-virgo-ave-vos/
LOCATION:Teatteri Universum\, Perämiehenkatu 13\, Helsinki\, Helsinki\, Suomi
END:VEVENT
BEGIN:VEVENT
DTSTART;TZID=Europe/Helsinki:20180915T180000
DTEND;TZID=Europe/Helsinki:20180915T190000
DTSTAMP:20260426T005028
CREATED:20180906T072318Z
LAST-MODIFIED:20180906T072318Z
UID:1775-1537034400-1537038000@svamuli.fi
SUMMARY:Bach ja luuttu
DESCRIPTION:Konsertissa kuullaan J. S. Bachin luuttusarjat g-molli BWV 995 ja c-molli BWV 997 sekä Es-duuri BWV 998 lyhyen soitinesittelyn kera. \nOlli Hyyrynen\, luuttu \nKonserttiin on vapaa pääsy\, ohjelma 10€ \nKonsertti järjestetään yhteistyössä Rauman seurakunnan kanssa.
URL:https://svamuli.fi/t/bach-ja-luuttu-2/
LOCATION:Kordelinin kappeli\, Nummenkatu\, 26100 Rauma\, Rauma\, Suomi
END:VEVENT
BEGIN:VEVENT
DTSTART;TZID=Europe/Helsinki:20180916T150000
DTEND;TZID=Europe/Helsinki:20180916T170000
DTSTAMP:20260426T005028
CREATED:20180830T061013Z
LAST-MODIFIED:20180830T061013Z
UID:1768-1537110000-1537117200@svamuli.fi
SUMMARY:Espoo 1700-luvulla - luentokonsertti
DESCRIPTION:Roman\, Veracini\, Bernier\, Oswald\n\nMillainen oli Espoo 1700-luvulla? Espoolaiset luennoitsija Mari Anthoni ja barokkiyhtye L’Albergata yhdistävät voimansa ja avaavat yleisölle kiinnostavalla tavalla oman kotiseudun historiaa. Barokkimusiikin lomassa Anthoni tarinoi mm. kartanoista ja niiden puutarhoista\, juhlista ja tapakulttuurista sekä tiedon ja uusimpien keksintöjen tulosta ja kartanoiden merkityksestä niiden levittäjänä. Tapahtumalle oivat puitteet luo Espoon kartano. \nMari Anthoni\, luento\nBarokkiyhtye L’Albergata:\nDora Asterstad\, viulu; Elina Mattila\, sello; Laura Vihreäpuu\, cembalo \nLiput 20/15€\nHuom. Käteismaksu. Liput varattavissa ennakkoon sähköpostitse osoitteesta\nespoonbarokki@gmail.com
URL:https://svamuli.fi/t/espoo-1700-luvulla-luentokonsertti/
LOCATION:Espoonkartano\, Kuninkaankartanontie 31 02780 Espoo\, Espoo\, Suomi
END:VEVENT
BEGIN:VEVENT
DTSTART;TZID=Europe/Helsinki:20180919T130000
DTEND;TZID=Europe/Helsinki:20180919T140000
DTSTAMP:20260426T005028
CREATED:20180628T080715Z
LAST-MODIFIED:20180628T080715Z
UID:1671-1537362000-1537365600@svamuli.fi
SUMMARY:Café Barock: Vanhan musiikin uudet toivot
DESCRIPTION:Lounaskonserttisarja Rikhardinkadun kirjastossa jatkuu syksyllä 2018 keskiviikkoisin klo 13: \n19.9.\, 17.10.\, 21.11. ja 19.12. \nRikhardinkadun kirjaston lounaskonserttisarjaa Kirjatornissa järjestävät yhteistyössä:\nKulttuuriyhdistys Café Barock\nRikhardinkadun kirjasto\nSibelius-Akatemian vanhan musiikin aineryhmä
URL:https://svamuli.fi/t/cafe-barock-vanhan-musiikin-uudet-toivot-2/
LOCATION:Rikhardinkadun kirjasto\, Rikhardinkatu 3\, 00130 Helsinki\, Helsinki\, Suomi
END:VEVENT
BEGIN:VEVENT
DTSTART;TZID=Europe/Helsinki:20180920T190000
DTEND;TZID=Europe/Helsinki:20180920T200000
DTSTAMP:20260426T005028
CREATED:20180918T082606Z
LAST-MODIFIED:20180918T082606Z
UID:1792-1537470000-1537473600@svamuli.fi
SUMMARY:Italialaisia barokkihelmiä ja suomalaisia nykymusiikkitimantteja
DESCRIPTION:Duo Saunamäki & Vesalainen sulostuttavat syksyn pimeneviä iltoja jännittävällä konsertilla\, jossa italialainen barokki ja suomalainen nykymusiikki muodostavat kiehtovan kokonaisuuden. \nNicola Fiorenza: Sonata a flauto solo\nJukka Tiensuu: Fantango\nArcangelo Corelli: Sonata op. 5 nro 8\nPietro Castrucci: Sonata op. 1 nro 10\nTomi Räisänen: Kyynelketju\nAngelo Berardi: Canzone sesta\nJukka Tiensuu: Veto \nEero Saunamäki\, nokkahuilu\nPäivi Vesalainen\, cembalo \nLiput 20€
URL:https://svamuli.fi/t/italialaisia-barokkihelmia-ja-suomalaisia-nykymusiikkitimantteja/
LOCATION:Café Sonck\, Itäinen Papinkatu 2\, 00530 Helsinki\, Helsinki\, Suomi
END:VEVENT
BEGIN:VEVENT
DTSTART;TZID=Europe/Helsinki:20180921T190000
DTEND;TZID=Europe/Helsinki:20180921T210000
DTSTAMP:20260426T005028
CREATED:20180827T182600Z
LAST-MODIFIED:20180827T182600Z
UID:1766-1537556400-1537563600@svamuli.fi
SUMMARY:FiBO: Il trionfo del tempo e del disinganno
DESCRIPTION:IL TRIONFO DEL TEMPO E DEL DISINGANNO\nHändelin oratorioharvinaisuus \nMaria Erlacher\, sopraano (La bellezza)\nMarie Luise Werneburg\, sopraano (Il piacere)\nMarian Dijkhuizen\, altto (Il disinganno)\nNino Aurelio Gmünder\, tenori (Il tempo)\nSuomalainen barokkiorkesteri\nGeorg Kallweit ja Petteri Pitko\, musiikin johto\nIlka Seifert ja Folkert Uhde\, konsepti ja ohjaus\nJörg Bittner\, valaistus \nGeorg Friedrich Händelin (1685–1759) Rooman-vuosien aikana 1706–1710 kirkko oli kieltänyt oopperaesitykset. Monien muiden säveltäjien tavoin Händel kirjoitti tuolloin muunlaista vokaalimusiikkia\, jonka tematiikka pyöri usein myyttisten tarujen tai Raamatun aiheiden ympärillä. Vuonna 1707 valmistuneessa oratoriossa Il trionfo del tempo e del disinganno elämän merkityksistä tai merkityksettömyydestä käyvät ajatuksenvaihtoa Kauneus (La bellezza)\, Nautinto (Il piacere)\, Järjen ääni (Il disinganno) ja Aika (Il tempo). \nHändel lienee ollut tietoinen teoksensa musiikillisesta onnistumisesta\, koska hän hyödynsi sen helmiä myöhemmin uusissa yhteyksissä. Esimerkistä käy Händelin rakastetuimpiin aarioihin kuuluva Lascia ch’io pianga. Koko oratoriostakin Händel työsti useita versioita. Nyt kuullaan kuitenkin alkuperäinen Rooman-versio\, jossa barokkinen dramaattisuus esiintyy täydessä loistossaan. Dramatisoitu konserttiversio toteutetaan yhteistyössä Nürnbergin kansainvälisen urkuviikon kanssa. \nVideo oratorion harjoituksista: https://youtu.be/LDiNQlEmDpA \nLiput 15*/20/30/38/48 €: Ticketmaster \nLipputiedustelut: lippu@fibo.fi\nfibo.fi
URL:https://svamuli.fi/t/fibo-il-trionfo-del-tempo-e-del-disinganno/
LOCATION:Johanneksenkirkko\, Korkeavuorenkatu 2\, Helsinki\, Helsinki\, Suomi
END:VEVENT
BEGIN:VEVENT
DTSTART;TZID=Europe/Helsinki:20180926T201500
DTEND;TZID=Europe/Helsinki:20180926T220000
DTSTAMP:20260426T005028
CREATED:20180619T090459Z
LAST-MODIFIED:20180619T090459Z
UID:1649-1537992900-1537999200@svamuli.fi
SUMMARY:Café Barock Tampere: Kansanmusiikkia ja barokkia
DESCRIPTION:Café Barock Tampere: Kansanmusiikin ja barokin tanssahtelevat tyylit \nKreeta-Maria Kentala\, barokkiviulu \nRoman – Biber – Wilsmayr – Baltzar – Tulindberg – kaustislainen kansanmusiikki \nValtion taiteilija-apurahalla työskentelevä Kentala sai Bachia ja kansanmusiikkia levyllään Side by Side vuoden 2016 parhaan levyn palkinnot ja haltioituneen vastaanoton. Café Barockissa kuultava ohjelma jatkaa samaa linjaa mutta laajentaa säveltäjärepertuaaria. Kaustislainen kansanmusiikki virtaa Kentalan verenperinnössä ja barokkia hän on soittanut aikuisen ikänsä. Kreeta-Maria Kentalan käytössä on Suomen Kulttuurirahaston barokkiviulu. \nLiput 20€ / 10€ ovelta ja ennakkoon: Kulttuurimyymälä Aplodi & Lippu.fi \nTVMY:n jäsenkortilla saat 5€ alennuksen ostaessasi normaali- tai alennushintaisen lipun Kulttuurimyymälä Aplodista tai ovelta ennen konserttia. Alennusta ei saa lippu.fi -palvelusta. \nJärjestää Tampereen Vanhan Musiikin Ystävät ry yhteistyössä Tampereen Teatteri\, Kulttuuriravintola Kivi ja Kulttuuriyhdistys Café Barock ry
URL:https://svamuli.fi/t/cafe-barock-tampere-kansanmusiikkia-ja-barokkia/
LOCATION:Kulttuuriravintola Kivi\, Keskustori 2\, 33100 Tampere\, Tampere\, Suomi
END:VEVENT
BEGIN:VEVENT
DTSTART;TZID=Europe/Helsinki:20180930T160000
DTEND;TZID=Europe/Helsinki:20180930T170000
DTSTAMP:20260426T005028
CREATED:20180921T083725Z
LAST-MODIFIED:20180921T083725Z
UID:1794-1538323200-1538326800@svamuli.fi
SUMMARY:JOUEZ! - Molièren matkassa (Tuusula)
DESCRIPTION:JOUEZ! – Molièren matkassa tekee Molièren tuotannon tutuksi tunnissa. Tämä pienimuotoinen musiikkiteatteriesitys näyttelevälle cembalistille on syntynyt Elina Mustosen\, Johanna Freundlichin ja Nina Mansikan yhteistyönä. Produktion tavoitteena on tuoda uudella\, hauskalla ja helposti lähestyttävällä tavalla Molièren ajattomat henkilöhahmot ja aikakauden musiikki monenlaisten yleisöjen ulottuville. \nEsitys koostuu kohtauksista Molièren näytelmistä Luulosairas\, Tartuffe\, Saituri\, Ihmisvihaaja\, Naisten koulu\, Don Juan\, Oppineita naisia\, Sievistelevät hupsut ja Versaillesin impromptu. Tätä kaikkea täydentää ja peilaa aikakauden rikas musiikki. \nEsityksen musiikin ovat säveltäneet Molièren yhteistyökumppanit Jean-Baptiste Lully ja Marc-Antoine Charpentier sekä barokin ajan tärkeimmät ranskalaiset cembalosäveltäjät Louis Couperin\, Jean-Henry d’Anglebert\, François Couperin ja Jean-Babtiste Forqueray. Esityksen musiikki soitetaan aikakauden suosituimmalla kosketinsoittimella\, cembalolla. \nSaumattomasti yhteen lomittuvat tekstit ja musiikki muodostavat samalla kuvan Molièren elämästä\, mutta ennen kaikkea näytelmien yleisinhimillisestä ja ajattomasta sanomasta. \nMolière käsittelee ihmisyyden eri puolia ja erityisesti kaikkialla tunnistettavia heikkouksia komedian välillä viiltävin ja anarkistisinkin keinoin\, mikä tarjoaa esitykselle loputtomasti mahdollisuuksia yhdistää tekstejä ja musiikkia monin erilaisin\, joskus epäortodoksisin tavoin. \nTärkeän lisäulottuvuuden produktion ennakkoluulottomalle lähestymistavalle tuo kompakti\, mutta yllätyksellinen ja kekseliäs puvustus ja lavastus. Sen ansiosta teos on muuntautuva ja erilaisiin tiloihin sopiva. \nLavalla: Elina Mustonen\nTekstidramaturgia ja henkilöohjaus: Johanna Freundlich\nVisualisointi: Nina Mansikka\nMusiikillinen suunnittelu ja sovitus: Elina Mustonen \n”Ihan käsittämättömän upea esitys! Tätä älkää jättäkö kokematta. Elina Mustonen on näyttelijänä yhtä rautainen ammattilainen kuin muusikkonakin.”\n”Mukavaa olla todistamassa klassikkoesityksen syntyä!”\n”Fantastista teatteri- ja soittotaidetta. Vauhdikas esitys tempaisi heti mukaansa.”\n”Suosittelen tätä lämpimästi\, hieno ja kekseliäs esitys! Musiikkiteatteri on totisesti muutakin kuin musikaaleja!”\n(Yleisöpalautetta esityksestä)
URL:https://svamuli.fi/t/jouez-molieren-matkassa-tuusula/
LOCATION:Krapin paja\, Rantatie 2\, 04310 Tuusula\, Tuusula\, Suomi
END:VEVENT
END:VCALENDAR