BEGIN:VCALENDAR
VERSION:2.0
PRODID:-//Suomen vanhan musiikin liitto ry - ECPv6.15.17.1//NONSGML v1.0//EN
CALSCALE:GREGORIAN
METHOD:PUBLISH
X-WR-CALNAME:Suomen vanhan musiikin liitto ry
X-ORIGINAL-URL:https://svamuli.fi
X-WR-CALDESC:Tapahtumat Suomen vanhan musiikin liitto ry
REFRESH-INTERVAL;VALUE=DURATION:PT1H
X-Robots-Tag:noindex
X-PUBLISHED-TTL:PT1H
BEGIN:VTIMEZONE
TZID:Europe/Helsinki
BEGIN:DAYLIGHT
TZOFFSETFROM:+0200
TZOFFSETTO:+0300
TZNAME:EEST
DTSTART:20170326T010000
END:DAYLIGHT
BEGIN:STANDARD
TZOFFSETFROM:+0300
TZOFFSETTO:+0200
TZNAME:EET
DTSTART:20171029T010000
END:STANDARD
BEGIN:DAYLIGHT
TZOFFSETFROM:+0200
TZOFFSETTO:+0300
TZNAME:EEST
DTSTART:20180325T010000
END:DAYLIGHT
BEGIN:STANDARD
TZOFFSETFROM:+0300
TZOFFSETTO:+0200
TZNAME:EET
DTSTART:20181028T010000
END:STANDARD
BEGIN:DAYLIGHT
TZOFFSETFROM:+0200
TZOFFSETTO:+0300
TZNAME:EEST
DTSTART:20190331T010000
END:DAYLIGHT
BEGIN:STANDARD
TZOFFSETFROM:+0300
TZOFFSETTO:+0200
TZNAME:EET
DTSTART:20191027T010000
END:STANDARD
END:VTIMEZONE
BEGIN:VEVENT
DTSTART;TZID=Europe/Helsinki:20180506T180000
DTEND;TZID=Europe/Helsinki:20180506T190000
DTSTAMP:20260426T063104
CREATED:20180424T092505Z
LAST-MODIFIED:20180424T092505Z
UID:1586-1525629600-1525633200@svamuli.fi
SUMMARY:Bach ja luuttu
DESCRIPTION:Olli Hyyrysen luuttukonsertissa kuullaan J. S. Bachin luuttusarjat g- ja c-molli sekä Es-duuri lyhyen soitinesittelyn kera. \nVapaa pääsy\, ohjelma 5/10€
URL:https://svamuli.fi/t/bach-ja-luuttu/
LOCATION:Haminan puistotalon sali\, Fredrikinkatu 9\, Hamina\, Hamina\, Suomi
END:VEVENT
BEGIN:VEVENT
DTSTART;TZID=Europe/Helsinki:20180508T201500
DTEND;TZID=Europe/Helsinki:20180508T211500
DTSTAMP:20260426T063104
CREATED:20180113T100536Z
LAST-MODIFIED:20180113T100536Z
UID:1393-1525810500-1525814100@svamuli.fi
SUMMARY:Café Barock TAMPERE: La Primavera
DESCRIPTION:Keväisiä sonaatteja. Duo Marianna Henriksson\, cembalo ja Aira Maria Lehtipuu\, barokkiviulu.\nFuusiobarokkia jossa kansalliset tyylit ovat mahdollisuus ja rikkaus\, eivät uhka ja outous. \nLiput 20 € / 10 €\nEnnakkomyynti Kulttuurimyymälä Aplodi (Hämeenkatu 14 B)\nOvelta Kulttuuriravintola Kivi (Keskustori 2\, p. 0103462242) \nYhteistyössä:\nTampereen vanhan musiikin ystävät\, Tampereen Teatteri ja Kulttuuriyhdistys Café Barock
URL:https://svamuli.fi/t/cafe-barock-tampere-la-primavera/
LOCATION:Kulttuuriravintola Kivi\, Keskustori 2\, 33100 Tampere\, Tampere\, Suomi
END:VEVENT
BEGIN:VEVENT
DTSTART;TZID=Europe/Helsinki:20180509T190000
DTEND;TZID=Europe/Helsinki:20180509T210000
DTSTAMP:20260426T063104
CREATED:20180427T102058Z
LAST-MODIFIED:20180427T102334Z
UID:1590-1525892400-1525899600@svamuli.fi
SUMMARY:Encanto Festival: Sangvinicus & Melancholicus
DESCRIPTION:SANGVINICUS & MELANCHOLICUS – Traagisesta ääri-iloon\, konserttoja ja sarjoja \n\n\n\nRakkaus\, onni ja melankolia -teemat täyttävät muusikoiden elämää aamusta iltaan. Tämän konsertin päähenkilönä on säveltäjä Georg Philipp Telemann\, jolla oli suuri sydän heikkouksien täyttämiä maailmaneläintarhan ”ihmiseläimiä” kohtaan. Mitä viisaampaa silloin voisikaan ympäristöä tarkkailtuaan tehdä kuin leikitellä ihmisten piirteillä ymmärtäväisen humoristisesti? Musiikin rooli voi olla parannuskeino melankoliaan tai toisaalta se voi olla juuri melankoliaa ja sen syvintä ilmaisua. Konsertin tunneskaala kattaa kauneutta ja melankoliaa sekä iloa ja surua huumorin höystämänä. \nEncanto House Band:\nGeorg Kallweit\, Anthony Marini / viulu\nLaura Kajander / alttoviulu\nJussi Seppänen / sello\nAnna Rinta-Rahko / kontrabasso\nElina Albach / cembalo \nKoko festivaaliohjelma ja lippulinkit: encanto.fi/festival\nLisätietoja: encanto@encanto.fi
URL:https://svamuli.fi/t/encanto-festival-sangvinicus-melancholicus/
LOCATION:Villa Kivi\, Linnunlauluntie 7\, Helsinki\, Helsinki\, Suomi
END:VEVENT
BEGIN:VEVENT
DTSTART;TZID=Europe/Helsinki:20180510T190000
DTEND;TZID=Europe/Helsinki:20180510T210000
DTSTAMP:20260426T063104
CREATED:20180427T102513Z
LAST-MODIFIED:20180427T102513Z
UID:1597-1525978800-1525986000@svamuli.fi
SUMMARY:Encanto Festival: Hypocondrie
DESCRIPTION:Kas\, tiesipä myös Telemann musiikin parantavista vaikutuksista!\nCharpentier\, Telemann\, Matteis \nEncanto House Band:\nAnthony Marini\, Dora Asterstad / viulu\nLaura Kajander / alttoviulu\nLea Pekkala / sello\nAnna Rinta-Rahko / kontrabasso\nMarianna Henriksson / cembalo \nToisin kuin nykyään ajatellaan luulosairaudesta\, barokin aikaan sitä pidettiin vakavana melankolian tilana ja kehon nesteiden ja mielialan epätasapainon aiheuttamana fyysisenä ja henkisenä tautina. Samalla kuitenkin uskottiin\, että musiikilla pystytään vaikuttamaan näihin mielialan heittelyihin. Vaihtelemalla sävellajeja\, tempoja ja melodisia kuvioita voidaan ”potilaassa” saada aikaan toivottu tunnereaktio. Konsertissa tutkitaan\, miten eri maissa aihetta lähestyttiin musiikin keinoin\, aina Charpentierin varsinaisesta Luulosairaus-sarjasta Metteisin melankolialle omistettuihin aarioihin saakka. Voiko musiikilla parantaa? \nKonsertissa kuullaan barokkimusiikkia säveltäjätaitureiden humoristisesti käsittelemän terveystematiikan kautta. \nKoko festivaaliohjelma ja lippulinkit: encanto.fi/festival\nLisätietoja: encanto@encanto.fi\nLiput: 23/10 € LIVETO
URL:https://svamuli.fi/t/encanto-festival-hypocondrie/
LOCATION:Kauniaisten kirkko\, Kavallintie 3\, 02700 Kauniainen\, Kauniainen\, Suomi
END:VEVENT
BEGIN:VEVENT
DTSTART;TZID=Europe/Helsinki:20180511T190000
DTEND;TZID=Europe/Helsinki:20180511T210000
DTSTAMP:20260426T063104
CREATED:20180427T102250Z
LAST-MODIFIED:20180427T102250Z
UID:1594-1526065200-1526072400@svamuli.fi
SUMMARY:Encanto Festival: BACH?
DESCRIPTION:Viulusonaatteja\, Bachinko kynästä kaikki? \nGeorg Kallweit / viulu\nElina Albach / cembalo \nTuttujen kuuden viulusonaatin ja kahden continuo-sonaatin BWV 1021/1023 lisäksi on olemassa teoksia\, joiden tekijästä ei ole täyttä varmuutta. Kyseessä saattaa olla Bachin itsensä tekemiä teoksia tai hänen aikalaistensa tai oppilaidensa töitä. Muodon ja korkealaatuisuuden vuoksi on mielenkiintoista kuunnella rinnan sonaatteja\, joista osa on aitoja\, osa sovituksia ja osan tekijä jää arvoitukseksi. Näitä kaikkia kuullaan Bach?-illassa. \nBachin sonaatit viululle ja cembalo-obligatolle ovat erityisiä mestarin laajan tuotannon joukossa. Kuuden sonaatin sarja esitettiin luultavasti kokonaisuudessaan vuoden 1725 tienoilla\, vaikka teosten kehittely jatkuikin uusien sovitusten ja muutosten kautta. Sonaattien erityispiirteenä on viulu- ja cembalostemman samanarvoinen haastavuus. Nautitaan virtuoottisuuden helmistä\, viimeistellystä kontrapunktista\, konsertoivista elementeistä ja ainutlaatuisen laulavista hitaista osista. Bachin tuotannossa tämäntyyppisiä teoksia syntyi suhteessa varsin vähän. Viulusonaattien lisäksi on olemassa gambasonaatit BWV 1027–1029\, huilusonaatit BWV 1030–1032 ja urkutriosonaatit BWV 525–530. Toisin kuin Arcangelo Corellin sonaattimuotoon sävelletyissä viulusonaateissa (vahva viulu\, säestävä continuo) 1700-luvulla\, on Bachin sonaattien hierarkia tasavahva viulun ja continuon välillä. \nIllan vetovoima on tuttujen (BWV 1014/1017\, 1015\, 1019 ja 1023) ja tuntemattomien (BWV 1022 ja 1024) sonaattien vuoropuhelussa. Kuulija saa yllättäviä elämyksiä uusien yhdistelmien myötä. \nKoko festivaaliohjelma ja lippulinkit: encanto.fi/festival\nLisätietoja: encanto@encanto.fi\nLiput: 23/10 € LIVETO
URL:https://svamuli.fi/t/encanto-festival-bach/
LOCATION:Eläintarhan huvila\, Eläintarhantie 14\, Helsinki\, Helsinki\, Suomi
END:VEVENT
BEGIN:VEVENT
DTSTART;TZID=Europe/Helsinki:20180512T180000
DTEND;TZID=Europe/Helsinki:20180512T190000
DTSTAMP:20260426T063104
CREATED:20180427T102948Z
LAST-MODIFIED:20180427T102948Z
UID:1602-1526148000-1526151600@svamuli.fi
SUMMARY:Encanto Festival: TANGO
DESCRIPTION:Tangossa soi sielun kauneus! \nMikko Helenius / bandoneon\, laulu\, piano\nTango Band:\nAnthony Marini / viulu\nLaura Kajander / alttoviulu\nLea Pekkala / sello \nTragikoominen kiista tangon synnyinmaasta suomalaisten ja argentiinalaisten välillä on jo miltei legendaarinen. Onneksi sen lopputulema taipuu samantekeväksi\, kun saamme tuntea tangon vetovoiman ja nauttia sen huumasta. Mikä muu musiikki- tai tanssilaji kuvastaisikaan yhtä paljon melankoliaa\, aiheuttaen samalla onnen kipinöintiä. \nTangon kiihko\, oli se sitten argentiinalaista tai suomalaista\, värittää arjen harmautta\, kun Mikko Helenius sekä Encanto House Bandin riveistä koottu Tango Band tulkitsevat tunteikkaita säveliä lauantain alkuillan iloksi. Konsertissa myös barokkimusiikki ja tango pääsevät kohtaamaan\, kun muusikot tutkailevat\, etsivät ja löytävät fugan muotoja molemmista musiikin tyyleistä. Bandoneonkin pääsee näin ollen osaksi Bachin moniäänistä musiikkia. Illan tunnelmaa syventää latinalaisamerikkalaisen musiikkikulttuurin monitietäjä Alfonso Padillan kertomukset tangosta. \nKoko festivaaliohjelma ja lippulinkit: encanto.fi/festival\nLisätietoja: encanto@encanto.fi\nLiput: 23/10 €\, Yhteislippu TANGO + MY DEAREST\, MY FAIREST 30/17 € LIVETO
URL:https://svamuli.fi/t/encanto-festival-tango/
LOCATION:Villa Kivi\, Linnunlauluntie 7\, Helsinki\, Helsinki\, Suomi
END:VEVENT
BEGIN:VEVENT
DTSTART;TZID=Europe/Helsinki:20180512T200000
DTEND;TZID=Europe/Helsinki:20180512T220000
DTSTAMP:20260426T063104
CREATED:20180427T102739Z
LAST-MODIFIED:20180427T102739Z
UID:1599-1526155200-1526162400@svamuli.fi
SUMMARY:Encanto Festival: My Dearest\, My Fairest
DESCRIPTION:Dinner for two!\nMusiikkina mm. renessanssiajan sefardisävelmiä\, englantilaista barokkia\, italialaisia aarioita\, amerikkalaista bluesia ja espanjalaisia poplauluja \nJuan Kruz Díaz de Garaio Esnaola & Joanna Dudley \nTämä upea musiikkiteatteriproduktio on herättänyt huomiota yleisön keskuudessa ympäri maailmaa. Eleganttia iltaa isännöi juhlallisesti katetun pöydän ääressä istuva hienostunut pariskunta. Heidän välilleen syntyy intiimi ja sydäntäsärkevän kaunis keskustelu – ei suinkaan sanojen\, vaan musiikin kautta. Virtuoosimainen kaksikko on koreografi\, tanssija ja kontratenori Juan Kruz Díaz de Garaio Esnaola ja laulaja\, esiintyjä ja taiteentuottaja Joanna Dudley. He jakavat vieraidensa kanssa kallisarvoisimman intohimonsa\, henkilökohtaisen lelukokoelmansa. Juan ja Joanna välittävät musiikin keinoin rakkauden pitkän historian laulaen\, viheltäen ja käyttäen soittimina leikkipianoa\, kazoota\, soittorasiaa\, lehmänkelloja\, leikkiautoja\, keltaista jänistä\, punaista karhua ja kellopeliä. Musiikkina on renessanssiajan sefardisävelmiä\, englantilaista barokkia\, italialaisia aarioita\, amerikkalaista bluesia ja espanjalaisia poplauluja\, jotka hiljalleen ja hienovaraisin muutoksin kehittyvät rakkaudeksi ja hellyydeksi. \nKoko festivaaliohjelma ja lippulinkit: encanto.fi/festival\nLisätietoja: encanto@encanto.fi\nLiput: 28/15 €\, Yhteislippu TANGO + MY DEAREST\, MY FAIREST 30/17 € LIVETO
URL:https://svamuli.fi/t/encanto-festival-my-dearest-my-fairest/
LOCATION:Musiikkiteatteri Kapsäkki\, Hämeentie 68\, Helsinki\, Helsinki\, Suomi
END:VEVENT
BEGIN:VEVENT
DTSTART;TZID=Europe/Helsinki:20180516T130000
DTEND;TZID=Europe/Helsinki:20180516T140000
DTSTAMP:20260426T063104
CREATED:20180113T100638Z
LAST-MODIFIED:20180113T100638Z
UID:1395-1526475600-1526479200@svamuli.fi
SUMMARY:Café Barock HELSINKI: Vanhan musiikin uudet toivot
DESCRIPTION:Rikhardinkadun kirjaston lounaskonserttisarja Kirjatornissa jatkuu keväällä aina kerran kuussa keskiviikkoisin 17.1.\, 21.2.\, 21.3.\, 18.4. ja 16.5. klo 13. Sarja toteutetaan yhteistyössä Sibelius-Akatemian vanhan musiikin linjan\, Kulttuuriyhdistys Café Barockin ja Rikhardinkadun kirjaston kanssa. \nVapaa pääsy\, tervetuloa!
URL:https://svamuli.fi/t/cafe-barock-helsinki-vanhan-musiikin-uudet-toivot-7/
LOCATION:Rikhardinkadun kirjasto\, Rikhardinkatu 3\, 00130 Helsinki\, Helsinki\, Suomi
END:VEVENT
BEGIN:VEVENT
DTSTART;TZID=Europe/Helsinki:20180518T190000
DTEND;TZID=Europe/Helsinki:20180518T210000
DTSTAMP:20260426T063104
CREATED:20180516T070021Z
LAST-MODIFIED:20180516T070021Z
UID:1617-1526670000-1526677200@svamuli.fi
SUMMARY:FiBO & Amandine
DESCRIPTION:FiBO & Amandine\nOrkesterimusiikin juhlaa \nLeclair–Muffat–Telemann \nAmandine Beyer\, viulu ja liidaus\nSuomalainen barokkiorkesteri \nKonsertti esittelee kolme barokin kosmopoliittia: Georg Muffatin\, Georg Philipp Telemannin ja Jean-Marie Leclairin. Jokainen oli ahkerasti liikkeessä sekä maantieteellisesti että musiikillisesti\, ja kunkin pyrkimyksenä oli yhdistää musiikissaan barokin keskeiset kansalliset tyylit yleiseurooppalaiseksi synteesiksi. \nSinnikkäimmin tähän tähtäsi Muffat. Skottilais-ranskalaiseen perheeseen syntynyt\, saksankielinen ja ympäri Eurooppaa matkustellut säveltäjä halusi tehdä musiikillista rauhantyötä uskonsotien traumatisoimassa Euroopassa ja luoda ”alkusoiton yhtenäisyydelle\, kallisarvoiselle rauhalle\, jota kaikki kansat kaipaavat”. Ranskalaisen\, italialaisen ja itävaltalais-saksalaisen barokkityylin yhdistäminen olikin Muffatin kaltaiselle monikulttuuriselle persoonalle sopiva tehtävä. \nAikanaan äärimmäisen arvostettu ja jopa pahamaineisen tuottelias Telemann sujahteli kameleonttimaisella helppoudella eri tyylien välillä\, kun taas Leclair pystyi sulauttamaan ranskalaisen ja italialaisen sävelkielen yhteen niin luontevasti\, että häntä kutsuttiin Ranskan Vivaldiksi. Molemmat olivat elementissään konserttosäveltäjinä. \nPauliina Fred alustaa konsertin Ritarihuoneella 18.5. kello 18–18.30. \nLue lisää: http://fibo.fi/konsertit/2018/fibo-amandine/ \nLiput 14\,50/29/37 € Ticketmasterista \nKonsertti kuuluu Ritarihuoneen residenssisarjaan. Se kuullaan myös Regensburgin vanhan musiikin päivillä 20.5. \nLipputiedustelut: lippu@fibo.fi \nfibo.fi
URL:https://svamuli.fi/t/fibo-amandine/
LOCATION:Ritarihuone\, Ritarikatu 1\, Helsinki\, Helsinki\, Suomi
END:VEVENT
BEGIN:VEVENT
DTSTART;TZID=Europe/Helsinki:20180520T160000
DTEND;TZID=Europe/Helsinki:20180520T170000
DTSTAMP:20260426T063104
CREATED:20180318T114902Z
LAST-MODIFIED:20180318T114902Z
UID:1530-1526832000-1526835600@svamuli.fi
SUMMARY:Hildegard Bingeniläinen: Ordo Virtutum
DESCRIPTION:HILDEGARD BINGENILÄISEN Ordo Virtutum (Hyveiden näytelmä) on tiettävästi maailman vanhin kokonaan säilynyt musiikkinäytelmä. 1100-luvulla eläneen nunnan kirjoittama hyvän ja pahan taistelu on edelleen ajankohtainen. Sielu (Anima) kamppailee moraalikysymysten keskellä apunaan 17 hyvettä. Pahan voimia edustaa miesnäyttelijä – Hildegardin mukaan laulu on suora yhteys Jumalaan\, joten paholainen ei osaa laulaa. Ordo Virtutumia on esitetty Suomessa harvakseltaan\, ja nyt siitä kuullaan konserttiversio. \nNaiskamarikuoro Kaari-ensemblen vie Hildegardin musiikilliseen maailmaan vanhan musiikin spesialisti Aino Peltomaa\, joka myös laulaa esityksissä itse. Muissa rooleissa ovat Eira Karlson (sielu) ja Valter Maasalo (paholainen). \nLIPUT 20 € / 15 €\nTuntia ennen ovelta tai ennakkoon verkkokaupasta:\nwww.holvi.com/shop/kaariensemble \nAlennusryhmät: opiskelijat\, eläkeläiset\, varusmiehet\, lapset 7-17 v; alle 7-vuotiaat ilmaiseksi.
URL:https://svamuli.fi/t/hildegard-bingenilainen-ordo-virtutum/
LOCATION:Olaus Petrin kirkko\, Minervankatu 6\, 00100 Helsinki\, Helsinki\, Suomi
END:VEVENT
BEGIN:VEVENT
DTSTART;TZID=Europe/Helsinki:20180520T180000
DTEND;TZID=Europe/Helsinki:20180520T190000
DTSTAMP:20260426T063104
CREATED:20180502T145927Z
LAST-MODIFIED:20180502T145927Z
UID:1606-1526839200-1526842800@svamuli.fi
SUMMARY:Huiluyhtye Flauto dolcen konsertti
DESCRIPTION:Vantaan musiikkiopiston nokkahuiluyhtyeen kevätkonsertti \n10-henkinen nokkahuiluyhtye johtajanaan Satu Parkkonen & Laura Vihreäpuu\, cembalo. \nKonsertissa kuullaan mm. Händelin Concerto Grosso nro 1.\nOhjelma ovelta 10 euroa\, vapaa pääsy. \n”Flauto Dolcessa on 10 soittajaa ja soittiminamme ovat erikokoiset nokkahuilut pikkuisesta sopraninosta kaksimetrisiin subbassonokkahuiluihin. Soitamme musiikkia renessanssista barokin kautta nykymusiikkiin ja teemme yhteistyötä myös laulajien kanssa. Cembalistimme on Laura Vihreäpuu\, joka toimii opettajana mm. Vantaan musiikkiopistolla.”
URL:https://svamuli.fi/t/huiluyhtye-flauto-dolcen-konsertti/
LOCATION:Korson kirkko\, Merikotkantie 4\, 01450 Vantaa\, Vantaa\, Suomi
END:VEVENT
BEGIN:VEVENT
DTSTART;TZID=Europe/Helsinki:20180520T200000
DTEND;TZID=Europe/Helsinki:20180520T220000
DTSTAMP:20260426T063104
CREATED:20180516T070228Z
LAST-MODIFIED:20180516T070228Z
UID:1619-1526846400-1526853600@svamuli.fi
SUMMARY:FiBO & Amandine (Regensburg)
DESCRIPTION:FiBO & Amandine\nOrkesterimusiikin juhlaa \nLeclair–Muffat–Telemann \nAmandine Beyer\, viulu ja liidaus\nSuomalainen barokkiorkesteri \nKonsertti esittelee kolme barokin kosmopoliittia: Georg Muffatin\, Georg Philipp Telemannin ja Jean-Marie Leclairin. Jokainen oli ahkerasti liikkeessä sekä maantieteellisesti että musiikillisesti\, ja kunkin pyrkimyksenä oli yhdistää musiikissaan barokin keskeiset kansalliset tyylit yleiseurooppalaiseksi synteesiksi. \nSinnikkäimmin tähän tähtäsi Muffat. Skottilais-ranskalaiseen perheeseen syntynyt\, saksankielinen ja ympäri Eurooppaa matkustellut säveltäjä halusi tehdä musiikillista rauhantyötä uskonsotien traumatisoimassa Euroopassa ja luoda ”alkusoiton yhtenäisyydelle\, kallisarvoiselle rauhalle\, jota kaikki kansat kaipaavat”. Ranskalaisen\, italialaisen ja itävaltalais-saksalaisen barokkityylin yhdistäminen olikin Muffatin kaltaiselle monikulttuuriselle persoonalle sopiva tehtävä. \nAikanaan äärimmäisen arvostettu ja jopa pahamaineisen tuottelias Telemann sujahteli kameleonttimaisella helppoudella eri tyylien välillä\, kun taas Leclair pystyi sulauttamaan ranskalaisen ja italialaisen sävelkielen yhteen niin luontevasti\, että häntä kutsuttiin Ranskan Vivaldiksi. Molemmat olivat elementissään konserttosäveltäjinä. \nLue lisää: http://fibo.fi/konsertit/2018/fibo-amandine/ \nwww.fibo.fi\nwww.tagealtermusik-regensburg.de
URL:https://svamuli.fi/t/fibo-amandine-regensburg/
LOCATION:Dreieinigkeitskirche\, Am Ölberg 1\, Regensburg\, Regensburg\, Saksa
END:VEVENT
BEGIN:VEVENT
DTSTART;TZID=Europe/Helsinki:20180523T190000
DTEND;TZID=Europe/Helsinki:20180523T210000
DTSTAMP:20260426T063104
CREATED:20180424T092258Z
LAST-MODIFIED:20180424T092258Z
UID:1583-1527102000-1527109200@svamuli.fi
SUMMARY:If All the World Were Paper
DESCRIPTION:If All the World Were Paper\nRiikka Talvitien miniatyyrejä ja englantilaista 1600-luvun musiikkia \nBarokkiyhtye Cornucopia soittaa Riikka Talvitien uusia miniatyyrejä barokkiyhtyeelle sekä 1600-luvun englantilaista musiikkia. Soittamassa Pekka Silén\, nokkahuilu\, Louna Hosia\, viola da gamba sekä Marianna Henriksson\, cembalo. Mukana esityksessä myös säveltäjä Talvitie. \nEsitys on otsikoiden leikki\, jossa musiikkikappaleiden nimet kertovat enemmän kuin osaamme arvatakaan. Lähdemme leikkiin kysymällä\, mitä tapahtuisi\, jos maailma olisi paperia. Olisiko meri silloin mustetta vai öljyä? Ja mitä öljystä tulee mieleen? \nSävellykset voivat syntyä pienistä arkisista havainnoista\, kuten sanomalehden lukemisesta tai peiliin vilkaisusta. Toisaalta ne voivat pitää sisällään suuria perustavanlaatuisia kysymyksiä olemisesta ja ympäröivästä yhteiskunnasta. \nEsityksessä vanha musiikki 1600-luvun Englannista risteilee uuden musiikin kanssa. Konsertin säveltäjiä ovat sotilas T. Hume\, urkujenrakentaja J. Bull\, musiikkiteoreetikko M. Locke\, urkuri H. Purcell\, kirjakauppias J. Playford ja säveltäjyyden rajoja etsivä R. Talvitie. \nKonserttipaikka on anniskeluravintola\, tarkoituksella\, sillä tämän esityksen juuret eivät ole hovissa\, kirkossa tai teatterissa – vaan pubissa\, jossa tarinat kertovat arjen henkilökohtaisista kokemuksista. \nEsityksessä puhuu myös piirtoheitin\, poisheitetty tarkkailija. \nLiput Tiketistä 20\,- / 18\,- (Korjaamolaiset) /10.- (opiskelijat\, eläkeläiset\, työttömät\, lapset) \nLiput ovelta 22 € / Korjaamolainen 20 €/ 10\,- (opiskelijat\, eläkeläiset\, työttömät\, lapset) – mikäli jäljellä. \nEteispalvelu 3\,-
URL:https://svamuli.fi/t/if-all-the-world-were-paper/
LOCATION:Korjaamon Vintti\, Töölönkatu 51 a–b\, 00250 Helsinki\, Helsinki\, Suomi
END:VEVENT
BEGIN:VEVENT
DTSTART;TZID=Europe/Helsinki:20180525T180000
DTEND;TZID=Europe/Helsinki:20180525T190000
DTSTAMP:20260426T063104
CREATED:20180512T063240Z
LAST-MODIFIED:20180512T063240Z
UID:1611-1527271200-1527274800@svamuli.fi
SUMMARY:Johann & Johann - cembalokonserttojen ilta
DESCRIPTION:Johannit Ludwig Krebs ja Sebastian Bach sävelsivät aikanaan työvelvoitteekseen\, promootiomielessä\, ärsyttääkseen\, huvin vuoksi ja kanssamuusikoittensa iloksi paljon musiikkia\, muiden muassa lukuisia konserttoja. Tässä konsertissa niistä kuullaan kaksi: \nJohann Ludwig Krebs (1713-1780):\nKonsertto cembalolle ja oboelle (Krebs-WV 204) \nSanni Antikainen\, cembalo\nPiia Maunula\, barokkioboe \nJohann Sebastian Bach (1685-1750):\nBrandenburgilainen konsertto nro 5 (BWV 1050) \nAura Visala\, cembalo\nIlkka Eronen\, traverso\nKaisa Ruotsalainen\, barokkiviulu \nMukana menossa jousiyhtye\, jossa soittavat: \nAlina Järvelä & Kaisa Ruotsalainen\, barokkiviulu\nMargarethe Breit\, barokkialttoviulu\nTatu Ahola\, barokkisello\nIlkka Heinonen\, violone \nKonsertti on osa Sanni Antikaisen ja Aura Visalan cembalonsoiton A-kurssitutkintoa Taideyliopiston Sibelius-Akatemiassa.
URL:https://svamuli.fi/t/johann-johann-cembalokonserttojen-ilta/
LOCATION:Saksalainen kirkko\, Unioninkatu 1\, 00130 Helsinki\, Helsinki\, Suomi
END:VEVENT
BEGIN:VEVENT
DTSTART;TZID=Europe/Helsinki:20180525T190000
DTEND;TZID=Europe/Helsinki:20180525T200000
DTSTAMP:20260426T063104
CREATED:20180502T145723Z
LAST-MODIFIED:20180502T145723Z
UID:1604-1527274800-1527278400@svamuli.fi
SUMMARY:Kevätbarokin solinaa
DESCRIPTION:Viola Räisänen\, barokkiviulu ja Anna-Maria Lehtoaho\, cembalo \nOhjelmassa\nArcangelo Corelli: Violin Sonata No.6 in A Major\, Op.5\nÉlisabeth Jacquet de La Guerre: Les pièces de clavecin\, pièces in D Minor\nJohann Sebastian Bach: Violin Sonata No.6 in G Major BWV 1019 \nVapaa pääsy\, ohjelman hinta 10 euroa.
URL:https://svamuli.fi/t/kevatbarokin-solinaa/
LOCATION:Korson kirkko\, Merikotkantie 4\, 01450 Vantaa\, Vantaa\, Suomi
END:VEVENT
BEGIN:VEVENT
DTSTART;TZID=Europe/Helsinki:20180526T180000
DTEND;TZID=Europe/Helsinki:20180526T200000
DTSTAMP:20260426T063104
CREATED:20180508T152709Z
LAST-MODIFIED:20180508T152709Z
UID:1608-1527357600-1527364800@svamuli.fi
SUMMARY:Onhan kukittu kerta!
DESCRIPTION:Anna Pulakan A-tutkintokonsertti\nGabrielli\, J. S. Bach\, Jacchini\, Barrière\, Platti \nAnna Pulakka\, barokkisello\nAnnamari Pölhö\, cembalo\nPieta Mattila\, barokkisello\nSibelius-Akatemian vanhan musiikin jousiyhtye \nVapaa pääsy
URL:https://svamuli.fi/t/onhan-kukittu-kerta/
LOCATION:Saksalainen kirkko\, Unioninkatu 1\, 00130 Helsinki\, Helsinki\, Suomi
END:VEVENT
BEGIN:VEVENT
DTSTART;TZID=Europe/Helsinki:20180527T180000
DTEND;TZID=Europe/Helsinki:20180527T200000
DTSTAMP:20260426T063104
CREATED:20180305T135305Z
LAST-MODIFIED:20180305T135305Z
UID:1498-1527444000-1527451200@svamuli.fi
SUMMARY:Ylistys ajasta aikaan - Bach kohtaa Arvo Pärtin
DESCRIPTION:Vantaan Kanttorit yhtenä kuorona! Tätä harvinaista herkkua kuulet konsertissa\, jonka aikajana on 1700-luvulta aina vuoteen 1989 saakka. Barokin runsaus vai Pärtin riisuttu lumo – kummalla tavalla sinun sielusi soi? \nJ.S. Bach: Fuuga teoksesta Musikalisches Opfer\nJ.S. Bach: Messu BWV 235 (g-molli)\nArvo Pärt: Magnificat\nJ.S. Bach: Messu BWV 236 (G-duuri) \nVantaan kanttorien juhlakuoro. Orkesterina Espoon barokki. Johtaa Kaapo Ijas \nVapaa pääsy\, ohjelma 15€
URL:https://svamuli.fi/t/ylistys-ajasta-aikaan-bach-kohtaa-arvo-partin/
LOCATION:Pyhän Laurin kirkko\, Kirkkotie 45\, Vantaa\, Vantaa\, Suomi
END:VEVENT
BEGIN:VEVENT
DTSTART;TZID=Europe/Helsinki:20180529T190000
DTEND;TZID=Europe/Helsinki:20180529T200000
DTSTAMP:20260426T063104
CREATED:20180522T065314Z
LAST-MODIFIED:20180522T065314Z
UID:1622-1527620400-1527624000@svamuli.fi
SUMMARY:Iltamusiikki Pyhän Sydämen kappelissa
DESCRIPTION:Johanna Leponiemi\, barokkiviulu ja Petteri Pitko\, cembalo.\nFontana – Biber – Rebel – C.Ph.E. Bach \nKonsertti esittelee rikkaasti ja monipuolisesti viulu-cembalomusiikin historiallista kehitystä eri puolilla Eurooppaa vuosien 1600-1750 välillä. Italialaisen musiikin melodisuudesta ja kepeydestä siirrytään naturalistisen ilmeikkääseen luonnonkuvaukseen ja ranskalaisen tyylitaituruuden kautta klassisen kamarimusisoinnin alkulähteille. Konsertti kuuluu Novian barokkimurujen opinnäytekonserttien sarjaan.
URL:https://svamuli.fi/t/iltamusiikki-pyhan-sydamen-kappelissa/
LOCATION:Pyhän Sydämen kappeli\, Kirstinkatu 1\, 00530 Helsinki\, Helsinki\, Suomi
END:VEVENT
BEGIN:VEVENT
DTSTART;TZID=Europe/Helsinki:20180530T190000
DTEND;TZID=Europe/Helsinki:20180530T210000
DTSTAMP:20260426T063104
CREATED:20180522T065535Z
LAST-MODIFIED:20180522T065535Z
UID:1625-1527706800-1527714000@svamuli.fi
SUMMARY:Iltamusiikki Pyhän Sydämen kappelissa
DESCRIPTION:Anna Rinta-Rahko\, G-violone ja kontrabasso \nOhjelmassa Salaverden\, Rognonin\, Gibbonsin\, F.Couperinin\, Buxtehuden\, J.S Bachin\, Dragonettin ja Rossinin musiikkia. \nMukana myös:\nHelianna Herkkola\, sopraano\nInka Pärssinen\, trumpetti\nMaija Lampela\, viola da gamba\nJaana Haanterä\, Laura Kangas\, Laura Kokko ja Anna Rainio\, viulu\nRiitta-Liisa Ristiluoma\, alttoviulu\nHeidi Peltoniemi ja Anna Pulakka\, sello\nKirsimarja Kiviruusu\, Jouko Laivuori ja Petteri Pitko\, cembalo
URL:https://svamuli.fi/t/iltamusiikki-pyhan-sydamen-kappelissa-2/
LOCATION:Pyhän Sydämen kappeli\, Kirstinkatu 1\, 00530 Helsinki\, Helsinki\, Suomi
END:VEVENT
END:VCALENDAR