BEGIN:VCALENDAR
VERSION:2.0
PRODID:-//Suomen vanhan musiikin liitto ry - ECPv6.15.17.1//NONSGML v1.0//EN
CALSCALE:GREGORIAN
METHOD:PUBLISH
X-WR-CALNAME:Suomen vanhan musiikin liitto ry
X-ORIGINAL-URL:https://svamuli.fi
X-WR-CALDESC:Tapahtumat Suomen vanhan musiikin liitto ry
REFRESH-INTERVAL;VALUE=DURATION:PT1H
X-Robots-Tag:noindex
X-PUBLISHED-TTL:PT1H
BEGIN:VTIMEZONE
TZID:Europe/Helsinki
BEGIN:DAYLIGHT
TZOFFSETFROM:+0200
TZOFFSETTO:+0300
TZNAME:EEST
DTSTART:20250330T010000
END:DAYLIGHT
BEGIN:STANDARD
TZOFFSETFROM:+0300
TZOFFSETTO:+0200
TZNAME:EET
DTSTART:20251026T010000
END:STANDARD
BEGIN:DAYLIGHT
TZOFFSETFROM:+0200
TZOFFSETTO:+0300
TZNAME:EEST
DTSTART:20260329T010000
END:DAYLIGHT
BEGIN:STANDARD
TZOFFSETFROM:+0300
TZOFFSETTO:+0200
TZNAME:EET
DTSTART:20261025T010000
END:STANDARD
BEGIN:DAYLIGHT
TZOFFSETFROM:+0200
TZOFFSETTO:+0300
TZNAME:EEST
DTSTART:20270328T010000
END:DAYLIGHT
BEGIN:STANDARD
TZOFFSETFROM:+0300
TZOFFSETTO:+0200
TZNAME:EET
DTSTART:20271031T010000
END:STANDARD
END:VTIMEZONE
BEGIN:VEVENT
DTSTART;TZID=Europe/Helsinki:20260426T160000
DTEND;TZID=Europe/Helsinki:20260426T170000
DTSTAMP:20260426T021548
CREATED:20260416T144611Z
LAST-MODIFIED:20260416T144611Z
UID:9038-1777219200-1777222800@svamuli.fi
SUMMARY:Amore Barocco: Musiikkia matkan varrelta
DESCRIPTION:Amore Barocco -orkesteri soittaa barokin ajan musiikkia nykyisestä valtavirrasta poikkeavassa vireessä ja kunnioittaa aikakaudelle tyypillisiä ilmaisutapoja. Orkesteri toimii harrastepohjalta. Otamme oppitunteja barokkimusiikkiin erikoistuneilta eturivin taiteilijoilta\, jota varten keräämme varoja järjestämällä konsertteja ja barokkitanssiaisia. Orkesterin ohjaaja on MuM Jasper Koekoek.
URL:https://svamuli.fi/t/amore-barocco-musiikkia-matkan-varrelta/
LOCATION:Oulunkylän kirkko\, Teinintie 10\, Helsinki\, Helsinki\, Suomi
END:VEVENT
END:VCALENDAR