BEGIN:VCALENDAR
VERSION:2.0
PRODID:-//Suomen vanhan musiikin liitto ry - ECPv6.15.17.1//NONSGML v1.0//EN
CALSCALE:GREGORIAN
METHOD:PUBLISH
X-WR-CALNAME:Suomen vanhan musiikin liitto ry
X-ORIGINAL-URL:https://svamuli.fi
X-WR-CALDESC:Tapahtumat Suomen vanhan musiikin liitto ry
REFRESH-INTERVAL;VALUE=DURATION:PT1H
X-Robots-Tag:noindex
X-PUBLISHED-TTL:PT1H
BEGIN:VTIMEZONE
TZID:Europe/Helsinki
BEGIN:DAYLIGHT
TZOFFSETFROM:+0200
TZOFFSETTO:+0300
TZNAME:EEST
DTSTART:20250330T010000
END:DAYLIGHT
BEGIN:STANDARD
TZOFFSETFROM:+0300
TZOFFSETTO:+0200
TZNAME:EET
DTSTART:20251026T010000
END:STANDARD
BEGIN:DAYLIGHT
TZOFFSETFROM:+0200
TZOFFSETTO:+0300
TZNAME:EEST
DTSTART:20260329T010000
END:DAYLIGHT
BEGIN:STANDARD
TZOFFSETFROM:+0300
TZOFFSETTO:+0200
TZNAME:EET
DTSTART:20261025T010000
END:STANDARD
BEGIN:DAYLIGHT
TZOFFSETFROM:+0200
TZOFFSETTO:+0300
TZNAME:EEST
DTSTART:20270328T010000
END:DAYLIGHT
BEGIN:STANDARD
TZOFFSETFROM:+0300
TZOFFSETTO:+0200
TZNAME:EET
DTSTART:20271031T010000
END:STANDARD
END:VTIMEZONE
BEGIN:VEVENT
DTSTART;TZID=Europe/Helsinki:20260424T180000
DTEND;TZID=Europe/Helsinki:20260424T193000
DTSTAMP:20260424T122808
CREATED:20260416T143052Z
LAST-MODIFIED:20260416T143052Z
UID:9032-1777053600-1777059000@svamuli.fi
SUMMARY:SibA: Barokkiperjantai
DESCRIPTION:Hardy Hännikäinen ja Mimosa Laine\, nokkahuilu\, Ester Nurminen\, viola da gamba\, Ronja Pahaoja\, teorbi\, sekä Alicia Ibañez-Resjan ja Matias Häkkinen\, cembalo. \nMusiikkia säveltäjiltä Dieupart\, van Eyck\, Moser\, Mancini\, Pandolfi Mealli\, Hotteterre\, Fontana ja Bach.
URL:https://svamuli.fi/t/siba-barokkiperjantai-12/
LOCATION:Sibelius-Akatemia R-talo\, Pikkusali\, Pohjoinen Rautatienkatu 9\, Helsinki\, 00100
END:VEVENT
BEGIN:VEVENT
DTSTART;TZID=Europe/Helsinki:20260424T183000
DTEND;TZID=Europe/Helsinki:20260424T193000
DTSTAMP:20260424T122808
CREATED:20260416T150741Z
LAST-MODIFIED:20260416T150741Z
UID:9051-1777055400-1777059000@svamuli.fi
SUMMARY:Turun vanha musiikki: Kevätkonsertti
DESCRIPTION:Turun vanha musiikki ry:n kevätkonsertti yhdistelee musiikkia\, laulua ja runoutta näyttämölliseksi kokonaisuudeksi\, joka käsittelee ikuisia kysymyksiä elämästä\, halusta\, kuolemasta ja kaipuusta. Näyttelijä Matteus Blad ja sellisti Carolina Bjon tarjoavat yhdessä inspiroivan elämyksen\, jossa Johann Sebastian Bachin\, Josef D’All Abacon ja Carl Michael Bellmanin teokset saavat uuden elämän. \nEsiintyjinä sellisti Carolina Bjon ja näyttelijä Matteus Blad.\nEsteettömyys: konsertti järjestetään Qwenselin talon salissa\, johon pääsee avustettuna pyörätuolilla. \nLiput:\nAikuiset 19 €\nAlennuslippu (opiskelija\, eläkeläinen\, lapsi\, työtön\, varusmies\, siviilipalvelusta suorittava) 15 €\nTurun vanha musiikki ry:n kannatusjäsen 11 €
URL:https://svamuli.fi/t/turun-vanha-musiikki-kevatkonsertti/
LOCATION:Qwenselin talo\, Läntinen Rantakatu 13 b\, 20100 Turku\, Turku\, Finland
END:VEVENT
END:VCALENDAR