BEGIN:VCALENDAR
VERSION:2.0
PRODID:-//Suomen vanhan musiikin liitto ry - ECPv6.15.17.1//NONSGML v1.0//EN
CALSCALE:GREGORIAN
METHOD:PUBLISH
X-WR-CALNAME:Suomen vanhan musiikin liitto ry
X-ORIGINAL-URL:https://svamuli.fi
X-WR-CALDESC:Tapahtumat Suomen vanhan musiikin liitto ry
REFRESH-INTERVAL;VALUE=DURATION:PT1H
X-Robots-Tag:noindex
X-PUBLISHED-TTL:PT1H
BEGIN:VTIMEZONE
TZID:Europe/Helsinki
BEGIN:DAYLIGHT
TZOFFSETFROM:+0200
TZOFFSETTO:+0300
TZNAME:EEST
DTSTART:20220327T010000
END:DAYLIGHT
BEGIN:STANDARD
TZOFFSETFROM:+0300
TZOFFSETTO:+0200
TZNAME:EET
DTSTART:20221030T010000
END:STANDARD
BEGIN:DAYLIGHT
TZOFFSETFROM:+0200
TZOFFSETTO:+0300
TZNAME:EEST
DTSTART:20230326T010000
END:DAYLIGHT
BEGIN:STANDARD
TZOFFSETFROM:+0300
TZOFFSETTO:+0200
TZNAME:EET
DTSTART:20231029T010000
END:STANDARD
BEGIN:DAYLIGHT
TZOFFSETFROM:+0200
TZOFFSETTO:+0300
TZNAME:EEST
DTSTART:20240331T010000
END:DAYLIGHT
BEGIN:STANDARD
TZOFFSETFROM:+0300
TZOFFSETTO:+0200
TZNAME:EET
DTSTART:20241027T010000
END:STANDARD
END:VTIMEZONE
BEGIN:VEVENT
DTSTART;TZID=Europe/Helsinki:20230223T190000
DTEND;TZID=Europe/Helsinki:20230223T203000
DTSTAMP:20260425T004748
CREATED:20230207T185823Z
LAST-MODIFIED:20230207T185823Z
UID:4070-1677178800-1677184200@svamuli.fi
SUMMARY:Oulun Vanha Musiikki ja Oulu Sinfonia: Tanssiva helminauha
DESCRIPTION:Tanssiva helminauha \nOulun vanha musiikki ry ja Oulu Sinfonia yhteistyössä \nSana barokki tulee ranskan kielen termistä barroque\, joka tarkoittaa omituisen muotoista helmeä. Barokkimusiikista tutut Courante\, Chaconne\, Sarabande ja Gavotti lienevät tuttuja sanoja musiikin suurkuluttajille\, mutta moniko on nähnyt niitä tanssittavan? Nyt siihen tarjoutuu mahdollisuus\, kun Oulu Sinfonia\, Aurinkokuninkaan luottosäveltäjä Jean-Féry Rebel ja barokkimusiikin rikkaudet liikekieleksi muuttava Steven Player johdattelevat ranskalaistanssien kiehtovaan maailmaan. \nBjarte Eike\, kapellimestari \nHans Knut\, cembalo \nStephen Player\, barokkitanssi \nOulu Sinfonia \nLiput: 29 € perushinta\, 24 € eläkeläinen\, 16 € opiskelija\, työtön\, lapsi (3–17 v). Kaikukortilla ilmainen sisäänpääsy konserttiin (lippuja rajoitettu määrä). Kaikukorttiliput ovat noudettavissa etukäteen vain Oulu10-asiointipisteistä. Hinnat sisältävät käsittelykulut. Erikseen veloitetaan tilausmaksu 2 €/tilaus Ticketmasterin lippukaupasta tai 1\,50 €/tilaus Ticketmasterin verkkokaupasta ostettaessa. Tilausmaksu ei koske Madetojan salin lippukaupasta ostettuja lippuja eikä Kaikukortti-asiakkaita.
URL:https://svamuli.fi/t/oulun-vanha-musiikki-ja-oulu-sinfonia-tanssiva-helminauha/
LOCATION:Oulun Tuomiokirkko\, Kirkkokatu 3 A\, Oulu\, 90100\, Suomi
END:VEVENT
END:VCALENDAR