BEGIN:VCALENDAR
VERSION:2.0
PRODID:-//Suomen vanhan musiikin liitto ry - ECPv6.15.17.1//NONSGML v1.0//EN
CALSCALE:GREGORIAN
METHOD:PUBLISH
X-WR-CALNAME:Suomen vanhan musiikin liitto ry
X-ORIGINAL-URL:https://svamuli.fi
X-WR-CALDESC:Tapahtumat Suomen vanhan musiikin liitto ry
REFRESH-INTERVAL;VALUE=DURATION:PT1H
X-Robots-Tag:noindex
X-PUBLISHED-TTL:PT1H
BEGIN:VTIMEZONE
TZID:Europe/Helsinki
BEGIN:DAYLIGHT
TZOFFSETFROM:+0200
TZOFFSETTO:+0300
TZNAME:EEST
DTSTART:20220327T010000
END:DAYLIGHT
BEGIN:STANDARD
TZOFFSETFROM:+0300
TZOFFSETTO:+0200
TZNAME:EET
DTSTART:20221030T010000
END:STANDARD
BEGIN:DAYLIGHT
TZOFFSETFROM:+0200
TZOFFSETTO:+0300
TZNAME:EEST
DTSTART:20230326T010000
END:DAYLIGHT
BEGIN:STANDARD
TZOFFSETFROM:+0300
TZOFFSETTO:+0200
TZNAME:EET
DTSTART:20231029T010000
END:STANDARD
BEGIN:DAYLIGHT
TZOFFSETFROM:+0200
TZOFFSETTO:+0300
TZNAME:EEST
DTSTART:20240331T010000
END:DAYLIGHT
BEGIN:STANDARD
TZOFFSETFROM:+0300
TZOFFSETTO:+0200
TZNAME:EET
DTSTART:20241027T010000
END:STANDARD
END:VTIMEZONE
BEGIN:VEVENT
DTSTART;TZID=Europe/Helsinki:20230216T190000
DTEND;TZID=Europe/Helsinki:20230216T203000
DTSTAMP:20260425T004646
CREATED:20230125T100557Z
LAST-MODIFIED:20230125T100557Z
UID:3981-1676574000-1676579400@svamuli.fi
SUMMARY:Kymi Sinfonietta ja Ensemble Nylandia: Juhlamusiikkia 1700-luvulta Ranskasta ja Ruotsista
DESCRIPTION:Symphonie du Concert Municipal des Honorables Villes de Kotka et d’Helsinki – Juhlamusiikkia 1700-luvulta Ranskasta ja Ruotsista \nKymi Sinfonietta on aloittanut yhteistyön suurta arvostusta barokkimusiikin saralla nauttivan Ensemble Nylandian kanssa. Perinteisen orkesterikokoonpanon ja barokkimusiikkiin erikoistuneen Nylandian värikäs yhteissointi luo raikkaan ja monipuolisen tulkinnan musiikista\, jota kuultiin Artois’n kreivin eli tulevan Ranskan kuningas Kaarle X:n häissä vuonna 1773. Ranskassa tuolloin suosittujen säveltäjien teoksia sisältävät orkesterisarjat kokosi säveltäjä François Francœur. Konsertissa kuullaan myös otteita saman ajan Ruotsin juhlamusiikista ja hovisäveltäjäsuvun Dübeneiden nuottiarkistosta löytyneestä tanssisarjasta\, joka mukailee tuolloin muodissa ollutta André Campran L’Europe Galante -oopperaa. Konsertin liidaavat yhdessä Kymi Sinfoniettan konserttimestari Raymond Cox sekä Ensemble Nylandian taiteellinen johtaja Matias Häkkinen. Tästä ainutlaatuisesta periodiorkesterin ja kaupunginorkesterin yhteistyöstä päästään nauttimaan Helsingin lisäksi myös Kotkassa 15.2.2023. \nAlkusoittoja\, aireja\, gavotteja\, menuetteja\, bourréeita\, chaconneja ym. säveltäjiltä F. Francoeur\, J-P Rameau\, A. Campra\, H.M. Berton\, G. Düben ja J.V. Meder. \nLiidaus: \nRaymond Cox ja Matias Häkkinen \nEnsemble Nylandia & Kymi Sinfonietta \nLiput: 25€ aikuiset\, 20€ eläkeläiset\, 11€ opiskelijat ja työttömät \nLiput: www.ticketmaster.fi ja Ticketmasterin lippukaupat\, Kymi Sinfoniettan orkesteritoimisto\, Kotkankatu 7\, avoinna ma-to klo 10-12 ja klo 13-15. Sekä tuntia ennen ovelta.  \nTiedustelut ja varaukset: orkesteritoimisto p. 05 234 4891 \nryhmämyynti p. 050 3232 050
URL:https://svamuli.fi/t/kymi-sinfonietta-ja-ensemble-nylandia-juhlamusiikkia-1700-luvulta-ranskasta-ja-ruotsista/
LOCATION:Vanha kirkko\, Lönnrotinkatu 6\, Helsinki\, Helsinki\, Suomi
END:VEVENT
END:VCALENDAR