BEGIN:VCALENDAR
VERSION:2.0
PRODID:-//Suomen vanhan musiikin liitto ry - ECPv6.15.17.1//NONSGML v1.0//EN
CALSCALE:GREGORIAN
METHOD:PUBLISH
X-ORIGINAL-URL:https://svamuli.fi
X-WR-CALDESC:Tapahtumat Suomen vanhan musiikin liitto ry
REFRESH-INTERVAL;VALUE=DURATION:PT1H
X-Robots-Tag:noindex
X-PUBLISHED-TTL:PT1H
BEGIN:VTIMEZONE
TZID:Europe/Helsinki
BEGIN:DAYLIGHT
TZOFFSETFROM:+0200
TZOFFSETTO:+0300
TZNAME:EEST
DTSTART:20220327T010000
END:DAYLIGHT
BEGIN:STANDARD
TZOFFSETFROM:+0300
TZOFFSETTO:+0200
TZNAME:EET
DTSTART:20221030T010000
END:STANDARD
BEGIN:DAYLIGHT
TZOFFSETFROM:+0200
TZOFFSETTO:+0300
TZNAME:EEST
DTSTART:20230326T010000
END:DAYLIGHT
BEGIN:STANDARD
TZOFFSETFROM:+0300
TZOFFSETTO:+0200
TZNAME:EET
DTSTART:20231029T010000
END:STANDARD
BEGIN:DAYLIGHT
TZOFFSETFROM:+0200
TZOFFSETTO:+0300
TZNAME:EEST
DTSTART:20240331T010000
END:DAYLIGHT
BEGIN:STANDARD
TZOFFSETFROM:+0300
TZOFFSETTO:+0200
TZNAME:EET
DTSTART:20241027T010000
END:STANDARD
END:VTIMEZONE
BEGIN:VEVENT
DTSTART;TZID=Europe/Helsinki:20230212T150000
DTEND;TZID=Europe/Helsinki:20230212T160000
DTSTAMP:20260425T005400
CREATED:20230110T134529Z
LAST-MODIFIED:20230110T134529Z
UID:3909-1676214000-1676217600@svamuli.fi
SUMMARY:Café Barock Universumissa: Lähteelle istukaamme
DESCRIPTION:Hvila vid denna Källa – Lähteelle istukaamme \nCarl Michael Bellmanin (1740–1795) lauluja aikansa tyylin mukaisesti esitettyinä.  \nBellmann Ensemble: \nPentti Hildén\, laulu ja mandora \nAnna Villberg\, sopraano \nPauliina Fred\, traverso ja nokkahuilu \nMarkus Pelli\, barokkisello. \nCarl Michael Bellman (1740–1795) on eräs Ruotsin kaikkien aikojen suurimpia runoilijoita; riimivirtuoosi\, joka taitoi kaikki runouden lajit. Kuuluisaksi hänet teki kuitenkin nimenomaisesti hänen parodiset juomalaulunsa\, jotka ehdittiin koota ja julkaista hänen elinaikanaan: ”Fredmans Epistlar” (1790) ja ”Fredmans Sånger” (1791). Molemmat kirjat ovat varsinaisia runsaudensarvia täynnä paitsi hersyvää runoutta myös unohtumattomia sävelmiä\, upeata 1700-luvun musiikkia\, jonka Bellman lainasi mm. tuolloin suosituista ranskalaisista oopperoista. Monet näistä sävelmistä ovat eläneet meidän päiviimme asti nimenomaan Bellmanin versioina. Musiikki ja muusikot nousevat selkeästi esiin näissä lauluissa. Juuri heidän soittonsa vietteleminä antaudumme hetken nautinnoille sävelten viedessä meidät Bacchuksen ja Fröjan (pohjolan Venuksen) valtakuntiin. Olemme tarttuneet tähän\, ja esityksessämme voi kuulla kaupunginvirtuoosi Bergin huilunsoittoa tai Movitzin selloa Cajsa Liisan sängyn äärellä. Soitto tuo myös lohtua Kaaronin viittoillessa tuonelan virralta.  \nEsitys on rikkaan monimuotoinen ja draamallisesti ehyt konserttikokonaisuus\, joka johdattelee yleisön Bellmanin kiehtovaan maailmaan ja aikakauteen. Ohjelma tuo tapahtumat lähelle; olimmehan tuolloin osa Ruotsin valtakuntaa\, ja laulaessamme yleisön kanssa ”Gustavs skål” Bellmanin hyväntekijän Kustaa III kunniaksi laulamme myös omalle tuonaikaiselle hallitsijallemme. Ohjelma on kaksikielinen: Bellmanin huikeiden alkuperäistekstien lomassa kuullaan Achreniuksen\, Kemellin\, Gottlundin\, Hirvisepän\, Kupiaisen\, Ryömän ym. suomennoksia\, näin piirtyy myös kuva Bellmanin laulujen historiasta Suomessa 1700-luvulta nykypäivään. \nLiput ovelta puoli tuntia ennen konserttia\, maksa mitä jaksat – tue taidetta! \nKahvila avoinna ennen konserttia ja väliajalla.
URL:https://svamuli.fi/t/cafe-barock-universumissa-lahteelle-istukaamme/
LOCATION:Teatteri Universum\, Perämiehenkatu 13\, Helsinki\, Helsinki\, Suomi
END:VEVENT
END:VCALENDAR