BEGIN:VCALENDAR
VERSION:2.0
PRODID:-//Suomen vanhan musiikin liitto ry - ECPv6.15.17.1//NONSGML v1.0//EN
CALSCALE:GREGORIAN
METHOD:PUBLISH
X-ORIGINAL-URL:https://svamuli.fi
X-WR-CALDESC:Tapahtumat Suomen vanhan musiikin liitto ry
REFRESH-INTERVAL;VALUE=DURATION:PT1H
X-Robots-Tag:noindex
X-PUBLISHED-TTL:PT1H
BEGIN:VTIMEZONE
TZID:Europe/Helsinki
BEGIN:DAYLIGHT
TZOFFSETFROM:+0200
TZOFFSETTO:+0300
TZNAME:EEST
DTSTART:20220327T010000
END:DAYLIGHT
BEGIN:STANDARD
TZOFFSETFROM:+0300
TZOFFSETTO:+0200
TZNAME:EET
DTSTART:20221030T010000
END:STANDARD
BEGIN:DAYLIGHT
TZOFFSETFROM:+0200
TZOFFSETTO:+0300
TZNAME:EEST
DTSTART:20230326T010000
END:DAYLIGHT
BEGIN:STANDARD
TZOFFSETFROM:+0300
TZOFFSETTO:+0200
TZNAME:EET
DTSTART:20231029T010000
END:STANDARD
BEGIN:DAYLIGHT
TZOFFSETFROM:+0200
TZOFFSETTO:+0300
TZNAME:EEST
DTSTART:20240331T010000
END:DAYLIGHT
BEGIN:STANDARD
TZOFFSETFROM:+0300
TZOFFSETTO:+0200
TZNAME:EET
DTSTART:20241027T010000
END:STANDARD
END:VTIMEZONE
BEGIN:VEVENT
DTSTART;TZID=Europe/Helsinki:20230127T190000
DTEND;TZID=Europe/Helsinki:20230127T200000
DTSTAMP:20260424T232739
CREATED:20221227T120159Z
LAST-MODIFIED:20221227T122707Z
UID:3871-1674846000-1674849600@svamuli.fi
SUMMARY:Aurore: La dolce vista –  Le Miroir de Musique
DESCRIPTION:La dolce vista – Vierailukonsertti Le Miroir de Musique (Sveitsi) \nAuroren vierailukonserttiin saapuu maailmankuulu varhaisen musiikin yhtye Le Miroir de Musique Sveitsistä. Laulun ja historiallisten soittimien\, kuten gitternin ja säkkipillin\, saattelema matka vie meidät renessanssimusiikin syntyhetkiin. \nJo elinaikanaan valtavan suosittu Guillaume Du Fay oli kiistämättä yksi 1400-luvun merkittävimmistä säveltäjistä. Hän oli yksi ensimmäisistä oltremontanoista\, Italian hoveissa työskennelleistä Alppien takaa saapuneista flaamilaisista ja pohjois-ranskalaisista säveltäjistä. Oltremontanojen palkkaamisella pyrittiin rikastamaan kaupunkien kulttuurielämää ja tuomaan niihin ulkopuolelta uusia musiikillisia virtauksia. Tällä kulttuurivaihdolla oli aivan keskeinen vaikutus renessanssimusiikin syntyyn ja kehitykseen. Du Fayn lisäksi kuulemme musiikkia Nicolas Grenonilta\, Johannes de Lymburgialta ja De Lantinsin veljeksiltä. \nTutustu tarkemmin Le Miroir de Musique-yhtyeeseen osoitteessa www.lemiroirdemusique.com \nTaiteilijatapaaminen ja ilmainen kahvitarjoilu 45min ennen konsertin alkua klo 18.15! \nKonsertin linkki:    \nwww.renessanssimusiikkijuhlat.fi/konsertit/pe-27-1-la-dolce-vista-vierailukonsertti-le-miroir-de-musique-sveitsi/ \nLiput 25/20 €\, festivaalipassi 60/50 € osoitteesta www.holvi.com/shop/aurore\, Lippupisteestä ja tuntia ennen konsertteja ovelta. Alle 15-vuotiaat ilmaiseksi. \n*** \nAnna renessanssimusiikin lumota Auroren neljässä\, upeassa konsertissa! Aurore – Helsingin Renessanssimusiikkijuhlat to 26.1. – su 29.1.2023 Paavalinkirkossa. Lue lisää:  \nwww.aurore.fi  \nwww.facebook.com/renessanssimusiikkijuhlat \nwww.instagram.com/aurore.festivaali \nHelsingfors Renässansmusikfestival Aurore 26.-29.1.2023. Läs mera: www.aurore.fi/svenska \nAurore – Helsinki Renaissance Music Festival 26.-29.1.2023 in St. Pauls church.  Read more: www.aurore.fi/english \nJärjestää Renessanssimusiikkia Paavalinkirkossa ry \n 
URL:https://svamuli.fi/t/aurore-la-dolce-vista-le-miroir-de-musique/
LOCATION:Paavalin kirkko\, Sammatintie 5\, Helsinki\, Helsinki\, Suomi
END:VEVENT
END:VCALENDAR