BEGIN:VCALENDAR
VERSION:2.0
PRODID:-//Suomen vanhan musiikin liitto ry - ECPv6.15.17.1//NONSGML v1.0//EN
CALSCALE:GREGORIAN
METHOD:PUBLISH
X-WR-CALNAME:Suomen vanhan musiikin liitto ry
X-ORIGINAL-URL:https://svamuli.fi
X-WR-CALDESC:Tapahtumat Suomen vanhan musiikin liitto ry
REFRESH-INTERVAL;VALUE=DURATION:PT1H
X-Robots-Tag:noindex
X-PUBLISHED-TTL:PT1H
BEGIN:VTIMEZONE
TZID:Europe/Helsinki
BEGIN:DAYLIGHT
TZOFFSETFROM:+0200
TZOFFSETTO:+0300
TZNAME:EEST
DTSTART:20220327T010000
END:DAYLIGHT
BEGIN:STANDARD
TZOFFSETFROM:+0300
TZOFFSETTO:+0200
TZNAME:EET
DTSTART:20221030T010000
END:STANDARD
BEGIN:DAYLIGHT
TZOFFSETFROM:+0200
TZOFFSETTO:+0300
TZNAME:EEST
DTSTART:20230326T010000
END:DAYLIGHT
BEGIN:STANDARD
TZOFFSETFROM:+0300
TZOFFSETTO:+0200
TZNAME:EET
DTSTART:20231029T010000
END:STANDARD
BEGIN:DAYLIGHT
TZOFFSETFROM:+0200
TZOFFSETTO:+0300
TZNAME:EEST
DTSTART:20240331T010000
END:DAYLIGHT
BEGIN:STANDARD
TZOFFSETFROM:+0300
TZOFFSETTO:+0200
TZNAME:EET
DTSTART:20241027T010000
END:STANDARD
END:VTIMEZONE
BEGIN:VEVENT
DTSTART;TZID=Europe/Helsinki:20230126T190000
DTEND;TZID=Europe/Helsinki:20230126T200000
DTSTAMP:20260424T232939
CREATED:20221227T115300Z
LAST-MODIFIED:20221227T122444Z
UID:3865-1674759600-1674763200@svamuli.fi
SUMMARY:Aurore: Näsäviisaat visionäärit
DESCRIPTION:Näsäviisaat visionäärit – Nicolà Vicentino ja uusvanha harmonia \nVuonna 1551 säveltäjä-teoreetikot Nicolà Vicentino ja Vicente Lusitano kävivät kiivasta väittelyä “modernista” musiikista. Vicentino jakoi oktaavin perinteisen 12 sävelen sijasta peräti 31 säveleen\, ja hänen konsertissa kuultavat madrigaalinsa lienevät varhaisimpia länsimaisia mikrotonaalisia sävellyksiä sitten antiikin Kreikan. Aikalaissäveltäjä Emilio de’ Cavalieri luonnehti systeemin olevan “cosa nuova et molto difficile” – jotakin uutta ja erittäin haastavaa. Ennen varsinaista konserttia kirkkotilassa soi kanadalaisen Paolo Griffinin säveltämä\, Vicentinon sävelkieleen pohjautuva  ääni-installaatio\, joka johdattaa kuulijat tulevan konsertin harmoniamaailmaan. \nTaiteilijatapaaminen ja kahvitarjoilu 45min ennen konsertin alkua klo 18.15! \nLiput 25/20 €\, festivaalipassi 60/50 € osoitteesta www.holvi.com/shop/aurore\, Lippupisteestä ja tuntia ennen konsertteja ovelta. Alle 15-vuotiaat ilmaiseksi. \nKonsertin linkki:  \nwww.renessanssimusiikkijuhlat.fi/konsertit/to-26-1-nasaviisaat-visionaarit-nicola-vicentino-ja-uusvanha-harmonia/ \n**** \nAnna renessanssimusiikin lumota Auroren neljässä\, upeassa konsertissa! Aurore – Helsingin Renessanssimusiikkijuhlat to 26.1. – su 29.1.2023 Paavalinkirkossa. Lue lisää:  \nwww.aurore.fi  \nwww.facebook.com/renessanssimusiikkijuhlat \nwww.instagram.com/aurore.festivaali \nHelsingfors Renässansmusikfestival Aurore 26.-29.1.2023. Läs mera: www.aurore.fi/svenska \nAurore – Helsinki Renaissance Music Festival 26.-29.1.2023 in St. Pauls church. Read more: www.aurore.fi/english \nJärjestää Renessanssimusiikkia Paavalinkirkossa ry \n 
URL:https://svamuli.fi/t/aurore-nasaviisaat-visionaarit/
LOCATION:Paavalin kirkko\, Sammatintie 5\, Helsinki\, Helsinki\, Suomi
END:VEVENT
END:VCALENDAR