BEGIN:VCALENDAR
VERSION:2.0
PRODID:-//Suomen vanhan musiikin liitto ry - ECPv6.15.17.1//NONSGML v1.0//EN
CALSCALE:GREGORIAN
METHOD:PUBLISH
X-ORIGINAL-URL:https://svamuli.fi
X-WR-CALDESC:Tapahtumat Suomen vanhan musiikin liitto ry
REFRESH-INTERVAL;VALUE=DURATION:PT1H
X-Robots-Tag:noindex
X-PUBLISHED-TTL:PT1H
BEGIN:VTIMEZONE
TZID:Europe/Helsinki
BEGIN:DAYLIGHT
TZOFFSETFROM:+0200
TZOFFSETTO:+0300
TZNAME:EEST
DTSTART:20220327T010000
END:DAYLIGHT
BEGIN:STANDARD
TZOFFSETFROM:+0300
TZOFFSETTO:+0200
TZNAME:EET
DTSTART:20221030T010000
END:STANDARD
BEGIN:DAYLIGHT
TZOFFSETFROM:+0200
TZOFFSETTO:+0300
TZNAME:EEST
DTSTART:20230326T010000
END:DAYLIGHT
BEGIN:STANDARD
TZOFFSETFROM:+0300
TZOFFSETTO:+0200
TZNAME:EET
DTSTART:20231029T010000
END:STANDARD
BEGIN:DAYLIGHT
TZOFFSETFROM:+0200
TZOFFSETTO:+0300
TZNAME:EEST
DTSTART:20240331T010000
END:DAYLIGHT
BEGIN:STANDARD
TZOFFSETFROM:+0300
TZOFFSETTO:+0200
TZNAME:EET
DTSTART:20241027T010000
END:STANDARD
END:VTIMEZONE
BEGIN:VEVENT
DTSTART;TZID=Europe/Helsinki:20230122T150000
DTEND;TZID=Europe/Helsinki:20230122T160000
DTSTAMP:20260424T232657
CREATED:20230110T132926Z
LAST-MODIFIED:20230110T140200Z
UID:3906-1674399600-1674403200@svamuli.fi
SUMMARY:Café Barock Universumissa: Rooma 1707
DESCRIPTION:Rooma 1707 \nVuonna 1707 Roomaan Hampurista saapunut nuori Georg Friedrich Händel imi vaikutteita ikuisesta kaupungista kuin sieni ja sävelsi siellä ollessaan valtavan määrän musiikkia. Händel heittäytyi innokkaasti mukaan kaupungin musiikkielämään\, ja hänen tapaamiinsa säveltäjiin kuuluivat ainakin Scarlattit Alessandro ja Dominico sekä Arcangelo Corelli\, joka mm. toimi konserttimestarina Händelin Roomassa säveltämän jättimäisen oratorion Il trionfo del Tempo e del Disinganno (Ajan ja Totuuden voittokulku) kantaesityksessä. Konsertissa kuullaan musiikkia kaikilta edellä mainituilta säveltäjiltä. Tervetuloa vierailulle vuoden 1707 Roomaan! \nKonsertti on osa Händeliin ja Italiaan keskittyvää laajempaa kokonaisuutta\, johon kuuluu myös mm. su 28.5.2023 Universumissa kuultava Händel ♥ Italia -konsertti\, jossa kuullaan Händelin dramaattisen kerronnallisia\, harvemmin kuultuja varhaisia kantaatteja saman kokoonpanon ja sopraano Johanna Isokosken esittäminä. \nKatariina Malmberg\, barokkioboe \nKaisa Ruotsalainen\, barokkiviulu \nTatu Ahola\, barokkisello \nSanni Antikainen\, cembalo \nHändel – Corelli – Scarlatti \nLiput ovelta puoli tuntia ennen konserttia\, maksa mitä jaksat – tue taidetta! \nKahvila avoinna ennen konserttia ja väliajalla.
URL:https://svamuli.fi/t/cafe-barock-universumissa-rooma-1707/
LOCATION:Teatteri Universum\, Perämiehenkatu 13\, Helsinki\, Helsinki\, Suomi
END:VEVENT
END:VCALENDAR