BEGIN:VCALENDAR
VERSION:2.0
PRODID:-//Suomen vanhan musiikin liitto ry - ECPv6.15.17.1//NONSGML v1.0//EN
CALSCALE:GREGORIAN
METHOD:PUBLISH
X-ORIGINAL-URL:https://svamuli.fi
X-WR-CALDESC:Tapahtumat Suomen vanhan musiikin liitto ry
REFRESH-INTERVAL;VALUE=DURATION:PT1H
X-Robots-Tag:noindex
X-PUBLISHED-TTL:PT1H
BEGIN:VTIMEZONE
TZID:Europe/Helsinki
BEGIN:DAYLIGHT
TZOFFSETFROM:+0200
TZOFFSETTO:+0300
TZNAME:EEST
DTSTART:20220327T010000
END:DAYLIGHT
BEGIN:STANDARD
TZOFFSETFROM:+0300
TZOFFSETTO:+0200
TZNAME:EET
DTSTART:20221030T010000
END:STANDARD
BEGIN:DAYLIGHT
TZOFFSETFROM:+0200
TZOFFSETTO:+0300
TZNAME:EEST
DTSTART:20230326T010000
END:DAYLIGHT
BEGIN:STANDARD
TZOFFSETFROM:+0300
TZOFFSETTO:+0200
TZNAME:EET
DTSTART:20231029T010000
END:STANDARD
BEGIN:DAYLIGHT
TZOFFSETFROM:+0200
TZOFFSETTO:+0300
TZNAME:EEST
DTSTART:20240331T010000
END:DAYLIGHT
BEGIN:STANDARD
TZOFFSETFROM:+0300
TZOFFSETTO:+0200
TZNAME:EET
DTSTART:20241027T010000
END:STANDARD
END:VTIMEZONE
BEGIN:VEVENT
DTSTART;TZID=Europe/Helsinki:20230118T130000
DTEND;TZID=Europe/Helsinki:20230118T140000
DTSTAMP:20260424T232708
CREATED:20230110T130217Z
LAST-MODIFIED:20230110T130217Z
UID:3891-1674046800-1674050400@svamuli.fi
SUMMARY:Vanhan musiikin uudet toivot
DESCRIPTION:Vanhan musiikin opiskelijat esiintyvät lounaskonserttisarjassa Rikhardinkadun kirjaston kirjatornissa. Vapaa pääsy! \n  \nJärjestää yhteistyössä: \nCafé Barock / Kulttuuriyhdistys Ensemble Nylandia \nRikhardinkadun kirjasto  \nSibelius-Akatemian Vanhan musiikin aineryhmä \nYrkeshögskolan Novia
URL:https://svamuli.fi/t/vanhan-musiikin-uudet-toivot-5/
LOCATION:Rikhardinkadun kirjasto\, Rikhardinkatu 3\, 00130 Helsinki\, Helsinki\, Suomi
END:VEVENT
END:VCALENDAR