BEGIN:VCALENDAR
VERSION:2.0
PRODID:-//Suomen vanhan musiikin liitto ry - ECPv6.15.17.1//NONSGML v1.0//EN
CALSCALE:GREGORIAN
METHOD:PUBLISH
X-ORIGINAL-URL:https://svamuli.fi
X-WR-CALDESC:Tapahtumat Suomen vanhan musiikin liitto ry
REFRESH-INTERVAL;VALUE=DURATION:PT1H
X-Robots-Tag:noindex
X-PUBLISHED-TTL:PT1H
BEGIN:VTIMEZONE
TZID:Europe/Helsinki
BEGIN:DAYLIGHT
TZOFFSETFROM:+0200
TZOFFSETTO:+0300
TZNAME:EEST
DTSTART:20220327T010000
END:DAYLIGHT
BEGIN:STANDARD
TZOFFSETFROM:+0300
TZOFFSETTO:+0200
TZNAME:EET
DTSTART:20221030T010000
END:STANDARD
BEGIN:DAYLIGHT
TZOFFSETFROM:+0200
TZOFFSETTO:+0300
TZNAME:EEST
DTSTART:20230326T010000
END:DAYLIGHT
BEGIN:STANDARD
TZOFFSETFROM:+0300
TZOFFSETTO:+0200
TZNAME:EET
DTSTART:20231029T010000
END:STANDARD
BEGIN:DAYLIGHT
TZOFFSETFROM:+0200
TZOFFSETTO:+0300
TZNAME:EEST
DTSTART:20240331T010000
END:DAYLIGHT
BEGIN:STANDARD
TZOFFSETFROM:+0300
TZOFFSETTO:+0200
TZNAME:EET
DTSTART:20241027T010000
END:STANDARD
END:VTIMEZONE
BEGIN:VEVENT
DTSTART;TZID=Europe/Helsinki:20230115T180000
DTEND;TZID=Europe/Helsinki:20230115T200000
DTSTAMP:20260424T233036
CREATED:20230109T084423Z
LAST-MODIFIED:20230109T084643Z
UID:3886-1673805600-1673812800@svamuli.fi
SUMMARY:FiBO: Un'alma innamorata
DESCRIPTION:Un’alma innamorata – Händelin italialaisia kantaatteja \nHändel – A. Scarlatti – D. Scarlatti \nCarolyn Sampson\, sopraano\nFiBO Players:\n  Pauliina Fred\, traverso ja nokkahuilu\n  Anthony Marini\, viulu\n  Dora Asterstad\, viulu\n  Jussi Seppänen\, sello\n  Louna Hosia\, viola da gamba\n  Marianna Henriksson\, cembalo\n  Eero Palviainen\, teorbi\n  Hanna Haapamäki\, nokkahuilu ja traverso \n  \nSopraanotähti Carolyn Sampson on tuikkinut barokkimusiikin taivaalla jo pitkään. Nyt Vanhassakirkossa Helsingissä ja Järvenpään kirkossa kuullaan Händelin Italiassa säveltämiä kantaatteja sekä isä Alessandro ja poika Domenico Scarlattin viehättävää soitinmusiikkia. FiBO ja Sampson vievät ohjelmiston seuraavaksi myös Lontoon legendaariseen Wigmore Halliin. \n”Giorgio Federico Hendel” (1685–1759) saapui Roomaan Hampurista vuonna 1707. Kolmena vuotenaan Italiassa nuori muusikko hurmasi yleisönsä ja sai esimerkiksi Venetsiassa lempinimen ”il caro Sassone”\, rakas saksilainen. \nRoomassa Händel löysi tärkeät suojelijat markiisi Ruspolista ja kardinaali Pamphilista. Ruspolin sopraanoihin lukeutui taiturillinen Margherita Durastanti\, ja Pamphili tilasi musiikkia librettoihinsa. Tra le fiamme (noin 1708) Pamphilin tekstiin kertoo Ikaroksen ja Daidaloksen myytin avulla\, ettei kaikkia sydämen leimahduksia tule seurata. Sopraanolta vaaditaan lennokkuutta\, ja värikkäässä soitinnuksessa gambisti loistaa. Alpestre montessa (noin 1707) puolestaan nymfin jättämä rakastaja saa lohtua vain kuolemasta ja musiikin väkevistä harmonioista. \nHändelin Roomassa kantaatin mestari oli Alessandro Scarlatti (1660–1725). Soitinmusiikkia Alessandrolta tilattiin vähemmän\, mutta sonaatti huiluille ja viuluille sekä huilukonsertto eivät selitä sitä\, miksi näin on. Alessandron poika Domenico (1685–1757) ja Händel tulivat toimeen mainiosti. He antautuivat Roomassa myös kosketinvirtuoosien väliseen mittelöön\, jonka kardinaali Ottoboni järjesti. Välinumerona kuultava Domenicon sonaatti esittelee syvällisesti fantasioivan muusikon. \nLiput 40 € (keskilaiva)\, 25 € (sivulaivat\, sivuparvet ja urkuparvi): Ticketmasterin myyntipisteet ja ticketmaster.fi\nOpiskelijat ovelta 10 € \nKesto: 2 t (sis. väliajan)
URL:https://svamuli.fi/t/fibo-unalma-innamorata-2/
LOCATION:Vanha kirkko\, Lönnrotinkatu 6\, Helsinki\, Helsinki\, Suomi
END:VEVENT
END:VCALENDAR