BEGIN:VCALENDAR
VERSION:2.0
PRODID:-//Suomen vanhan musiikin liitto ry - ECPv6.15.17.1//NONSGML v1.0//EN
CALSCALE:GREGORIAN
METHOD:PUBLISH
X-WR-CALNAME:Suomen vanhan musiikin liitto ry
X-ORIGINAL-URL:https://svamuli.fi
X-WR-CALDESC:Tapahtumat Suomen vanhan musiikin liitto ry
REFRESH-INTERVAL;VALUE=DURATION:PT1H
X-Robots-Tag:noindex
X-PUBLISHED-TTL:PT1H
BEGIN:VTIMEZONE
TZID:Europe/Helsinki
BEGIN:DAYLIGHT
TZOFFSETFROM:+0200
TZOFFSETTO:+0300
TZNAME:EEST
DTSTART:20210328T010000
END:DAYLIGHT
BEGIN:STANDARD
TZOFFSETFROM:+0300
TZOFFSETTO:+0200
TZNAME:EET
DTSTART:20211031T010000
END:STANDARD
BEGIN:DAYLIGHT
TZOFFSETFROM:+0200
TZOFFSETTO:+0300
TZNAME:EEST
DTSTART:20220327T010000
END:DAYLIGHT
BEGIN:STANDARD
TZOFFSETFROM:+0300
TZOFFSETTO:+0200
TZNAME:EET
DTSTART:20221030T010000
END:STANDARD
BEGIN:DAYLIGHT
TZOFFSETFROM:+0200
TZOFFSETTO:+0300
TZNAME:EEST
DTSTART:20230326T010000
END:DAYLIGHT
BEGIN:STANDARD
TZOFFSETFROM:+0300
TZOFFSETTO:+0200
TZNAME:EET
DTSTART:20231029T010000
END:STANDARD
END:VTIMEZONE
BEGIN:VEVENT
DTSTART;TZID=Europe/Helsinki:20221218T150000
DTEND;TZID=Europe/Helsinki:20221218T160000
DTSTAMP:20260424T221701
CREATED:20221118T115612Z
LAST-MODIFIED:20221118T115612Z
UID:3827-1671375600-1671379200@svamuli.fi
SUMMARY:Café Barock Universumissa: Kauneimmat barokkijoululaulut
DESCRIPTION:Kauneimmat barokkijoululaulut -iltapäivä sisältää joululauluja 1500–1700-lukujen Euroopasta periodi-instrumentein soitettuna – yhteislaulua unohtamatta. Moni meille suomalaisille rakkaista joululauluista on peräisin jo barokin aikakaudelta. Esimerkiksi Heinillä härkien kaukalon on barokin ajan Ranskasta ja Enkeli taivaan itseltään Martti Lutherilta. Konsertissa kuullaan ja lauletaan yhdessä näitä tuttuja ja rakkaita lauluja barokkityyliin. \nJussi Salonen\, tenori & Ensemble Nylandia: \nSini Vahervuo\, huilut \nJarmo Julkunen\, luuttu ja ukulele \nMatias Häkkinen\, cembalo \nLiput ovelta puoli tuntia ennen konserttia\, maksa mitä jaksat – tue taidetta! \nKahvila avoinna ennen konserttia ja väliajalla. \nUniversumin teatteritilat sijaitsevat kolmessa kerroksessa\, joissa on käytössä leveä hissi sekä alakerran inva-wc:t. Esteetön sisäänkäynti sijaitsee sisäpihalla. Ilmoitathan tarpeesta esteettömään kulkuun osoitteeseen cafebarock@ensemblenylandia.info \nTapahtuman järjestää Kulttuuriyhdistys Ensemble Nylandia ry / Café Barock yhteistyössä Teatteri Universumin kanssa. 
URL:https://svamuli.fi/t/cafe-barock-universumissa-kauneimmat-barokkijoululaulut/
LOCATION:Teatteri Universum\, Perämiehenkatu 13\, Helsinki\, Helsinki\, Suomi
END:VEVENT
BEGIN:VEVENT
DTSTART;TZID=Europe/Helsinki:20221218T180000
DTEND;TZID=Europe/Helsinki:20221218T193000
DTSTAMP:20260424T221701
CREATED:20221023T191645Z
LAST-MODIFIED:20221023T191645Z
UID:3682-1671386400-1671391800@svamuli.fi
SUMMARY:Arkkityypit – järjestys
DESCRIPTION:järjestys tai ainakin siihen pyrkiminen on hallitsijan\, luojan ja hoivaajan päämäärä. Järjestys-arkkityypeillä pyritään luomaan illuusio asioiden hallinnasta ja hallittavuudesta sekä hoitava tila ja hetki hallitsemattoman keskelle.  \nHallitsija-ohjelmassa vieraillaan Aurinkokuninkaan hovissa\, jossa hallitsee Louis XIV:n lisäksi musiikkimaailman komentaja Lully sekä rakkaudenjumala Amor\, jonka armoilla on suurinkin hallitsija. Hallitsija-ohjelma koostuu tanssisarjoista\, joita on rakenneltu enemmän ja vähemmän hallitusti eri säveltäjien teoksista. Tanssisarjoja tanssitaan sekä briljantisti hallittuun barokkityyliin että nykytanssikoreografioin.  \nLuoja-arkkityyppiin liitetyt ominaisuudet on poimittu pitkälti eri uskontojen jumalakuvista\, ja jumaluuskompleksi on luoja-arkkityypille tyypillinen. Siispä luojalle soitetaan Jumalalle sävellettyä musiikkia.  \nHoivaaja-ohjelma koostuu barokin ajan kehtolauluista\, Johanna Wahlbeckin ohjaamasta hoitavasta rentoutusharjoituksesta ja Jungin hoivaaja-arkkityyppiin tutustumisesta.  \nArkkityypit – järjestys \nElina Häyrynen tanssi \nTero Hytönen\, tanssi \nJaakko Uljas\, visualisointi ja performanssi \nJani Sunnarborg\, tanssi ja fagotti \nTuuli Lindeberg\, laulu \nHanna Haapamäki\, nokkahuilu ja traverso \nAnthony Marini ja Kaisa Ruotsalainen\, viulu \nLouna Hosia\, viola da gamba ja sello \nKaisamaija Uljas\, luuttu \nEero Palviainen\, luuttu \nLaura Ollberg-Ekman\, cembalo \nJohanna Wahlbeck\, hoivaajan teksti ja rentoutusharjoituksen ohjaus \nVille Virtanen\, valot \nMusiikkia näiltä luojilta: Lully\, Hotteterre\, de Visée\, Bach\, Buxtehude\, Händel\, Jones\, Dowland\, Locke\, Byrd\, Pilkington\, Merula \nArkkityypit on taiteilijakollektiivi sekä konserttisarja\, jonka konsertit perustuvat C. G. Jungin arkkityyppeihin. Konserttisarja aloittaa Arkkityypit-kollektiivin kolmivuotisen tutkielman taiteentekemisen sosioekologisesta kestävyydestä. Projektin kukin osa pureutuu barokkimusiikin\, kuva- ja näyttämötaiteen keinoin yhteistyössä ympäristötieteen ja psykologian asiantuntijoiden kanssa eri kestävyysteemoihin. \nlisätietoa: https://www.arkkityypit.com/keikat/järjestys/
URL:https://svamuli.fi/t/arkkityypit-jarjestys/
LOCATION:Kalliosali\, Pengerkatu 11 A\, Helsinki\, 00530
END:VEVENT
END:VCALENDAR