BEGIN:VCALENDAR
VERSION:2.0
PRODID:-//Suomen vanhan musiikin liitto ry - ECPv6.15.17.1//NONSGML v1.0//EN
CALSCALE:GREGORIAN
METHOD:PUBLISH
X-WR-CALNAME:Suomen vanhan musiikin liitto ry
X-ORIGINAL-URL:https://svamuli.fi
X-WR-CALDESC:Tapahtumat Suomen vanhan musiikin liitto ry
REFRESH-INTERVAL;VALUE=DURATION:PT1H
X-Robots-Tag:noindex
X-PUBLISHED-TTL:PT1H
BEGIN:VTIMEZONE
TZID:Europe/Helsinki
BEGIN:DAYLIGHT
TZOFFSETFROM:+0200
TZOFFSETTO:+0300
TZNAME:EEST
DTSTART:20210328T010000
END:DAYLIGHT
BEGIN:STANDARD
TZOFFSETFROM:+0300
TZOFFSETTO:+0200
TZNAME:EET
DTSTART:20211031T010000
END:STANDARD
BEGIN:DAYLIGHT
TZOFFSETFROM:+0200
TZOFFSETTO:+0300
TZNAME:EEST
DTSTART:20220327T010000
END:DAYLIGHT
BEGIN:STANDARD
TZOFFSETFROM:+0300
TZOFFSETTO:+0200
TZNAME:EET
DTSTART:20221030T010000
END:STANDARD
BEGIN:DAYLIGHT
TZOFFSETFROM:+0200
TZOFFSETTO:+0300
TZNAME:EEST
DTSTART:20230326T010000
END:DAYLIGHT
BEGIN:STANDARD
TZOFFSETFROM:+0300
TZOFFSETTO:+0200
TZNAME:EET
DTSTART:20231029T010000
END:STANDARD
END:VTIMEZONE
BEGIN:VEVENT
DTSTART;TZID=Europe/Helsinki:20221217T180000
DTEND;TZID=Europe/Helsinki:20221217T200000
DTSTAMP:20260424T221744
CREATED:20221028T105712Z
LAST-MODIFIED:20221028T105712Z
UID:3708-1671300000-1671307200@svamuli.fi
SUMMARY:FiBO: Italialainen joulu
DESCRIPTION:Italialainen joulu – Pastoraalimusiikkia saapasmaasta \nZavateri – Leonarda – Manfredini – A. Scarlatti – Corelli \nMaria Ladurner\, sopraano \nSuomalainen barokkiorkesteri \nItalialaiseen jouluperinteeseen kuuluu olennaisena osana pastoraalimusiikki. Sen tunnuspiirteitä ovat säkkipillien ja ruokolehtipuhaltimien suloinen sointi ja melodian keinahteleva\, kolmijakoinen poljento. Paimenet – italiaksi pastori – musisoivat kedoillaan\, ja joulun alla he tulivat soittamaan kyliin ja kaupunkeihin seimikuvaelmien luokse. Barokin aikana kansanperinteen elementit siirtyivät taidemusiikkiin\, ja niinpä lukemattomissa joulun aikaan liittyvissä teoksissa kuullaan näitä pastoraalimusiikin sointeja.  \nSuomalainen barokkiorkesteri juhlistaa konsertissaan syntymän juhlaa italialaisissa tunnelmissa\, ja ohjelmassa kuullaan niin tuttujen kuin tuntemattomampienkin barokin ajan säveltäjien joulumusiikkia. \nKesto: 1 t 45 min (sis. väliajan) \nFiBOn taiteellinen suunnittelija Anthony Marini alustaa konsertin Ritarihuoneella 17.12. kello 17–17.30. \nKonsertin oma sivu: https://fibo.fi/konsertit/2022/italialainen-joulu/ \nLiput 15/29/37/52 € (hinta paikan mukaan) käsittelykuluineen + 1 €:n toimitusmaksu tilausta kohti: Ticketmasterin myyntipisteet ja ticketmaster.fi\nLiput opiskelijoille ovelta 10 €
URL:https://svamuli.fi/t/fibo-italialainen-joulu/
LOCATION:Ritarihuone\, Ritarikatu 1\, Helsinki\, Helsinki\, Suomi
END:VEVENT
END:VCALENDAR