BEGIN:VCALENDAR
VERSION:2.0
PRODID:-//Suomen vanhan musiikin liitto ry - ECPv6.15.17.1//NONSGML v1.0//EN
CALSCALE:GREGORIAN
METHOD:PUBLISH
X-ORIGINAL-URL:https://svamuli.fi
X-WR-CALDESC:Tapahtumat Suomen vanhan musiikin liitto ry
REFRESH-INTERVAL;VALUE=DURATION:PT1H
X-Robots-Tag:noindex
X-PUBLISHED-TTL:PT1H
BEGIN:VTIMEZONE
TZID:Europe/Helsinki
BEGIN:DAYLIGHT
TZOFFSETFROM:+0200
TZOFFSETTO:+0300
TZNAME:EEST
DTSTART:20210328T010000
END:DAYLIGHT
BEGIN:STANDARD
TZOFFSETFROM:+0300
TZOFFSETTO:+0200
TZNAME:EET
DTSTART:20211031T010000
END:STANDARD
BEGIN:DAYLIGHT
TZOFFSETFROM:+0200
TZOFFSETTO:+0300
TZNAME:EEST
DTSTART:20220327T010000
END:DAYLIGHT
BEGIN:STANDARD
TZOFFSETFROM:+0300
TZOFFSETTO:+0200
TZNAME:EET
DTSTART:20221030T010000
END:STANDARD
BEGIN:DAYLIGHT
TZOFFSETFROM:+0200
TZOFFSETTO:+0300
TZNAME:EEST
DTSTART:20230326T010000
END:DAYLIGHT
BEGIN:STANDARD
TZOFFSETFROM:+0300
TZOFFSETTO:+0200
TZNAME:EET
DTSTART:20231029T010000
END:STANDARD
END:VTIMEZONE
BEGIN:VEVENT
DTSTART;TZID=Europe/Helsinki:20221215T190000
DTEND;TZID=Europe/Helsinki:20221215T200000
DTSTAMP:20260424T222844
CREATED:20221118T114830Z
LAST-MODIFIED:20221118T115051Z
UID:3823-1671130800-1671134400@svamuli.fi
SUMMARY:Café Barock Kulttuurikellarissa: Kauneimmat barokkijoululaulut
DESCRIPTION:Café Barockin intiimi barokkiklubi Savonlinnan Kulttuurikellarilla tuudittaa joulun tunnelmaan.  \nKauneimmat barokkijoululaulut -ilta sisältää joululauluja 1500–1700-lukujen Euroopasta periodi-instrumentein soitettuna – yhteislaulua unohtamatta. Moni meille suomalaisille rakkaista joululauluista on peräisin jo barokin aikakaudelta. Esimerkiksi Heinillä härkien kaukalon on barokin ajan Ranskasta ja Enkeli taivaan itseltään Martti Lutherilta. Konsertissa kuullaan ja lauletaan yhdessä näitä tuttuja ja rakkaita lauluja barokkityyliin. \nKaisa Makkonen\, sopraano & Ensemble Nylandia: \nSini Vahervuo\, huilut \nJarmo Julkunen\, ukulele ja luuttu \nMatias Häkkinen\, cembalo ja urut \nLiput 15 / 10 € ovelta ja ennakkoon osoitteesta https://holvi.com/shop/ensemblenylandia/section/konserttiliput/ \nKonsertin järjestää Kulttuuriyhdistys Ensemble Nylandia ry / Café Barock\, yhteistyössä Savonlinnan Kulttuurikellari ja ESMO ry.
URL:https://svamuli.fi/t/cafe-barock-kulttuurikellarissa-kauneimmat-barokkijoululaulut/
LOCATION:Savonlinnan Kulttuurikellari\, Olavinkatu 34\, 57130 Savonlinna\, Savonlinna\, Finland
END:VEVENT
END:VCALENDAR