BEGIN:VCALENDAR
VERSION:2.0
PRODID:-//Suomen vanhan musiikin liitto ry - ECPv6.15.17.1//NONSGML v1.0//EN
CALSCALE:GREGORIAN
METHOD:PUBLISH
X-WR-CALNAME:Suomen vanhan musiikin liitto ry
X-ORIGINAL-URL:https://svamuli.fi
X-WR-CALDESC:Tapahtumat Suomen vanhan musiikin liitto ry
REFRESH-INTERVAL;VALUE=DURATION:PT1H
X-Robots-Tag:noindex
X-PUBLISHED-TTL:PT1H
BEGIN:VTIMEZONE
TZID:Europe/Helsinki
BEGIN:DAYLIGHT
TZOFFSETFROM:+0200
TZOFFSETTO:+0300
TZNAME:EEST
DTSTART:20210328T010000
END:DAYLIGHT
BEGIN:STANDARD
TZOFFSETFROM:+0300
TZOFFSETTO:+0200
TZNAME:EET
DTSTART:20211031T010000
END:STANDARD
BEGIN:DAYLIGHT
TZOFFSETFROM:+0200
TZOFFSETTO:+0300
TZNAME:EEST
DTSTART:20220327T010000
END:DAYLIGHT
BEGIN:STANDARD
TZOFFSETFROM:+0300
TZOFFSETTO:+0200
TZNAME:EET
DTSTART:20221030T010000
END:STANDARD
BEGIN:DAYLIGHT
TZOFFSETFROM:+0200
TZOFFSETTO:+0300
TZNAME:EEST
DTSTART:20230326T010000
END:DAYLIGHT
BEGIN:STANDARD
TZOFFSETFROM:+0300
TZOFFSETTO:+0200
TZNAME:EET
DTSTART:20231029T010000
END:STANDARD
END:VTIMEZONE
BEGIN:VEVENT
DTSTART;TZID=Europe/Helsinki:20221213T200000
DTEND;TZID=Europe/Helsinki:20221213T210000
DTSTAMP:20260424T221657
CREATED:20221118T113419Z
LAST-MODIFIED:20221118T115901Z
UID:3819-1670961600-1670965200@svamuli.fi
SUMMARY:Café Barock Kalliosalissa: Kauneimmat barokkijoululaulut
DESCRIPTION:Kauneimmat barokkijoululaulut -ilta sisältää joululauluja 1500–1700-lukujen Euroopasta periodi-instrumentein soitettuna – yhteislaulua unohtamatta. Moni meille suomalaisille rakkaista joululauluista on peräisin jo barokin aikakaudelta. Esimerkiksi Heinillä härkien kaukalon on barokin ajan Ranskasta ja Enkeli taivaan itseltään Martti Lutherilta. Konsertissa kuullaan ja lauletaan yhdessä näitä tuttuja ja rakkaita lauluja barokkityyliin. \nJussi Salonen\, tenori & Ensemble Nylandia: \nSini Vahervuo\, huilut \nJarmo Julkunen\, luuttu ja ukulele \nMatias Häkkinen\, cembalo \nOvet avataan klo 19\, Kalliosalin baari palvelee tilaisuuden ajan (huom. vain korttimaksu).  \nLiput 15 / 10 € ovelta ja ennakkoon Holvista https://holvi.com/shop/ensemblenylandia/section/konserttiliput/ \n\nEsteetön sisäänkäynti sisäpihan kautta sovittavissa etukäteen: info@ensemblenylandia.info \nKonsertin järjestää Kulttuuriyhdistys Ensemble Nylandia ry/Café Barock yhteistyössä Kalliosalin kanssa. 
URL:https://svamuli.fi/t/cafe-barock-kalliosalissa-kauneimmat-barokkijoululaulut/
LOCATION:Kalliosali\, Pengerkatu 11 A\, Helsinki\, 00530
END:VEVENT
END:VCALENDAR