BEGIN:VCALENDAR
VERSION:2.0
PRODID:-//Suomen vanhan musiikin liitto ry - ECPv6.15.17.1//NONSGML v1.0//EN
CALSCALE:GREGORIAN
METHOD:PUBLISH
X-WR-CALNAME:Suomen vanhan musiikin liitto ry
X-ORIGINAL-URL:https://svamuli.fi
X-WR-CALDESC:Tapahtumat Suomen vanhan musiikin liitto ry
REFRESH-INTERVAL;VALUE=DURATION:PT1H
X-Robots-Tag:noindex
X-PUBLISHED-TTL:PT1H
BEGIN:VTIMEZONE
TZID:Europe/Helsinki
BEGIN:DAYLIGHT
TZOFFSETFROM:+0200
TZOFFSETTO:+0300
TZNAME:EEST
DTSTART:20210328T010000
END:DAYLIGHT
BEGIN:STANDARD
TZOFFSETFROM:+0300
TZOFFSETTO:+0200
TZNAME:EET
DTSTART:20211031T010000
END:STANDARD
BEGIN:DAYLIGHT
TZOFFSETFROM:+0200
TZOFFSETTO:+0300
TZNAME:EEST
DTSTART:20220327T010000
END:DAYLIGHT
BEGIN:STANDARD
TZOFFSETFROM:+0300
TZOFFSETTO:+0200
TZNAME:EET
DTSTART:20221030T010000
END:STANDARD
BEGIN:DAYLIGHT
TZOFFSETFROM:+0200
TZOFFSETTO:+0300
TZNAME:EEST
DTSTART:20230326T010000
END:DAYLIGHT
BEGIN:STANDARD
TZOFFSETFROM:+0300
TZOFFSETTO:+0200
TZNAME:EET
DTSTART:20231029T010000
END:STANDARD
END:VTIMEZONE
BEGIN:VEVENT
DTSTART;TZID=Europe/Helsinki:20221210T180000
DTEND;TZID=Europe/Helsinki:20221210T190000
DTSTAMP:20260424T221658
CREATED:20221118T121000Z
LAST-MODIFIED:20221118T121000Z
UID:3833-1670695200-1670698800@svamuli.fi
SUMMARY:Ranskalainen Joulu
DESCRIPTION:Ranskalainen joulu -konsertti koostuu alkuperältään eurooppalaisista\, myös Suomessa tunnetuista joululauluista ja ranskalaisesta gambamusiikista.  \nBarokkimusiikille ominainen hienostuneisuus ja tanssillisuus tulevat esille ranskalaisten Marin Marais’n Suite 5 in e mineur ja Marc-Antoine Charpentierin Concert pour quattre de violes sävellyksissä. Ranskasta tulee myös konsertissa kuultavat Une jeune fillette ja Entre le boeuf e láine gris. Une jeune fillette on suosittu melodia\, josta on kirjoitettu erilaisia versioita. Suomessa tämä laulu tunnetaan adventtivirtenä Valmistu herran kansa. Ranskalaisen Eustache DuCarroyn gambayhtyeelle säveltämä Fantasie 32\, pohjautuu myös Une jeune filletten melodiaan. \nPuer natus in Betlehelm on Suomesta löytyneestä keskiaikaisesta Piae Cantiones -kokoelmasta. Myös Pietari Brahe taltioi tästä oman versionsa luuttukirjaansa. \nKonsertin päättää Heinillä härkien kaukalon\, johon yleisö on tervetullut laulamaan mukaan. Sanat löytyvät käsiohjelmasta.  \nGambayhtye Jouhi: \nMaija Lampela\, pardessus gamba \nKatri Susitaival\, sopraanogamba  \nRitva Hautsalo\, bassogamba  \nMikko Ikäheimo\, arkkiluuttu \nLiput 10 / 15 € ovelta ja ennakkoon osoitteesta \nhttps://holvi.com/shop/ensemblenylandia/section/konserttiliput/ \nKonsertin järjestää Kulttuuriyhdistys Ensemble Nylandia ry / Café Barock yhteistyössä Savonlinnan Kulttuurikellarin kanssa. \nGambayhtye Jouhi on renessanssi- ja barokkimusiikkiin erikoistunut yhtye. Jouhin muusikot ovat Maija Lampela\, Katri Susitaival\, Ritva Hautsalo ja Mikko Ikäheimo. \nYhtyeen ohjelmiston runko muodostuu renessanssin- ja barokinajan musiikista. Gamban kultakauden musiikki fantasioineen Englannista kuuluu Jouhin perusohjelmistoon\, säveltäjinä muun muassa Henry Purcell\, William Byrd\, Orlando Gibbons ja Alfonso Ferrabossco. Myös ranskalaisen Marin Marais´n sävellykset ovat olennainen osa konserttiohjelmien musiikkia. \nJouhi on esittänyt useita erilaisia konserttikokonaisuuksia\, esimerkiksi Ranskalainen joulu\, Fantasian lumoa\, Piéces de viole. Jouhi esitti kesien 2013 ja 2015 aikana Cupidon uni -konserttia\, joka esitteli Caravaggion maalauksia ja aikalaisten säveltämää musiikkia. \n  \n 
URL:https://svamuli.fi/t/ranskalainen-joulu/
LOCATION:Savonlinnan Kulttuurikellari\, Olavinkatu 34\, 57130 Savonlinna\, Savonlinna\, Finland
END:VEVENT
BEGIN:VEVENT
DTSTART;TZID=Europe/Helsinki:20221210T180000
DTEND;TZID=Europe/Helsinki:20221210T203000
DTSTAMP:20260424T221658
CREATED:20221027T201842Z
LAST-MODIFIED:20221027T201842Z
UID:3691-1670695200-1670704200@svamuli.fi
SUMMARY:Oulun vanha musiikki: Händelin Messias-oratorio
DESCRIPTION:  \nKlassisen musiikin kestosuosikkeihin lukeutuva Georg Friedrich Händelin loistelias Messias-oratorio kuullaan Keminmaan kirkossa. Muut esitykset Oulun tuomiokirkossa 9.12. ja Luulajan tuomiokirkossa 11.12. Konsertit järjestää Oulun vanha musiikki ry. \n  \nOulun barokkiorkesteri \nErik Westbergs Vokalensemble (SE\, FI) \nPeter Spissky (DK)\, konserttimestari ja musiikin johto \nTuuli Lindeberg\, sopraano \nRodrigo Sosa Dal Pozzo (IT\, VE)\, kontratenori \nGuy Cutting (UK)\, tenori \nElja Puukko\, basso \nKäsiohjelma 25 € \n 
URL:https://svamuli.fi/t/oulun-vanha-musiikki-handelin-messias-oratorio-2/
LOCATION:Keminmaan kirkko\, Kirkkotie 1\, Keminmaa\, 94400
END:VEVENT
END:VCALENDAR