BEGIN:VCALENDAR
VERSION:2.0
PRODID:-//Suomen vanhan musiikin liitto ry - ECPv6.15.17.1//NONSGML v1.0//EN
CALSCALE:GREGORIAN
METHOD:PUBLISH
X-ORIGINAL-URL:https://svamuli.fi
X-WR-CALDESC:Tapahtumat Suomen vanhan musiikin liitto ry
REFRESH-INTERVAL;VALUE=DURATION:PT1H
X-Robots-Tag:noindex
X-PUBLISHED-TTL:PT1H
BEGIN:VTIMEZONE
TZID:Europe/Helsinki
BEGIN:DAYLIGHT
TZOFFSETFROM:+0200
TZOFFSETTO:+0300
TZNAME:EEST
DTSTART:20210328T010000
END:DAYLIGHT
BEGIN:STANDARD
TZOFFSETFROM:+0300
TZOFFSETTO:+0200
TZNAME:EET
DTSTART:20211031T010000
END:STANDARD
BEGIN:DAYLIGHT
TZOFFSETFROM:+0200
TZOFFSETTO:+0300
TZNAME:EEST
DTSTART:20220327T010000
END:DAYLIGHT
BEGIN:STANDARD
TZOFFSETFROM:+0300
TZOFFSETTO:+0200
TZNAME:EET
DTSTART:20221030T010000
END:STANDARD
BEGIN:DAYLIGHT
TZOFFSETFROM:+0200
TZOFFSETTO:+0300
TZNAME:EEST
DTSTART:20230326T010000
END:DAYLIGHT
BEGIN:STANDARD
TZOFFSETFROM:+0300
TZOFFSETTO:+0200
TZNAME:EET
DTSTART:20231029T010000
END:STANDARD
END:VTIMEZONE
BEGIN:VEVENT
DTSTART;TZID=Europe/Helsinki:20221203T140000
DTEND;TZID=Europe/Helsinki:20221203T150000
DTSTAMP:20260424T222007
CREATED:20221108T062318Z
LAST-MODIFIED:20221129T222148Z
UID:3766-1670076000-1670079600@svamuli.fi
SUMMARY:Valoa Jäkessä: Kitaristit kohtaavat chitarronen
DESCRIPTION:Luutisti Olli Hyyrynen ja Keskisen Uudenmaan musiikkiopiston kitaristit soittavat J. H. Kapsbergerin musiikkia ja muutakin barokkia. Konsertissa esitellään teorbi\, eli chitarrone\, joka on luuttuperheen suurin soitin\, ja improvisoidaan aikanaan tunnettuihin ground-bassoihin\, kuten canarioon\, bergamascaan ja passacagliaan. \nKonsertti on osa Valoa Jäkessä -tapahtumia ja siihen on vapaa pääsy. \nhttps://tapahtumat.jarvenpaa.fi/fi-FI/page/63696d918805810e1d158e19?advertise=true
URL:https://svamuli.fi/t/valoa-jakessa-kitaristit-kohtaavat-chitarronen/
LOCATION:Järvenpään kirjasto\, Tyyni Tuulio -sali\, Kirjastokatu 8\, Järvenpää\, 04410\, Suomi
END:VEVENT
END:VCALENDAR