BEGIN:VCALENDAR
VERSION:2.0
PRODID:-//Suomen vanhan musiikin liitto ry - ECPv6.15.17.1//NONSGML v1.0//EN
CALSCALE:GREGORIAN
METHOD:PUBLISH
X-ORIGINAL-URL:https://svamuli.fi
X-WR-CALDESC:Tapahtumat Suomen vanhan musiikin liitto ry
REFRESH-INTERVAL;VALUE=DURATION:PT1H
X-Robots-Tag:noindex
X-PUBLISHED-TTL:PT1H
BEGIN:VTIMEZONE
TZID:Europe/Helsinki
BEGIN:DAYLIGHT
TZOFFSETFROM:+0200
TZOFFSETTO:+0300
TZNAME:EEST
DTSTART:20210328T010000
END:DAYLIGHT
BEGIN:STANDARD
TZOFFSETFROM:+0300
TZOFFSETTO:+0200
TZNAME:EET
DTSTART:20211031T010000
END:STANDARD
BEGIN:DAYLIGHT
TZOFFSETFROM:+0200
TZOFFSETTO:+0300
TZNAME:EEST
DTSTART:20220327T010000
END:DAYLIGHT
BEGIN:STANDARD
TZOFFSETFROM:+0300
TZOFFSETTO:+0200
TZNAME:EET
DTSTART:20221030T010000
END:STANDARD
BEGIN:DAYLIGHT
TZOFFSETFROM:+0200
TZOFFSETTO:+0300
TZNAME:EEST
DTSTART:20230326T010000
END:DAYLIGHT
BEGIN:STANDARD
TZOFFSETFROM:+0300
TZOFFSETTO:+0200
TZNAME:EET
DTSTART:20231029T010000
END:STANDARD
END:VTIMEZONE
BEGIN:VEVENT
DTSTART;TZID=Europe/Helsinki:20221202T180000
DTEND;TZID=Europe/Helsinki:20221202T190000
DTSTAMP:20260424T222502
CREATED:20221031T171318Z
LAST-MODIFIED:20221031T171318Z
UID:3744-1670004000-1670007600@svamuli.fi
SUMMARY:SibA: Barokkiperjantai – Cembalistien ilta
DESCRIPTION:Cembalistit Kirsti Manninen\, Tony Wang ja Kadri Toomoja esittävät mm. Fr. Geminianin\, J.S. Bachin\, Antoine/Jean-Babtiste Forquerayn\, Giles Farnabyn\, Olli Mustosen ja J-Ph. Rameaun musiikkia. \nVapaa pääsy
URL:https://svamuli.fi/t/siba-barokkiperjantai-cembalistien-ilta/
LOCATION:Sibelius-Akatemia R-talo\, Pikkusali\, Pohjoinen Rautatienkatu 9\, Helsinki\, 00100
END:VEVENT
BEGIN:VEVENT
DTSTART;TZID=Europe/Helsinki:20221202T180000
DTEND;TZID=Europe/Helsinki:20221202T190000
DTSTAMP:20260424T222502
CREATED:20221110T070933Z
LAST-MODIFIED:20221110T070933Z
UID:3793-1670004000-1670007600@svamuli.fi
SUMMARY:Ensemble Gamut!: Lapsed caick laolacatt!
DESCRIPTION:Aino Peltomaa\, laulu\, keskiajan harppu\, perkussiot\nIlkka Heinonen\, jouhikot\, laulu\, perkussiot\, elektroniikka\nJuho Myllylä\, nokkahuilut\, laulu\, elektroniikka \nLapsed caick laolacatt! -ohjelmakokonaisuudessa Ensemble Gamut! tarkastelee varhaisinta Suomen alueella säilynyttä musiikkia\, kirjallisia nuottilähteitä Pyhän Henrikin riimioficiumista\, Naantalin birgittalaissisarten laulukirjasta (Cantus Sororum)\, Turun katedraalikoulun toimesta kootusta Piae Cantiones -kokoelmasta\, sekä vanhoista runosävelmistä. Nämä varhaiset lähteet\, improvisaatio ja elektroniset äänimaisemat muodostavat tässä ajassa soivan\, historiasta inspiroituneen kokonaisuuden. \nKonsertti on Ensemble Gamut!:n uuden RE-albumin julkaisukonsertti. \nLiput 20/15 € puoli tuntia ennen konsertin alkua ovelta.
URL:https://svamuli.fi/t/ensemble-gamut-lapsed-caick-laolacatt-4/
LOCATION:Pyhän Henrikin Ekumeeninen Taidekappeli\, Seiskarinkatu 35\, Turku
END:VEVENT
BEGIN:VEVENT
DTSTART;TZID=Europe/Helsinki:20221202T190000
DTEND;TZID=Europe/Helsinki:20221202T200000
DTSTAMP:20260424T222502
CREATED:20221109T082354Z
LAST-MODIFIED:20221109T082354Z
UID:3775-1670007600-1670011200@svamuli.fi
SUMMARY:Urkuyö ja Aarian joulu
DESCRIPTION:  \nUrkuyö ja Aaria järjestää tänä vuonna joulukonsertin – ensimmäisen laatuaan! Espoon tuomiokirkossa pidettävässä konsertissa tenori Tuomas Katajala ja baritoni Jussi Merikanto sekä Espoon barokin yhtye tulkitsevat perinteisiä joululauluja sekä Bachin ja Händelin aarioita. Yleisö pääsee osallistumaan ohjelmaan yhteislaulujen muodossa. Tervetuloa mukaan nauttimaan upeasta musiikista ja kynttilöiden tuikkeesta keskiaikaisen kirkon tunnelmaan! \nTuomas Katajala\, tenori \nJussi Merikanto\, baritoni \nEspoon barokin yhtye: \nAnssi Koskela\, viulu \nAnna Pohjola\, viulu \nRiittaliisa Hakulinen\, alttoviulu \nElina Mattila\, sello \nLassi Kari\, kontrabasso \nLaura Vihreäpuu\, urut \nLiput 35 / 30 / 15 €\nEläkeläiset\, työttömät ja varusmiehet 32 / 27 €\nOpiskelijat ja alle 18-vuotiaat 15 €\n+ tilausmaksut (alk. 1\,50 € / tilaus www.lippu.fi)
URL:https://svamuli.fi/t/urkuyo-ja-aarian-joulu/
LOCATION:Espoon tuomiokirkko\, Kirkkopuisto 5\, Espoo\, Espoo\, Suomi
END:VEVENT
END:VCALENDAR