BEGIN:VCALENDAR
VERSION:2.0
PRODID:-//Suomen vanhan musiikin liitto ry - ECPv6.15.17.1//NONSGML v1.0//EN
CALSCALE:GREGORIAN
METHOD:PUBLISH
X-ORIGINAL-URL:https://svamuli.fi
X-WR-CALDESC:Tapahtumat Suomen vanhan musiikin liitto ry
REFRESH-INTERVAL;VALUE=DURATION:PT1H
X-Robots-Tag:noindex
X-PUBLISHED-TTL:PT1H
BEGIN:VTIMEZONE
TZID:Europe/Helsinki
BEGIN:DAYLIGHT
TZOFFSETFROM:+0200
TZOFFSETTO:+0300
TZNAME:EEST
DTSTART:20210328T010000
END:DAYLIGHT
BEGIN:STANDARD
TZOFFSETFROM:+0300
TZOFFSETTO:+0200
TZNAME:EET
DTSTART:20211031T010000
END:STANDARD
BEGIN:DAYLIGHT
TZOFFSETFROM:+0200
TZOFFSETTO:+0300
TZNAME:EEST
DTSTART:20220327T010000
END:DAYLIGHT
BEGIN:STANDARD
TZOFFSETFROM:+0300
TZOFFSETTO:+0200
TZNAME:EET
DTSTART:20221030T010000
END:STANDARD
BEGIN:DAYLIGHT
TZOFFSETFROM:+0200
TZOFFSETTO:+0300
TZNAME:EEST
DTSTART:20230326T010000
END:DAYLIGHT
BEGIN:STANDARD
TZOFFSETFROM:+0300
TZOFFSETTO:+0200
TZNAME:EET
DTSTART:20231029T010000
END:STANDARD
END:VTIMEZONE
BEGIN:VEVENT
DTSTART;TZID=Europe/Helsinki:20221125T190000
DTEND;TZID=Europe/Helsinki:20221125T200000
DTSTAMP:20260424T233810
CREATED:20221031T163023Z
LAST-MODIFIED:20221031T163023Z
UID:3732-1669402800-1669406400@svamuli.fi
SUMMARY:SibA: Prima Prattica – renessanssimusiikkia yli kielirajojen
DESCRIPTION:Konsertissa kuullaan instrumentaali- ja vokaaliyhtyemusiikkia mm. säveltäjiltä William Byrd\, Andrea ja Giovanni Gabrieli\, Adrian Willaert ja Tómas Luis de Victoria. Prima Prattica viittaa 1500-luvulta lähtien sävellettyyn musiikkiin\, jonka estetiikassa tietoisesti ammennettiin vanhemmasta traditiosta\, kuten renessanssista. \nKonsertissa esiintyy vanhan musiikin\, laulun\, kuoronjohdon ja avoimen kampuksen opiskelijoita\, johtajana toimii Sibelius-Akatemian vanhan musiikin vierailijaprofessori Justin Doyle.
URL:https://svamuli.fi/t/siba-prima-prattica-renessanssimusiikkia-yli-kielirajojen/
LOCATION:Organo-sali\, Musiikkitalo\, Mannerheimintie 13 A 00100 Helsinki\, Helsinki\, Suomi
END:VEVENT
END:VCALENDAR