BEGIN:VCALENDAR
VERSION:2.0
PRODID:-//Suomen vanhan musiikin liitto ry - ECPv6.15.17.1//NONSGML v1.0//EN
CALSCALE:GREGORIAN
METHOD:PUBLISH
X-WR-CALNAME:Suomen vanhan musiikin liitto ry
X-ORIGINAL-URL:https://svamuli.fi
X-WR-CALDESC:Tapahtumat Suomen vanhan musiikin liitto ry
REFRESH-INTERVAL;VALUE=DURATION:PT1H
X-Robots-Tag:noindex
X-PUBLISHED-TTL:PT1H
BEGIN:VTIMEZONE
TZID:Europe/Helsinki
BEGIN:DAYLIGHT
TZOFFSETFROM:+0200
TZOFFSETTO:+0300
TZNAME:EEST
DTSTART:20210328T010000
END:DAYLIGHT
BEGIN:STANDARD
TZOFFSETFROM:+0300
TZOFFSETTO:+0200
TZNAME:EET
DTSTART:20211031T010000
END:STANDARD
BEGIN:DAYLIGHT
TZOFFSETFROM:+0200
TZOFFSETTO:+0300
TZNAME:EEST
DTSTART:20220327T010000
END:DAYLIGHT
BEGIN:STANDARD
TZOFFSETFROM:+0300
TZOFFSETTO:+0200
TZNAME:EET
DTSTART:20221030T010000
END:STANDARD
BEGIN:DAYLIGHT
TZOFFSETFROM:+0200
TZOFFSETTO:+0300
TZNAME:EEST
DTSTART:20230326T010000
END:DAYLIGHT
BEGIN:STANDARD
TZOFFSETFROM:+0300
TZOFFSETTO:+0200
TZNAME:EET
DTSTART:20231029T010000
END:STANDARD
END:VTIMEZONE
BEGIN:VEVENT
DTSTART;TZID=Europe/Helsinki:20221119T180000
DTEND;TZID=Europe/Helsinki:20221119T193000
DTSTAMP:20260424T233518
CREATED:20221023T190640Z
LAST-MODIFIED:20221023T192726Z
UID:3678-1668880800-1668886200@svamuli.fi
SUMMARY:Arkkityypit – ego
DESCRIPTION:  \nego on yksilön pystyvyyteen liittyvien arkkityyppien sankarin\, taikurin ja kapinallisen varjopuoli. Pystyvyys-arkkityypeille on tärkeää jättää oma jälkensä maailmaan ja nimensä historiaan. Näille arkkityypeille yhteistä sekä Jungin teoriassa että taiteessa on megapystyvyys sekä traagisehko yksinäisyys ja uhrautuvaisuus. \nSankari-ohjelmassa sisäistä sankaruutta etsitään Monteverdin\, Händelin ja Boschin herooisen musiikin vauhdittamana. Yksilökeskeistä ihmiskäsitystä ja sankaruusvaatimuksia tutkaillaan myös omakuvamaalauksen ja jungilaisen sankari-arkkityypin\, jokaisesta ihmisestä löytyvän vahvuuden ja voiman kautta. \nTaikuruus arkkityypeissä menee limittäin sankaruuden kanssa\, ja niinpä taikuriohjelmassa on taian lisäksi arkkityyppistä solistisankaruutta. Maagis-sankarillisten viulu- ja tanssisoolojen lisäksi ohjelmassa on valo- ja videotaikaa. \nKapina-ohjelmassa on kiellettyä musiikkia sekä provoa ja ränttiä sekä soitettuna että puhuttuna. Ujosti loukataan niin sanotun kevyen musiikin ilmatilaa ja testataan\, onko kapinoiminen edes mahdollista\, kun mikään ei enää ole eksplisiittisesti kiellettyä. \nArkkityypit – ego \nElina Häyrynen tanssi \nTero Hytönen\, tanssi ja maalaus \nTuuli Lindeberg\, laulu \nHanna Haapamäki\, nokkahuilu ja traverso \nAnthony Marini\, viulu \nJohanna Randvere\, viola da gamba ja sello \nKaisamaija Uljas\, luuttu \nEero Palviainen\, luuttu \nMarianna Henriksson\, cembalo \nKaisa Kuurne\, puhe \nJaakko Uljas\, visualisointi \nVille Virtanen\, valot \nSeurassamme ja seurassanne herraoletetut Monteverdi\, Händel\, Boschi\, Falconieri\, Matteis\, Englund\, Bach\, Vilsmayr\, Mustonen\, Roman\, Verry\, Playford\, Merula\, Purcell\, Lawes\, Eccles \nLiput: vähävaraiset 10 € // vakavaraiset 20 € // kannatuslippu 30 € \nLipunhintoihin lisätään Ticketmasterin palvelumaksut alk. 1\,50 € \nArkkityypit on taiteilijakollektiivi sekä konserttisarja\, jonka konsertit perustuvat C. G. Jungin arkkityyppeihin. Konserttisarja aloittaa Arkkityypit-kollektiivin kolmivuotisen tutkielman taiteentekemisen sosioekologisesta kestävyydestä. Projektin kukin osa pureutuu barokkimusiikin\, kuva- ja näyttämötaiteen keinoin yhteistyössä ympäristötieteen ja psykologian asiantuntijoiden kanssa eri kestävyysteemoihin. \nlisätietoa: https://www.arkkityypit.com/keikat/ego/ \n 
URL:https://svamuli.fi/t/arkkityypit-ego/
LOCATION:Musiikkitalon Paavo-sali\, Mannerheimintie 13 A\, Helsinki\, 00100
END:VEVENT
END:VCALENDAR