BEGIN:VCALENDAR
VERSION:2.0
PRODID:-//Suomen vanhan musiikin liitto ry - ECPv6.15.17.1//NONSGML v1.0//EN
CALSCALE:GREGORIAN
METHOD:PUBLISH
X-ORIGINAL-URL:https://svamuli.fi
X-WR-CALDESC:Tapahtumat Suomen vanhan musiikin liitto ry
REFRESH-INTERVAL;VALUE=DURATION:PT1H
X-Robots-Tag:noindex
X-PUBLISHED-TTL:PT1H
BEGIN:VTIMEZONE
TZID:Europe/Helsinki
BEGIN:DAYLIGHT
TZOFFSETFROM:+0200
TZOFFSETTO:+0300
TZNAME:EEST
DTSTART:20210328T010000
END:DAYLIGHT
BEGIN:STANDARD
TZOFFSETFROM:+0300
TZOFFSETTO:+0200
TZNAME:EET
DTSTART:20211031T010000
END:STANDARD
BEGIN:DAYLIGHT
TZOFFSETFROM:+0200
TZOFFSETTO:+0300
TZNAME:EEST
DTSTART:20220327T010000
END:DAYLIGHT
BEGIN:STANDARD
TZOFFSETFROM:+0300
TZOFFSETTO:+0200
TZNAME:EET
DTSTART:20221030T010000
END:STANDARD
BEGIN:DAYLIGHT
TZOFFSETFROM:+0200
TZOFFSETTO:+0300
TZNAME:EEST
DTSTART:20230326T010000
END:DAYLIGHT
BEGIN:STANDARD
TZOFFSETFROM:+0300
TZOFFSETTO:+0200
TZNAME:EET
DTSTART:20231029T010000
END:STANDARD
END:VTIMEZONE
BEGIN:VEVENT
DTSTART;TZID=Europe/Helsinki:20221111T180000
DTEND;TZID=Europe/Helsinki:20221111T190000
DTSTAMP:20260424T234153
CREATED:20221016T200718Z
LAST-MODIFIED:20221017T084054Z
UID:3663-1668189600-1668193200@svamuli.fi
SUMMARY:Soiva marraskuu: Valoa syksyyn
DESCRIPTION:  \nIloa tuovaa musiikkia syksyn pimenevään iltaan. \nTelemann\, Brevi\, Boismortier\, Fischer \n  \nElja Puukko\, baritoni \nEspoon barokin yhtye: \nPia Sundroos\, barokkiviulu \nElina Mattila\, barokkisello \nLaura Vihreäpuu\, cembalo
URL:https://svamuli.fi/t/soiva-marraskuu-valoa-syksyyn/
LOCATION:Espoonlahden kirkko\, Kipparinkatu 8\, Espoo\, 02320
END:VEVENT
BEGIN:VEVENT
DTSTART;TZID=Europe/Helsinki:20221111T180000
DTEND;TZID=Europe/Helsinki:20221111T190000
DTSTAMP:20260424T234153
CREATED:20221031T163752Z
LAST-MODIFIED:20221031T163752Z
UID:3735-1668189600-1668193200@svamuli.fi
SUMMARY:SibA: Abendbarock – Ritratto dell’ Amore
DESCRIPTION:Kristiina Talen\, viulu\, Talvi Nurgamaa\, viola d’amore\, Johanna Randvere\, viola da gamba ja Leiu Tonnissaar\, cembalo soittavat musiikkia säveltäjiltä H.I. Biber\, Fr. Couperin ja Chr. Graupner. \nVapaa pääsy
URL:https://svamuli.fi/t/siba-abendbarock-ritratto-dell-amore/
LOCATION:Helsingin Saksalainen kirkko\, Bernhardinkatu 4\, Helsinki\, 00130
END:VEVENT
END:VCALENDAR