BEGIN:VCALENDAR
VERSION:2.0
PRODID:-//Suomen vanhan musiikin liitto ry - ECPv6.15.17.1//NONSGML v1.0//EN
CALSCALE:GREGORIAN
METHOD:PUBLISH
X-WR-CALNAME:Suomen vanhan musiikin liitto ry
X-ORIGINAL-URL:https://svamuli.fi
X-WR-CALDESC:Tapahtumat Suomen vanhan musiikin liitto ry
REFRESH-INTERVAL;VALUE=DURATION:PT1H
X-Robots-Tag:noindex
X-PUBLISHED-TTL:PT1H
BEGIN:VTIMEZONE
TZID:Europe/Helsinki
BEGIN:DAYLIGHT
TZOFFSETFROM:+0200
TZOFFSETTO:+0300
TZNAME:EEST
DTSTART:20210328T010000
END:DAYLIGHT
BEGIN:STANDARD
TZOFFSETFROM:+0300
TZOFFSETTO:+0200
TZNAME:EET
DTSTART:20211031T010000
END:STANDARD
BEGIN:DAYLIGHT
TZOFFSETFROM:+0200
TZOFFSETTO:+0300
TZNAME:EEST
DTSTART:20220327T010000
END:DAYLIGHT
BEGIN:STANDARD
TZOFFSETFROM:+0300
TZOFFSETTO:+0200
TZNAME:EET
DTSTART:20221030T010000
END:STANDARD
BEGIN:DAYLIGHT
TZOFFSETFROM:+0200
TZOFFSETTO:+0300
TZNAME:EEST
DTSTART:20230326T010000
END:DAYLIGHT
BEGIN:STANDARD
TZOFFSETFROM:+0300
TZOFFSETTO:+0200
TZNAME:EET
DTSTART:20231029T010000
END:STANDARD
END:VTIMEZONE
BEGIN:VEVENT
DTSTART;TZID=Europe/Helsinki:20221108T200000
DTEND;TZID=Europe/Helsinki:20221108T210000
DTSTAMP:20260424T233521
CREATED:20220927T155234Z
LAST-MODIFIED:20220927T155234Z
UID:3635-1667937600-1667941200@svamuli.fi
SUMMARY:Café Barock Kalliosalissa: Laura Maddalena
DESCRIPTION:Cembalisti ja näyttelijä Elina Mustonen herättää säveltäjä Eero Hämeenniemeltä tilaamassaan teoksessa eloon Ospedalet – italialaiset keskiajalta polveutuvat tyttölasten orpokodit. 1600-luvun loppupuolella Venetsian orpokodeista kehittyi Euroopan parhaita naisille avoimia musiikkikouluja\, joissa opettajina toimivat aikansa merkittävimmät maestrot: Vivaldi\, Galuppi\, Cavalli\, Gasparini\, Legrenzi…. \nMusiikkidraama Laura Maddalena kertoo kertoo kahden eri aikakausilla eläneen ospedale-tytön tarinan yhdistämällä historiaa ja fiktiota\, venetsialaista cembalomusiikkia\, Hämeenniemen uusia sävellyksiä ja hänen kirjoittamaansa tekstiä. Lisäksi esitys sisältää musiikkia Luigi Rossilta\, Barbara Strozzilta\, Domenico Scarlattilta\, Baldassare Galuppilta ja Ferdinando Bertonilta. \nEsityksessä uskonto ja musiikki ovat nuorten naisten tärkein elämän sisältö suljettujen porttien sisäpuolella. Silti nunnien ja rippi-isien tiukka valvonta ei voi estää koko inhimillisen tunnekirjon heräämistä. Rakkaus ja seksuaalisuus elävät nuorten naisten fantasioissa\, mutta loputtomiin niitä ei voida tukahduttaa. Viimein rakkaus tarjoaa ulospääsyn ospedalen suljetusta maailmasta. \nTeos purkaa myös musiikkimaailman miehistä kaanonia ja neromyyttiä sekä tarkastelee naisoletettujen muusikoiden ja säveltäjien näkymättömyyttä. Kuten eräs esityksen naishahmoista toteaa: ”Minä olen yhtä näkymätön kuin musiikki.” Ospedale-muusikoiden tarinat eivät kerro ainoastaan heidän oman aikakautensa sosiaalisesta ilmapiiristä ja sukupuolittuneista normeista\, vaan niiden heijastumia voi nähdä myös historian myöhemmissä kerrostumissa aina tämän päivän kulttuuridiskurssiin saakka. \nJoitakin aineksia esitykseen on antanut monipuolisen muusikon Maddalena-Laura Lombardini Sirmenin (1745-1818) elämäntarina. Tämä Ospedale dei Mendicantissa kasvanut nainen teki myöhemmin menestyksekkään kansainvälisen uran viulistina\, laulajana ja säveltäjänä. \nMusikaalisten nuorten naisten vapautumistarina on jatkoa Elina Mustosen menestyksekkäälle musiikkia ja draamaa yhdistäneelle Shakespeare-esitykselle Her Infinite Variety sekä Molière-esitykselle Jouez!. \nLAURA MADDALENA \nNÄYTTÄMÖLLÄ: Elina Mustonen\, cembalisti ja näyttelijä \nMUSIIKKI JA ALKUPERÄISTEKSTI: Eero Hämeenniemi \nOHJAUS: Johanna Freundlich \nVISUALISOINTI: Nina Mansikka \nOvet klo 19.00 \nShowtime klo 20.00 \nKalliosalin baari on auki tilaisuuden ajan (huom! vain korttimaksu). \nLiput 15 € / 10 € ovelta ja ennakkoon Holvista (https://holvi.com/shop/ensemblenylandia/) \nJärjestää Kulttuuriyhdistys Ensemble Nylandia ry/Café Barock yhteistyössä Kalliosalin kanssa.
URL:https://svamuli.fi/t/cafe-barock-kalliosalissa-laura-maddalena/
LOCATION:Kalliosali\, Pengerkatu 11 A\, Helsinki\, 00530
END:VEVENT
END:VCALENDAR