BEGIN:VCALENDAR
VERSION:2.0
PRODID:-//Suomen vanhan musiikin liitto ry - ECPv6.15.17.1//NONSGML v1.0//EN
CALSCALE:GREGORIAN
METHOD:PUBLISH
X-ORIGINAL-URL:https://svamuli.fi
X-WR-CALDESC:Tapahtumat Suomen vanhan musiikin liitto ry
REFRESH-INTERVAL;VALUE=DURATION:PT1H
X-Robots-Tag:noindex
X-PUBLISHED-TTL:PT1H
BEGIN:VTIMEZONE
TZID:Europe/Helsinki
BEGIN:DAYLIGHT
TZOFFSETFROM:+0200
TZOFFSETTO:+0300
TZNAME:EEST
DTSTART:20210328T010000
END:DAYLIGHT
BEGIN:STANDARD
TZOFFSETFROM:+0300
TZOFFSETTO:+0200
TZNAME:EET
DTSTART:20211031T010000
END:STANDARD
BEGIN:DAYLIGHT
TZOFFSETFROM:+0200
TZOFFSETTO:+0300
TZNAME:EEST
DTSTART:20220327T010000
END:DAYLIGHT
BEGIN:STANDARD
TZOFFSETFROM:+0300
TZOFFSETTO:+0200
TZNAME:EET
DTSTART:20221030T010000
END:STANDARD
BEGIN:DAYLIGHT
TZOFFSETFROM:+0200
TZOFFSETTO:+0300
TZNAME:EEST
DTSTART:20230326T010000
END:DAYLIGHT
BEGIN:STANDARD
TZOFFSETFROM:+0300
TZOFFSETTO:+0200
TZNAME:EET
DTSTART:20231029T010000
END:STANDARD
END:VTIMEZONE
BEGIN:VEVENT
DTSTART;TZID=Europe/Helsinki:20221016T110000
DTEND;TZID=Europe/Helsinki:20221016T120000
DTSTAMP:20260425T003902
CREATED:20220821T175158Z
LAST-MODIFIED:20220821T175158Z
UID:3469-1665918000-1665921600@svamuli.fi
SUMMARY:Helsinki Early Music Festival: Kantaattijumalanpalvelus
DESCRIPTION:Helsinki Early Music Festival\nKantaattijumalanpalvelus \nEncanto House Band\nSaksalaisen seurakunnan lauluyhtye ja Agnes Goerke \nHelsinki Early Music Festival -ohjelmaan kuuluu perinteisesti seurakuntakumppanin kanssa toteutettava kantaattijumalanpalvelus. Tänä vuonna runsain määrin musiikkia sisältäviä jumalanpalveluksia on kaksi. Tervetuloa sanan ja musiikin äärelle. \nVapaa pääsy
URL:https://svamuli.fi/t/helsinki-early-music-festival-kantaattijumalanpalvelus-2/
LOCATION:Saksalainen kirkko\, Unioninkatu 1\, 00130 Helsinki\, Helsinki\, Suomi
END:VEVENT
BEGIN:VEVENT
DTSTART;TZID=Europe/Helsinki:20221016T150000
DTEND;TZID=Europe/Helsinki:20221016T160000
DTSTAMP:20260425T003902
CREATED:20220927T115222Z
LAST-MODIFIED:20220927T115222Z
UID:3629-1665932400-1665936000@svamuli.fi
SUMMARY:Café Barock Universumissa: Händel
DESCRIPTION:Händel <3 Italia – musiikkia Rooman palatseista \nKonserttikokonaisuus keskittyy Georg Friedrich Händelin vuonna 1707 Roomassa säveltämän musiikin ympärille. Tuolloin parikymppinen Händel oli juuri muuttanut Saksasta Roomaan\, jossa paavi oli kieltänyt oopperan esittämisen. Tämä johti lukuisten kantaattien ja oratorioiden syntyyn – yksin Händeliltä tunnetaan siltä vuodelta lähes 40 kantaattia ja oratoriota. Näistä valtaosa on kirjoitettu kamarikokoonpanolle\, esitettäväksi muun muassa Händelin yhden Rooman aikaisen suojelijan\, markiisi Ruspolin palatsissa. Myöhemmällä iällään Händel on todennut nuoruuden säveltämisestään seuraavasti: ”I wrote like the devil in those days\, and chiefly for the oboe\, which was my favorite instrument.” \nHändelin kantaateissaan käyttämät tekstit ovat usein klassiseen mytologiaan pohjautuvia traagisia rakkaustarinoita. Libretisteina toimi muun muassa Roomassa vaikuttaneita kardinaaleja\, kuten Pietro Ottoboni ja Benedetto Pamphili. Molemmat olivat myös Arcangelo Corellin suojelijoita\, hän omisti kuuluisista triosonaateistaan opukset 2 ja 4 juuri näille kardinaaleille. Corellin ja Händelin tiet myös kohtasivat Roomassa\, jossa Corelli toimi muun muassa vuonna 1707 Händelin oratorion Il trionfo del Tempo e del Disinganno ensiviulistina. Konsertti kokoaa yhteen näiden kahden Roomassa vaikuttaneen säveltäjän musiikin\, keskiössä harvemmin Suomessa kuullut Händelin varhaiset italialaiset kantaatit. \nJohanna Isokoski\, sopraano \nKatariina Malmberg\, barokkioboe \nKaisa Ruotsalainen\, barokkiviulu \nAnna Pulakka\, barokkisello \nSanni Antikainen\, cembalo \nHändel – Corelli \nLiput ovelta puoli tuntia ennen konserttia\, maksa mitä jaksat – tue taidetta! \nKahvila avoinna ennen konserttia ja väliajalla. \nJärjestää Kulttuuriyhdistys Ensemble Nylandia ry/Café Barock
URL:https://svamuli.fi/t/cafe-barock-universumissa-handel/
LOCATION:Teatteritalo Universum\, Perämiehenkatu 13\, Helsinki
END:VEVENT
BEGIN:VEVENT
DTSTART;TZID=Europe/Helsinki:20221016T180000
DTEND;TZID=Europe/Helsinki:20221016T190000
DTSTAMP:20260425T003902
CREATED:20220916T225933Z
LAST-MODIFIED:20220916T225933Z
UID:3553-1665943200-1665946800@svamuli.fi
SUMMARY:I fortunati - Ajan laineilla
DESCRIPTION:Konsertti Maarian kirkossa sunnuntaina 16.10.2022 klo 18 – Monteverdin ja Sancesin duettoja ja soololauluja sekä soitinimprovisaatioita barokkityyliin \nAnneliina Rif\, sopraano\nMaikki Säikkä\, sopraano\nTopias Tiheäsalo\, barokkikitara\nTuomas Kourula\, teorbi \nI Fortunati-yhtyeen ensikonsertti oli Maarian kirkossa marraskuussa 2018\, ja tämän illan konsertti onkin paluu juurille niin konserttipaikan kuin konsertin ohjelmiston suhteen. Vanhan kivikirkon holvit kaikuvat taas vuosisatojen takaista musiikkia ja kahden sopraanon ja kahden näppäilysoittimen helähtävät soinnit rakentavat musiikillista maisemaansa duoparien voimalla. Kaksi laulajaa ja continuon kaksi näppäilysoitinta kuljettavat kuulijaa kirkkaasti ja ilmaisuvoimaisesti jännitteiden ja soljuvien suvantovesien välillä. \nOhjelmassa keskeisen roolin saavan säveltäjän Giovanni Felice Sancesin (1600–1679) maallinen ja hengellinen musiikki luo vastapareja ja yhdistäviä linjoja ihmiselämän eri puolten kuvaajiksi. Teorbin ja barokkikitaran improvisaatiot ottavat toisistaan mittaa ja seuraavassa hetkessä sulautuvat sopuisaksi kudokseksi\, joka kehystää laulujen tunteikkaita tarinoita. \nVapaa pääsy\, käsiohjelmamaksu 10€
URL:https://svamuli.fi/t/i-fortunati-ajan-laineilla/
LOCATION:Maarian kirkko\, Maunu Tawastin katu 2\, Turku
END:VEVENT
END:VCALENDAR