BEGIN:VCALENDAR
VERSION:2.0
PRODID:-//Suomen vanhan musiikin liitto ry - ECPv6.15.17.1//NONSGML v1.0//EN
CALSCALE:GREGORIAN
METHOD:PUBLISH
X-WR-CALNAME:Suomen vanhan musiikin liitto ry
X-ORIGINAL-URL:https://svamuli.fi
X-WR-CALDESC:Tapahtumat Suomen vanhan musiikin liitto ry
REFRESH-INTERVAL;VALUE=DURATION:PT1H
X-Robots-Tag:noindex
X-PUBLISHED-TTL:PT1H
BEGIN:VTIMEZONE
TZID:Europe/Helsinki
BEGIN:DAYLIGHT
TZOFFSETFROM:+0200
TZOFFSETTO:+0300
TZNAME:EEST
DTSTART:20210328T010000
END:DAYLIGHT
BEGIN:STANDARD
TZOFFSETFROM:+0300
TZOFFSETTO:+0200
TZNAME:EET
DTSTART:20211031T010000
END:STANDARD
BEGIN:DAYLIGHT
TZOFFSETFROM:+0200
TZOFFSETTO:+0300
TZNAME:EEST
DTSTART:20220327T010000
END:DAYLIGHT
BEGIN:STANDARD
TZOFFSETFROM:+0300
TZOFFSETTO:+0200
TZNAME:EET
DTSTART:20221030T010000
END:STANDARD
BEGIN:DAYLIGHT
TZOFFSETFROM:+0200
TZOFFSETTO:+0300
TZNAME:EEST
DTSTART:20230326T010000
END:DAYLIGHT
BEGIN:STANDARD
TZOFFSETFROM:+0300
TZOFFSETTO:+0200
TZNAME:EET
DTSTART:20231029T010000
END:STANDARD
END:VTIMEZONE
BEGIN:VEVENT
DTSTART;TZID=Europe/Helsinki:20221014T190000
DTEND;TZID=Europe/Helsinki:20221014T200000
DTSTAMP:20260425T004210
CREATED:20220821T174419Z
LAST-MODIFIED:20220821T174419Z
UID:3461-1665774000-1665777600@svamuli.fi
SUMMARY:Helsinki Early Music Festival: Vivaldi ja barokin vaeltajat - Itä-Euroopan musiikilliset ilotulitukset
DESCRIPTION:Helsinki Early Music Festival\nVivaldi ja barokin vaeltajat\nItä-Euroopan musiikilliset ilotulitukset \nVivaldi–anonyymi \nMyriam Leblanc\, sopraano\nEnsemble Caprice:\nMatthias Maute\, nokkahuilu ja traverso\nSophie Larivière\, nokkahuilu ja traverso\nOlivier Brault\, viulu\nLucie Ringuette\, viulu\nSusie Napper\, sello\nDavid Jacques\, barokkikitara\nZiya Tabassian\, lyömäsoittimet \nKuuluisa Groven musiikkisanakirja väittää\, että Vivaldin musiikissa on kuultavissa vaikutteita Itä-Euroopan nomadimuusikoiden musiikista. Punaiseksi papiksi kutsuttu Vivaldi kiersi esittämässä oopperoitaan ahkerasti juuri idässä. Itäeurooppalaiset kulttuurivaikutteet olivat kuitenkin läsnä Venetsian La Pietàn kirkon – jossa Vivaldi opetti – ympäristössä\, sillä Itä-Euroopan kauppiaat purkivat laivalastinsa Orjien kanavassa (Canale delle sciavi) aivan La Pietàn kynnyksellä laulaen samalla omia melodioitaan ja juhlien läpi yön. \nEnsemble Capricen muusikot halusivat selvittää\, oliko väitetty yhteys Vivaldin musiikin ja nomadimuusikoiden melodioiden välillä jäljitettävissä. Uhrovska-kokoelma (nimetty löytöpaikan eli slovakialaisen kaupungin mukaan) vuodelta 1730 näytti olevan esimerkkitapaus. Se tarjoaa kiehtovan silmäyksen nomadien musiikkimaailmaan. Jopa 350 melodiasta koostuvan kokoelman oli mitä ilmeisimmin tarkoitus olla mahdollisimman kattava. Sen monikansallinen luonne kertoo\, kuinka barokkinomadit ja heidän musiikkinsa matkasivat. Unkarilaiset melodiat tšekkiläisten laulujen jatkeena ja dokumentin löytöpaikka Slovakiassa jättävät meidät arvailujen varaan laulujen vaikutuksista kansallisen kulttuurin kehitykseen. \nYllättävä itäeurooppalaisten vaikutusten paljastuminen muuttaa näkökulmaamme aivan täysin: Vivaldin villi La Folia -sonaatti\, tyrmistyttävän virtuoosinen nokkahuilukonsertto (RV 443) ja huumaava In furore -motetti näyttäytyvät aivan uudessa valossa. \nKesto: 1 t (ei väliaikaa) \nLiput 20/30/50 € (valitse itse hinta\, katsomo on numeroimaton): Ticketmasterin myyntipisteet ja ticketmaster.fi\nLiput opiskelijoille ovelta 10 € \nSarjalippu 100 €: valitse viisi festivaalin tapahtumaa ja tilaa edullinen sarjalippu täältä (osassa konserteista on rajoitettu määrä sarjalippupaikkoja) \nRyhmäliput: tilaa edulliset ryhmäliput lomakkeella \nLipputiedustelut: lippu@fibo.fi
URL:https://svamuli.fi/t/helsinki-early-music-festival-vivaldi-ja-barokin-vaeltajat-ita-euroopan-musiikilliset-ilotulitukset/
LOCATION:Saksalainen kirkko\, Unioninkatu 1\, 00130 Helsinki\, Helsinki\, Suomi
END:VEVENT
END:VCALENDAR