BEGIN:VCALENDAR
VERSION:2.0
PRODID:-//Suomen vanhan musiikin liitto ry - ECPv6.15.17.1//NONSGML v1.0//EN
CALSCALE:GREGORIAN
METHOD:PUBLISH
X-ORIGINAL-URL:https://svamuli.fi
X-WR-CALDESC:Tapahtumat Suomen vanhan musiikin liitto ry
REFRESH-INTERVAL;VALUE=DURATION:PT1H
X-Robots-Tag:noindex
X-PUBLISHED-TTL:PT1H
BEGIN:VTIMEZONE
TZID:Europe/Helsinki
BEGIN:DAYLIGHT
TZOFFSETFROM:+0200
TZOFFSETTO:+0300
TZNAME:EEST
DTSTART:20210328T010000
END:DAYLIGHT
BEGIN:STANDARD
TZOFFSETFROM:+0300
TZOFFSETTO:+0200
TZNAME:EET
DTSTART:20211031T010000
END:STANDARD
BEGIN:DAYLIGHT
TZOFFSETFROM:+0200
TZOFFSETTO:+0300
TZNAME:EEST
DTSTART:20220327T010000
END:DAYLIGHT
BEGIN:STANDARD
TZOFFSETFROM:+0300
TZOFFSETTO:+0200
TZNAME:EET
DTSTART:20221030T010000
END:STANDARD
BEGIN:DAYLIGHT
TZOFFSETFROM:+0200
TZOFFSETTO:+0300
TZNAME:EEST
DTSTART:20230326T010000
END:DAYLIGHT
BEGIN:STANDARD
TZOFFSETFROM:+0300
TZOFFSETTO:+0200
TZNAME:EET
DTSTART:20231029T010000
END:STANDARD
END:VTIMEZONE
BEGIN:VEVENT
DTSTART;TZID=Europe/Helsinki:20221007T150000
DTEND;TZID=Europe/Helsinki:20221007T200000
DTSTAMP:20260425T003836
CREATED:20220926T163357Z
LAST-MODIFIED:20220926T163357Z
UID:3600-1665154800-1665172800@svamuli.fi
SUMMARY:Haapaveden Wanhan musiikin tapahtuma: Folkbarock-kurssi
DESCRIPTION:  \nFolkbarock-kurssin opettajina toimivat: \nLiana (Portugali)\, Fado\, laulu\, yhtyeet \nUli Kontu-Korhonen\, laulu\, kuorot\, yhtyeet\, keskiaika \nVeikko Kiiver\, laulu (lauluja ja koraaleja  Italiasta ja wanhasta Euroopasta\, Eestistä ja Ruotsista) \nSamuli Karjalainen\, paimensoitto Teppo Revon hengessä\, Irlantilainen kansanmusiikki \nVeera Kuisma\, viulu\, yhtyeet\, Polskaa Pohjolasta ja keltti-perinnettä Pohjois-Amerikasta \nNelli Ikola-Heiska\, viulu\, yhtyeet\, Bluegrass ja muuta menevää \nTero Hyväluoma\, viulu\, yhtyeet\, improvisointi\, perhonjokilaaksolainen viulunsoittotyyli   \nOlli Kari\, koskettimet\, haitarit\, yhtyeet (musiikkia meiltä ja muualta\, barokkia ja vapaaimproa\, perinnetyylejä ja poppia) \nJarmo Julkunen\, ukulele\, luuttu\, banjo\, mandoliini ja kitara\, kielisoittimet\, yhtyeet \nJarmo Romppanen\, mandoliini\, kielisoittimet yhtyeet \nTuomas Logrén\, kitara\, kielisoittimet\, yhtyeet \nArnold Chiwalala\, Tansanian rytmit ja laulut\, 11-kielinen kantele \nLisätietoja:  \nwww.haapavesifolk.com  \nwww.haapop.fi
URL:https://svamuli.fi/t/haapaveden-wanhan-musiikin-tapahtuma-folkbarock-kurssi/
LOCATION:Haapaveden opisto\, Vanhatie 45\, 86600 Haapavesi\, Haapavesi\, Suomi
END:VEVENT
BEGIN:VEVENT
DTSTART;TZID=Europe/Helsinki:20221007T180000
DTEND;TZID=Europe/Helsinki:20221007T200000
DTSTAMP:20260425T003836
CREATED:20220914T195635Z
LAST-MODIFIED:20220914T195635Z
UID:3502-1665165600-1665172800@svamuli.fi
SUMMARY:Oulunsalo Ensemble: J. S. Bachin h-mollimessu
DESCRIPTION:Bach 2020 on tänään Bach 2022 \nJ. S. Bachin h-mollimessu esitetään kolme kertaa Oulun hiippakunnassa lokakuussa 2022: \nPe 7.10 klo 18 Haapajärven kirkossa\nLa 8.10 klo 18 Alatornion kirkossa\nSu 9.10 klo 18 Oulun tuomiokirkossa \nOulun hiippakunta juhli 170-vuotista taivaltaan vuonna 2020 ja juhlavuotta oli tarkoitus juhlia J. S. Bachin h-mollimessun sävelin. Koskaan ei ole kuitenkaan myöhäistä\, ja nyt tämä yksi musiikinhistorian hienoimmista teoksista kuullaan kolmesti Oulun hiippakunnan oratoriokuoron ja Oulunsalo Ensemblen esittämänä lokakuun aikana. Solisteina laulavat sopraanot Virve Karen ja Taru Pisto\, Minna Raassina altto\, Niall Chorell tenori ja Jaakko Kortekangas basso. Teoksen johtaa Raimo Paaso. \nLämpimästi tervetuloa esityksiin.
URL:https://svamuli.fi/t/oulunsalo-ensemble-j-s-bachin-h-mollimessu-3/
LOCATION:Haapajärven kirkko\, Kirkkokatu 1\, Haapajärvi\, 85800
END:VEVENT
BEGIN:VEVENT
DTSTART;TZID=Europe/Helsinki:20221007T183000
DTEND;TZID=Europe/Helsinki:20221007T193000
DTSTAMP:20260425T003836
CREATED:20220927T154645Z
LAST-MODIFIED:20220927T154645Z
UID:3631-1665167400-1665171000@svamuli.fi
SUMMARY:Klavikordilla nelikätisesti
DESCRIPTION:Kosketinsoitinvirtuoosit Päivi Vesalainen ja Anne Hätönen saapuvat Qwenselin tunnelmalliseen saliin heläyttelemään sulokkaita sointuja klavikordista\, tuosta harvoin kuullusta kosketinsoittimesta. Apteekkimuseon 1700-luvun interiööri on omiaan klavikordikonsertin ympäristöksi\, sillä tuota pianon edeltäjää käytettiin muun muassa tuolloin laajalti kotisoittimena. Konsertissa kuullaan säveliä mm. W. A. Mozartilta\, Johann Christoph Friedrich Bachilta sekä Johann Christian Bachilta. \nLiput 22€ / 17€ \nLippuvaraukset ja tiedustelut: tvmseura@gmail.com
URL:https://svamuli.fi/t/klavikordilla-nelikatisesti/
LOCATION:Qwenselin talo ja apteekkimuseo\, Läntinen Rantakatu 13\, Turku\, 20100
END:VEVENT
BEGIN:VEVENT
DTSTART;TZID=Europe/Helsinki:20221007T190000
DTEND;TZID=Europe/Helsinki:20221007T200000
DTSTAMP:20260425T003836
CREATED:20220821T175447Z
LAST-MODIFIED:20220821T175447Z
UID:3472-1665169200-1665172800@svamuli.fi
SUMMARY:Helsinki Early Music Festival: Bagdadin Julia - Esitys mahdottomasta rakkaudesta
DESCRIPTION:Helsinki Early Music Festival\nBagdadin Julia\nEsitys mahdottomasta rakkaudesta \nBakr Hasan\, käsikirjoitus ja ohjaus\nBakr Hasan ja Henna Mäki-Filppula\, näyttelijät\nAli Saad\, arabilaulu\nSanna Salmenkallio\, arabiviulu\nSanna Salmenkallio ja Anthony Marini\, musiikkidramaturgia\nPietu Pietiäinen\, valot\nMarkus Tsokkinen\, visualisointi\nSuomalainen barokkiorkesteri \nTässä musiikkia ja teatteria yhdistelevässä esityksessä William Shakespearen Romeo ja Julia toimii siltana yhteiselle matkalle rakkaustarinaan sota-ajan Bagdadiin. Hallittu klassisuus barokkiorkestereineen ja runomittoineen saa rinnalleen tositapahtumiin perustuvan kauniin ja traagisen tarinan tämän päivän Lähi-idästä. \nSota muuttaa meitä\, ihmisyys kadottaa suunnan. Kuitenkin tuhkan keskeltä nousee aina valo.\n”Haavan kautta löytää valo aina lopulta sisällesi.” Jalal al-Din Rumi \nBakr Hasan on valmistunut näyttelijä-ohjaajaksi Bagdadin yliopistosta. Hän on erikoistunut fyysiseen teatteriin ja käyttää sen keinoja klassikoiden esittämiseen. Hasan on Suomessa työskennellyt muun muassa Kansallisteatterissa ja tehnyt kolme omaa sooloa. Esityksissään Hasan yhdistää eurooppalaista ja arabialaista kulttuuria ja luo niistä oman näköistään taidetta. \nEsityksessä kuullaan Shakespearen hengessä brittiläistä barokkia ja tunnevoimaista arabimusiikkia\, jota esittää bagdadilaisessa muusikkosuvussa kasvanut laulaja Ali Saad. Esityksen äänidramaturgeina toimivat elokuvasävellyksistään tunnettu säveltäjä Sanna Salmenkallio ja Suomalaisen barokkiorkesterin taiteellinen suunnittelija\, viulisti Anthony Marini. \nKonsertti kuuluu myös Ritarihuoneen residenssisarjaan. \nKesto: 1 t (ei väliaikaa) \nLiput 15/29/37/52 € (HUOM. normaalista poikkeava katsomo) käsittelykuluineen + 1 €:n toimitusmaksu tilausta kohti: Ticketmasterin myyntipisteet ja ticketmaster.fi \nLiput opiskelijoille ovelta 10 € \nHelsinki Early Music Festivalin sarjalippu 100 €: valitse viisi festivaalin tapahtumaa ja tilaa edullinen sarjalippu täältä (osassa konserteista on rajoitettu määrä sarjalippupaikkoja). Konsertti kuuluu myös FiBOn Ritarihuoneen residenssisarjaan. \nHelsinki Early Music Festivalin ryhmäliput: tilaa edulliset ryhmäliput lomakkeella \nLipputiedustelut: lippu@fibo.fi
URL:https://svamuli.fi/t/helsinki-early-music-festival-bagdadin-julia-esitys-mahdottomasta-rakkaudesta/
LOCATION:Ritarihuone\, Ritarikatu 1\, Helsinki\, Helsinki\, Suomi
END:VEVENT
BEGIN:VEVENT
DTSTART;TZID=Europe/Helsinki:20221007T200000
DTEND;TZID=Europe/Helsinki:20221007T210000
DTSTAMP:20260425T003836
CREATED:20220926T172856Z
LAST-MODIFIED:20220926T172856Z
UID:3615-1665172800-1665176400@svamuli.fi
SUMMARY:Haapaveden Wanhan musiikin tapahtuma: Konsertti
DESCRIPTION:Folkbarockin konsertti \nLiput 15/10 €\, kaikki konsertit 25 €\, perhelippu 30€
URL:https://svamuli.fi/t/haapaveden-wanhan-musiikin-tapahtuma-konsertti-2/
LOCATION:Haapaveden kirkko\,  Tähtelänkuja 5\, 86600 Haapavesi\, Haapavesi\, Suomi
END:VEVENT
END:VCALENDAR