BEGIN:VCALENDAR
VERSION:2.0
PRODID:-//Suomen vanhan musiikin liitto ry - ECPv6.15.17.1//NONSGML v1.0//EN
CALSCALE:GREGORIAN
METHOD:PUBLISH
X-ORIGINAL-URL:https://svamuli.fi
X-WR-CALDESC:Tapahtumat Suomen vanhan musiikin liitto ry
REFRESH-INTERVAL;VALUE=DURATION:PT1H
X-Robots-Tag:noindex
X-PUBLISHED-TTL:PT1H
BEGIN:VTIMEZONE
TZID:Europe/Helsinki
BEGIN:DAYLIGHT
TZOFFSETFROM:+0200
TZOFFSETTO:+0300
TZNAME:EEST
DTSTART:20210328T010000
END:DAYLIGHT
BEGIN:STANDARD
TZOFFSETFROM:+0300
TZOFFSETTO:+0200
TZNAME:EET
DTSTART:20211031T010000
END:STANDARD
BEGIN:DAYLIGHT
TZOFFSETFROM:+0200
TZOFFSETTO:+0300
TZNAME:EEST
DTSTART:20220327T010000
END:DAYLIGHT
BEGIN:STANDARD
TZOFFSETFROM:+0300
TZOFFSETTO:+0200
TZNAME:EET
DTSTART:20221030T010000
END:STANDARD
BEGIN:DAYLIGHT
TZOFFSETFROM:+0200
TZOFFSETTO:+0300
TZNAME:EEST
DTSTART:20230326T010000
END:DAYLIGHT
BEGIN:STANDARD
TZOFFSETFROM:+0300
TZOFFSETTO:+0200
TZNAME:EET
DTSTART:20231029T010000
END:STANDARD
END:VTIMEZONE
BEGIN:VEVENT
DTSTART;TZID=Europe/Helsinki:20221005T190000
DTEND;TZID=Europe/Helsinki:20221005T200000
DTSTAMP:20260425T004340
CREATED:20220916T230742Z
LAST-MODIFIED:20220916T230742Z
UID:3562-1664996400-1665000000@svamuli.fi
SUMMARY:Tuulen tiet - Bravaden 15-vuotisjuhlakonsertti
DESCRIPTION:Tuulen tiet -konsertti on monipuolinen kokonaisuus musiikkia Bravaden 15-vuotiselta taipaleelta. Ohjelman punaisena lankana kulkee maantieteellinen läpileikkaus etelästä pohjoiseen. Matka alkaa italialaisen keskiajan ja renessanssimusiikin helmistä kulkien Englannin hovien kautta Suomeen. Lopulta tuulen tiet vievät Keski-Euroopan katedraalien ja barokinajan suurten säveltäjien maisemiin. Konsertissa kuullaan myös japanilaista nykymusiikkia muistona Bravaden Japanin kiertueilta. Pohjoisen tuulahduksen ohjelmaan tuovat kvartetille vuonna 2020 sävelletty teos Sid Hilleltä sekä ruotsalainen polska Bravaden omana sovituksena.\nKriitikoidenkin ylistämän\, vanhan musiikin ammattilaisista koostuvan Bravaden tavoitteena on esitellä kuulijoilleen nokkahuilumusiikin laajaa kirjoa sekä tuoda esiin upeiden soittimiensa sävyjä ja mahdollisuuksia. Muuntautumiskykyisen kvartetin ohjelmistosta löytyy musiikkia keskiajalta nykypäivään\, säväyttäviä poikkitaiteellisia kokonaisuuksia sekä hulvattomia lastenkonsertteja. Bravaden muodostavat Sunniva Fagerlund\, Pauliina Fred\, Hanna Haapamäki sekä Hanna Paatelma.
URL:https://svamuli.fi/t/tuulen-tiet-bravaden-15-vuotisjuhlakonsertti/
LOCATION:Oulun Lääninhallituksen talo\, Linnankatu 3\, 90100 Oulu\, Oulu\, Suomi
END:VEVENT
END:VCALENDAR