BEGIN:VCALENDAR
VERSION:2.0
PRODID:-//Suomen vanhan musiikin liitto ry - ECPv6.15.17.1//NONSGML v1.0//EN
CALSCALE:GREGORIAN
METHOD:PUBLISH
X-ORIGINAL-URL:https://svamuli.fi
X-WR-CALDESC:Tapahtumat Suomen vanhan musiikin liitto ry
REFRESH-INTERVAL;VALUE=DURATION:PT1H
X-Robots-Tag:noindex
X-PUBLISHED-TTL:PT1H
BEGIN:VTIMEZONE
TZID:Europe/Helsinki
BEGIN:DAYLIGHT
TZOFFSETFROM:+0200
TZOFFSETTO:+0300
TZNAME:EEST
DTSTART:20210328T010000
END:DAYLIGHT
BEGIN:STANDARD
TZOFFSETFROM:+0300
TZOFFSETTO:+0200
TZNAME:EET
DTSTART:20211031T010000
END:STANDARD
BEGIN:DAYLIGHT
TZOFFSETFROM:+0200
TZOFFSETTO:+0300
TZNAME:EEST
DTSTART:20220327T010000
END:DAYLIGHT
BEGIN:STANDARD
TZOFFSETFROM:+0300
TZOFFSETTO:+0200
TZNAME:EET
DTSTART:20221030T010000
END:STANDARD
BEGIN:DAYLIGHT
TZOFFSETFROM:+0200
TZOFFSETTO:+0300
TZNAME:EEST
DTSTART:20230326T010000
END:DAYLIGHT
BEGIN:STANDARD
TZOFFSETFROM:+0300
TZOFFSETTO:+0200
TZNAME:EET
DTSTART:20231029T010000
END:STANDARD
END:VTIMEZONE
BEGIN:VEVENT
DTSTART;TZID=Europe/Helsinki:20221004T193000
DTEND;TZID=Europe/Helsinki:20221004T203000
DTSTAMP:20260425T004343
CREATED:20220821T175824Z
LAST-MODIFIED:20220821T175824Z
UID:3474-1664911800-1664915400@svamuli.fi
SUMMARY:Café Barock Tampere: Tuulen tiet
DESCRIPTION:Bravade-nokkahuilukvartetti:\nSunniva Fagerlund\nPauliina Fred\nHanna Haapamäki\nHanna Paatelma \nTuulen tiet -konsertti on monipuolinen kokonaisuus musiikkia Bravade-nokkahuilukvartetin 15-\nvuotiselta taipaleelta. Ohjelman punaisena lankana kulkee maantieteellinen läpileikkaus Etelästä\nPohjoiseen. Matka alkaa italialaisen keskiajan ja renessanssimusiikin helmistä\, kulkien Englannin\nhovien kautta Suomeen. Lopulta tuulen tiet vievät Keski-Euroopan katedraalien ja barokinajan suurten\nsäveltäjien maisemiin. Konsertissa kuullaan myös japanilaista nykymusiikkia muistona Bravaden\nJapanin kiertueilta. Pohjoisen tuulahduksen ohjelmaan tuovat Bravadelle vuonna 2020 sävelletty teos\nSid Hilleltä sekä ruotsalainen polska Bravaden omana sovituksena. \n  \nLiput 20/10e
URL:https://svamuli.fi/t/cafe-barock-tampere-tuulen-tiet/
LOCATION:Kulttuuriravintola Kivi\, Keskustori 2\, 33100 Tampere\, Tampere\, Suomi
END:VEVENT
BEGIN:VEVENT
DTSTART;TZID=Europe/Helsinki:20221004T200000
DTEND;TZID=Europe/Helsinki:20221004T210000
DTSTAMP:20260425T004343
CREATED:20220916T225652Z
LAST-MODIFIED:20220916T225652Z
UID:3551-1664913600-1664917200@svamuli.fi
SUMMARY:Café Barock Kalliosalissa: Lainahöyhenissä
DESCRIPTION:Jotain uutta\, jotain vanhaa\, jotain lainattua. Onkohan tämä nyt ihan tyylinmukaista? Ei välttämättä\, mutta sitäkin tyylikkäämpää!\nOhjelmassa kuullaan tavallista barokkia\, valebarokkia\, kansanlauluja\, romantiikan ajan melodioita\, musikaalin helmiä ja ranskalaista impressionismia sopivilla ja epäsovinnaisilla soittimilla. Miltä kuulostaa\, kun Brahmsia soittaa cembalolla ja sähkösellolla tai Debussyä barokin ajan periodisoittimilla? Miten se eroaa siitä\, että soitetaan Rameauta asiaankuuluvilla välineillä? Mihin päädytään\, kun aletaan leikkiä erilaisilla tyylikeinoilla ja soittotavoilla? Mikä tekee musiikista tuttua tai tunnistettavaa? \nSanni Antikainen\, sähköcembalo\nJohanna Isokoski\, sopraano\nKaisa Ruotsalainen\, barokkiviulu\nAnna Pulakka\, viola da gamba ja barokkisello\nKatri Antikainen\, sähkösello ja laulu \nOvet klo 19.00\nShowtime klo 20.00\nKalliosalin baari on auki tilaisuuden ajan (huom! vain korttimaksu). \nLIPUT:\nLiput 15 € / 10 € ovelta ja ennakkoon Holvista (https://holvi.com/shop/ensemblenylandia/) \nOSOITE:\nKalliosali: Pengerkatu 11\, 00530 Helsinki. \nESTEETTÖMYYS:\nEsteetön sisäänkäynti sisäpihan kautta sovittavissa etukäteen: info@ensemblenylandia.info \nJärjestää: Café Barock / Kulttuuriyhdistys Ensemble Nylandia ry yhteistyössä Kalliosalin kanssa.
URL:https://svamuli.fi/t/cafe-barock-kalliosalissa-lainahoyhenissa/
LOCATION:Kalliosali\, Pengerkatu 11 A\, Helsinki\, 00530
END:VEVENT
END:VCALENDAR