BEGIN:VCALENDAR
VERSION:2.0
PRODID:-//Suomen vanhan musiikin liitto ry - ECPv6.15.17.1//NONSGML v1.0//EN
CALSCALE:GREGORIAN
METHOD:PUBLISH
X-ORIGINAL-URL:https://svamuli.fi
X-WR-CALDESC:Tapahtumat Suomen vanhan musiikin liitto ry
REFRESH-INTERVAL;VALUE=DURATION:PT1H
X-Robots-Tag:noindex
X-PUBLISHED-TTL:PT1H
BEGIN:VTIMEZONE
TZID:Europe/Helsinki
BEGIN:DAYLIGHT
TZOFFSETFROM:+0200
TZOFFSETTO:+0300
TZNAME:EEST
DTSTART:20200329T010000
END:DAYLIGHT
BEGIN:STANDARD
TZOFFSETFROM:+0300
TZOFFSETTO:+0200
TZNAME:EET
DTSTART:20201025T010000
END:STANDARD
BEGIN:DAYLIGHT
TZOFFSETFROM:+0200
TZOFFSETTO:+0300
TZNAME:EEST
DTSTART:20210328T010000
END:DAYLIGHT
BEGIN:STANDARD
TZOFFSETFROM:+0300
TZOFFSETTO:+0200
TZNAME:EET
DTSTART:20211031T010000
END:STANDARD
BEGIN:DAYLIGHT
TZOFFSETFROM:+0200
TZOFFSETTO:+0300
TZNAME:EEST
DTSTART:20220327T010000
END:DAYLIGHT
BEGIN:STANDARD
TZOFFSETFROM:+0300
TZOFFSETTO:+0200
TZNAME:EET
DTSTART:20221030T010000
END:STANDARD
END:VTIMEZONE
BEGIN:VEVENT
DTSTART;TZID=Europe/Helsinki:20210220T103000
DTEND;TZID=Europe/Helsinki:20210220T110000
DTSTAMP:20260421T004121
CREATED:20210128T095226Z
LAST-MODIFIED:20210128T095226Z
UID:2926-1613817000-1613818800@svamuli.fi
SUMMARY:Lauantain klassiset aamusoitot: Mikko Ikäheimo\, luuttu (LIVESTREAM)
DESCRIPTION:Pietari Brahen luuttukirja. Mikko Ikäheimo soittaa konsertissa valikoiman musiikkia Brahen luuttukirjasta ja sen tiimoilta\, sekä kertoo tarkemmin Brahesta ja hänen luuttukirjastaan. \nKonserttia voi seurata suorana lähetyksenä Keravan kirjasto- ja kulttuuripalveluiden YouTube-kanavalta. Tallenteen voi katsoa myös jälkikäteen. Keravan kirjasto- ja kulttuuripalvelut sekä Café Barock tarjoavat kevyttä\, helposti lähestyttävää ja korkeatasoista barokkimusisointia suoratoistokonserttina Keravan kirjaston Pentinkulma-salista lauantai-aamuisin klo 10.30.
URL:https://svamuli.fi/t/lauantain-klassiset-aamusoitot-mikko-ikaheimo-luuttu-livestream/
END:VEVENT
BEGIN:VEVENT
DTSTART;TZID=Europe/Helsinki:20210220T150000
DTEND;TZID=Europe/Helsinki:20210220T163000
DTSTAMP:20260421T004121
CREATED:20200908T070638Z
LAST-MODIFIED:20200908T070638Z
UID:2739-1613833200-1613838600@svamuli.fi
SUMMARY:Baccano: Tom Tinker & Lord Galway
DESCRIPTION:Tom Tinker & Lord Galway – kansan- ja barokkimusiikkia Britteinsaarilta \nKonsertissa yhdistyvät saarivaltakunnan kansanmusiikkimelodiat yhtyeen omina\nsovituksina ja englantilaistuneiden italialaisten säveltäjien kuten Francesco Geminianin samaa aineistoa hyödyntävä tuotanto\, viuluvirtuoosi Nicola Matteisin sekä Francesco Barsantin kappaleet.\nSävelletty ja kansanomaisempi materiaali kietoutuvat toisiinsa ja osoittavat\, että tuon ajan musiikissa tällaiset raja-aidat olivat häilyviä. Luvassa on menevää soitinmusiikkia\, jonka sovitustyössä yhtyeen jäsenten aiemmat kansanmusiikkiyhteydet ja improvisaatiotaidot pääsevät kukkimaan. \nHanna Haapamäki\, nokkahuilu\nAira Maria Lehtipuu\, viulu\nJussi Seppänen\, sello\nEero Palviainen\, arkkiluuttu ja kitara\nMarianna Henriksson\, cembalo \n\nLiput 25 €\, opiskelijaliput ovelta puoleen hintaan\nglivelab.fi/tampere/
URL:https://svamuli.fi/t/baccano-tom-tinker-lord-galway/
LOCATION:G Livelab Tampere\, Puutarhakatu 1\, 33100 Tampere\, Tampere\, Suomi
END:VEVENT
END:VCALENDAR