BEGIN:VCALENDAR
VERSION:2.0
PRODID:-//Suomen vanhan musiikin liitto ry - ECPv6.15.17.1//NONSGML v1.0//EN
CALSCALE:GREGORIAN
METHOD:PUBLISH
X-WR-CALNAME:Suomen vanhan musiikin liitto ry
X-ORIGINAL-URL:https://svamuli.fi
X-WR-CALDESC:Tapahtumat Suomen vanhan musiikin liitto ry
REFRESH-INTERVAL;VALUE=DURATION:PT1H
X-Robots-Tag:noindex
X-PUBLISHED-TTL:PT1H
BEGIN:VTIMEZONE
TZID:Europe/Helsinki
BEGIN:DAYLIGHT
TZOFFSETFROM:+0200
TZOFFSETTO:+0300
TZNAME:EEST
DTSTART:20200329T010000
END:DAYLIGHT
BEGIN:STANDARD
TZOFFSETFROM:+0300
TZOFFSETTO:+0200
TZNAME:EET
DTSTART:20201025T010000
END:STANDARD
BEGIN:DAYLIGHT
TZOFFSETFROM:+0200
TZOFFSETTO:+0300
TZNAME:EEST
DTSTART:20210328T010000
END:DAYLIGHT
BEGIN:STANDARD
TZOFFSETFROM:+0300
TZOFFSETTO:+0200
TZNAME:EET
DTSTART:20211031T010000
END:STANDARD
BEGIN:DAYLIGHT
TZOFFSETFROM:+0200
TZOFFSETTO:+0300
TZNAME:EEST
DTSTART:20220327T010000
END:DAYLIGHT
BEGIN:STANDARD
TZOFFSETFROM:+0300
TZOFFSETTO:+0200
TZNAME:EET
DTSTART:20221030T010000
END:STANDARD
END:VTIMEZONE
BEGIN:VEVENT
DTSTART;TZID=Europe/Helsinki:20210209T201500
DTEND;TZID=Europe/Helsinki:20210209T213000
DTSTAMP:20260421T004114
CREATED:20200908T070301Z
LAST-MODIFIED:20210203T153946Z
UID:2737-1612901700-1612906200@svamuli.fi
SUMMARY:Anneliina Rif: Tarinoita tornin juurella SIIRTYY
DESCRIPTION:KONSERTTI SIIRTYY MYÖHEMPÄÄN AJANKOHTAAN \n  \nKonsertti koostuu keskiaikaisista kertomuksista elämästä ympäri Eurooppaa. Ihmeistä\, ihastumisesta\, pettymyksestä\, pelosta\, kauneudesta ja kaipauksesta.\nAnneliina Rif laulaa ja soittaa keskiaikaisia instrumentteja. \nLiput 20/10 €\nkulttuuriravintolakivi.fi \n\nKonsertin järjestävät yhteistyössä:\nTampereen Vanhan Musiikin Ystävät\nCafé Barock/Kulttuuriyhdistys Ensemble Nylandia ry \n\nTampereen Teatteri
URL:https://svamuli.fi/t/anneliina-rif-tarinoita-tornin-juurella/
LOCATION:Kulttuuriravintola Kivi\, Keskustori 2\, 33100 Tampere\, Tampere\, Suomi
END:VEVENT
END:VCALENDAR