BEGIN:VCALENDAR
VERSION:2.0
PRODID:-//Suomen vanhan musiikin liitto ry - ECPv6.15.17.1//NONSGML v1.0//EN
CALSCALE:GREGORIAN
METHOD:PUBLISH
X-ORIGINAL-URL:https://svamuli.fi
X-WR-CALDESC:Tapahtumat Suomen vanhan musiikin liitto ry
REFRESH-INTERVAL;VALUE=DURATION:PT1H
X-Robots-Tag:noindex
X-PUBLISHED-TTL:PT1H
BEGIN:VTIMEZONE
TZID:Europe/Helsinki
BEGIN:DAYLIGHT
TZOFFSETFROM:+0200
TZOFFSETTO:+0300
TZNAME:EEST
DTSTART:20200329T010000
END:DAYLIGHT
BEGIN:STANDARD
TZOFFSETFROM:+0300
TZOFFSETTO:+0200
TZNAME:EET
DTSTART:20201025T010000
END:STANDARD
BEGIN:DAYLIGHT
TZOFFSETFROM:+0200
TZOFFSETTO:+0300
TZNAME:EEST
DTSTART:20210328T010000
END:DAYLIGHT
BEGIN:STANDARD
TZOFFSETFROM:+0300
TZOFFSETTO:+0200
TZNAME:EET
DTSTART:20211031T010000
END:STANDARD
BEGIN:DAYLIGHT
TZOFFSETFROM:+0200
TZOFFSETTO:+0300
TZNAME:EEST
DTSTART:20220327T010000
END:DAYLIGHT
BEGIN:STANDARD
TZOFFSETFROM:+0300
TZOFFSETTO:+0200
TZNAME:EET
DTSTART:20221030T010000
END:STANDARD
END:VTIMEZONE
BEGIN:VEVENT
DTSTART;TZID=Europe/Helsinki:20210123T103000
DTEND;TZID=Europe/Helsinki:20210123T110000
DTSTAMP:20260421T002142
CREATED:20210114T092748Z
LAST-MODIFIED:20210114T092748Z
UID:2919-1611397800-1611399600@svamuli.fi
SUMMARY:Lauantain klassiset aamusoitot: Anna Pohjola\, barokkiviulu (LIVESTREAM)
DESCRIPTION:Suoratoistokonsertti Keravan kaupunginkirjastosta. \nAh! Vous dirai-je\, Maman\nAnna Pohjola\, barokkiviulu \nJohann Christoph Bachin ja Wolfand Amadeus Mozartin muunnelmia ranskalaisesta sävelmästä sekä saksalaista sooloviulumusiikkia.\nKonserttia voi seurata suorana lähetyksenä Keravan kirjasto- ja kulttuuripalveluiden YouTube-kanavalta. Tallenteen voi katsoa myös jälkikäteen. \nhttps://www.youtube.com/channel/UCzNVxhvGDghaCctDZjlGHZA \nJärjestää yhteistyössä:\nKeravan kirjasto- ja kulttuuripalvelut\nCafé Barock / Kulttuuriyhdistys Ensemble Nylandia ry
URL:https://svamuli.fi/t/lauantain-klassiset-aamusoitot-anna-pohjola-barokkiviulu-livestream/
END:VEVENT
BEGIN:VEVENT
DTSTART;TZID=Europe/Helsinki:20210123T190000
DTEND;TZID=Europe/Helsinki:20210123T200000
DTSTAMP:20260421T002142
CREATED:20210112T085715Z
LAST-MODIFIED:20210112T085715Z
UID:2915-1611428400-1611432000@svamuli.fi
SUMMARY:Aurore: RENESSANSSIN OPPINEET NAISET
DESCRIPTION:RENESSANSSIN OPPINEET NAISET – Häkkilintuja ja muita eläimiä \nVenetsialaisen nunnaluostarin seinien takaa kaikui taivaallista musiikkia\, mutta kukaan ei halunnut kunniaa ja teokset julkaistiin anonyyminä. Vuonna 1543 julkaistun madrigaalikokoelman säveltäjänä pidetään nykytutkimuksen valossa ruhtinassukuun kuulunutta Eleonora d’Esteä\, jonka teoksista kuullaan Auroressa nyt Suomen ensiesitys. Myös keskiajan trubaduuri Beatrize de Dian hylätyn naisen valitus\, Hildegard Bingeniläisen ylistys prinsessa Ursulalle ja 11 000 murhatulle naiselle sekä surumielisen renessanssiruhtinatar Margareeta Itävaltalaisen lamentaatio veljensä kuolemalle vuorottelevat tunnustettujen taitureiden Clément Janequinin\, Jean Moutonin ja Pierre de la Ruen lintuaiheisten sävellysten kanssa.\n* Anneliina Rif\, sopraano\n* Sini Vahervuo\, nokkahuilu\, taiteellinen suunnittelu\n* Ensemble Nylandia\, joht. Matias Häkkinen \nKonsertit lähetetään Auroren Youtube-kanavalla\, jossa niitä voi kuunnella myös jälkikäteen. http://aurore.fi/video/ \nLipun hinta: Vapaaehtoinen suoratoistolippu 5 € https://holvi.com/shop/aurore/
URL:https://svamuli.fi/t/aurore-renessanssin-oppineet-naiset/
END:VEVENT
END:VCALENDAR