BEGIN:VCALENDAR
VERSION:2.0
PRODID:-//Suomen vanhan musiikin liitto ry - ECPv6.15.17.1//NONSGML v1.0//EN
CALSCALE:GREGORIAN
METHOD:PUBLISH
X-WR-CALNAME:Suomen vanhan musiikin liitto ry
X-ORIGINAL-URL:https://svamuli.fi
X-WR-CALDESC:Tapahtumat Suomen vanhan musiikin liitto ry
REFRESH-INTERVAL;VALUE=DURATION:PT1H
X-Robots-Tag:noindex
X-PUBLISHED-TTL:PT1H
BEGIN:VTIMEZONE
TZID:Europe/Helsinki
BEGIN:DAYLIGHT
TZOFFSETFROM:+0200
TZOFFSETTO:+0300
TZNAME:EEST
DTSTART:20200329T010000
END:DAYLIGHT
BEGIN:STANDARD
TZOFFSETFROM:+0300
TZOFFSETTO:+0200
TZNAME:EET
DTSTART:20201025T010000
END:STANDARD
BEGIN:DAYLIGHT
TZOFFSETFROM:+0200
TZOFFSETTO:+0300
TZNAME:EEST
DTSTART:20210328T010000
END:DAYLIGHT
BEGIN:STANDARD
TZOFFSETFROM:+0300
TZOFFSETTO:+0200
TZNAME:EET
DTSTART:20211031T010000
END:STANDARD
BEGIN:DAYLIGHT
TZOFFSETFROM:+0200
TZOFFSETTO:+0300
TZNAME:EEST
DTSTART:20220327T010000
END:DAYLIGHT
BEGIN:STANDARD
TZOFFSETFROM:+0300
TZOFFSETTO:+0200
TZNAME:EET
DTSTART:20221030T010000
END:STANDARD
END:VTIMEZONE
BEGIN:VEVENT
DTSTART;TZID=Europe/Helsinki:20210109T150000
DTEND;TZID=Europe/Helsinki:20210109T163000
DTSTAMP:20260420T225428
CREATED:20200908T070100Z
LAST-MODIFIED:20210107T071203Z
UID:2734-1610204400-1610209800@svamuli.fi
SUMMARY:Fioretto & Lumous: Angeles del Cielo SIIRTYY
DESCRIPTION:KONSERTTI SIIRTYY\, uusi päivämäärä on 4.12.2021. \n  \nLiput 25 €\, opiskelijaliput ovelta puoleen hintaan \nglivelab.fi/tampere/ \nAngeles del cielo on konsertillinen riemullista ja harrasta\, leikkisää ja lempeää jouluista musiikkia löytöretkien ajan Espanjasta. Tamperelais-helsinkiläiset keskiaika- ja renessanssimusiikin yhtyeet Lumous ja Fioretto kuljettavat juhlatunnelmiin ohjelmalla\, jonka tarinaa löytöretkiajan ruhtinaana kertoo näyttämötaiteilija ja renessanssimies Jukka Virtala.\nVokaaliyhtye Lumous: Kaisa Kelloniemi ja Anu Mattila\, sopraano\, Elina Aho-Kuusama\, altto ja Lauri Solin\, baritoni. \nFioretto Ensemble: Debra Gomez-Tapio\, harput\, laulu ja taiteellinen johto\, Janek Öller\, nokkahuilut ja säkkipillit\, Mikael Heikkilä\, lyömäsoittimet ja vasaradulcimer\, Ilpo Laspas\, cembalo \nKonsertin järjestävät yhteistyössä: \nTampereen Vanhan Musiikin Ystävät\nCafé Barock/Kulttuuriyhdistys Ensemble Nylandia ry\nG Livelab Tampere
URL:https://svamuli.fi/t/fioretto-lumous-angeles-del-cielo/
LOCATION:G Livelab Tampere\, Puutarhakatu 1\, 33100 Tampere\, Tampere\, Suomi
END:VEVENT
END:VCALENDAR