BEGIN:VCALENDAR
VERSION:2.0
PRODID:-//Suomen vanhan musiikin liitto ry - ECPv6.15.17.1//NONSGML v1.0//EN
CALSCALE:GREGORIAN
METHOD:PUBLISH
X-ORIGINAL-URL:https://svamuli.fi
X-WR-CALDESC:Tapahtumat Suomen vanhan musiikin liitto ry
REFRESH-INTERVAL;VALUE=DURATION:PT1H
X-Robots-Tag:noindex
X-PUBLISHED-TTL:PT1H
BEGIN:VTIMEZONE
TZID:Europe/Helsinki
BEGIN:DAYLIGHT
TZOFFSETFROM:+0200
TZOFFSETTO:+0300
TZNAME:EEST
DTSTART:20190331T010000
END:DAYLIGHT
BEGIN:STANDARD
TZOFFSETFROM:+0300
TZOFFSETTO:+0200
TZNAME:EET
DTSTART:20191027T010000
END:STANDARD
BEGIN:DAYLIGHT
TZOFFSETFROM:+0200
TZOFFSETTO:+0300
TZNAME:EEST
DTSTART:20200329T010000
END:DAYLIGHT
BEGIN:STANDARD
TZOFFSETFROM:+0300
TZOFFSETTO:+0200
TZNAME:EET
DTSTART:20201025T010000
END:STANDARD
BEGIN:DAYLIGHT
TZOFFSETFROM:+0200
TZOFFSETTO:+0300
TZNAME:EEST
DTSTART:20210328T010000
END:DAYLIGHT
BEGIN:STANDARD
TZOFFSETFROM:+0300
TZOFFSETTO:+0200
TZNAME:EET
DTSTART:20211031T010000
END:STANDARD
END:VTIMEZONE
BEGIN:VEVENT
DTSTART;TZID=Europe/Helsinki:20201216T130000
DTEND;TZID=Europe/Helsinki:20201216T140000
DTSTAMP:20260420T212855
CREATED:20200701T115747Z
LAST-MODIFIED:20200701T115747Z
UID:2680-1608123600-1608127200@svamuli.fi
SUMMARY:Café Barock: Vanhan musiikin uudet toivot
DESCRIPTION:Lounaskonserttisarja Rikhardinkadun kirjastossa jatkuu syksyllä 2020: \nke 21.10.\, ti 17.11.\, ke 18.11. ja ke 16.12. klo 13 \nVAPAA PÄÄSY \nJärjestää yhteistyössä:Café Barock / Kulttuuriyhdistys Ensemble Nylandia\, Rikhardinkadun kirjasto sekä Sibelius-Akatemian vanhan musiikin aineryhmä
URL:https://svamuli.fi/t/cafe-barock-vanhan-musiikin-uudet-toivot-16/
LOCATION:Rikhardinkadun kirjasto\, Rikhardinkatu 3\, 00130 Helsinki\, Helsinki\, Suomi
END:VEVENT
BEGIN:VEVENT
DTSTART;TZID=Europe/Helsinki:20201216T180000
DTEND;TZID=Europe/Helsinki:20201216T190000
DTSTAMP:20260420T212855
CREATED:20201124T164839Z
LAST-MODIFIED:20201124T164839Z
UID:2879-1608141600-1608145200@svamuli.fi
SUMMARY:Kauneimmat barokkijoululaulut - Keravan kirjasto
DESCRIPTION:Jussi Salonen\, tenori\n\nEnsemble Nylandia: \nSini Vahervuo\, traverso/nokkahuilu\, \nKaisa Ruotsalainen\, barokkiviulu\, \nJarmo Julkunen\, luuttu/ukulele\, \nAnna Pulakka\, barokkisello\, \nMatias Häkkinen\, cembalo/urut \nMiltä Heinillä härkien kaukalon on kuulostanut 1600-luvun Ranskassa? Entä miltä Martti Lutherin säveltämä Enkeli taivaan lausui näin kuulostaa nykyajan hittisoittimelle ukulelelle ja barokin aikaan Euroopassa suositulle nokkahuilulle sovitettuna? \nKauneimmat barokkijoululaulut -konsertissa kuullaan rakkaita barokin ajan joululauluja kerrankin barokkityyliin soitettuina. \nMoni meille suomalaisille rakkaista joululauluista on peräisin jo barokin aikakaudelta. Esimerkiksi Heinillä härkien kaukalon onn1600-luvun Ranskasta\, ja Enkeli taivaan itseltään Martti Lutherilta. Nokkahuilutaiteilija Sini Vahervuo\, cembalotaiteilija ja orkesterinjohtaja Matias Häkkinen sekä kitara- ja ukuleletaiteilija Jarmo Julkunen ovat kiertäneet yhtyeensä kanssa vuosien ajan joulukonserteissa ympäri Suomea. Heidän suositut konserttinsa ovat keränneet vuosi vuodelta salit täyteen. Aviador Kustannus julkaisee triolta nuottikirjan\, joka sisältää kauneimpia barokkijoululauluja nokkahuilu-ukulele-duolle sovitettuna sekä laulujen taustat ja sanat sekä suomeksi että alkuperäiskielellä. \nVapaa pääsy\, ohjelmamaksu 20 €
URL:https://svamuli.fi/t/kauneimmat-barokkijoululaulut-keravan-kirjasto/
LOCATION:Keravan kaupunginkirjasto\, Paasikivenkatu 12\, 04200 Kerava\, Kerava\, Suomi
END:VEVENT
END:VCALENDAR