BEGIN:VCALENDAR
VERSION:2.0
PRODID:-//Suomen vanhan musiikin liitto ry - ECPv6.15.17.1//NONSGML v1.0//EN
CALSCALE:GREGORIAN
METHOD:PUBLISH
X-WR-CALNAME:Suomen vanhan musiikin liitto ry
X-ORIGINAL-URL:https://svamuli.fi
X-WR-CALDESC:Tapahtumat Suomen vanhan musiikin liitto ry
REFRESH-INTERVAL;VALUE=DURATION:PT1H
X-Robots-Tag:noindex
X-PUBLISHED-TTL:PT1H
BEGIN:VTIMEZONE
TZID:Europe/Helsinki
BEGIN:DAYLIGHT
TZOFFSETFROM:+0200
TZOFFSETTO:+0300
TZNAME:EEST
DTSTART:20190331T010000
END:DAYLIGHT
BEGIN:STANDARD
TZOFFSETFROM:+0300
TZOFFSETTO:+0200
TZNAME:EET
DTSTART:20191027T010000
END:STANDARD
BEGIN:DAYLIGHT
TZOFFSETFROM:+0200
TZOFFSETTO:+0300
TZNAME:EEST
DTSTART:20200329T010000
END:DAYLIGHT
BEGIN:STANDARD
TZOFFSETFROM:+0300
TZOFFSETTO:+0200
TZNAME:EET
DTSTART:20201025T010000
END:STANDARD
BEGIN:DAYLIGHT
TZOFFSETFROM:+0200
TZOFFSETTO:+0300
TZNAME:EEST
DTSTART:20210328T010000
END:DAYLIGHT
BEGIN:STANDARD
TZOFFSETFROM:+0300
TZOFFSETTO:+0200
TZNAME:EET
DTSTART:20211031T010000
END:STANDARD
END:VTIMEZONE
BEGIN:VEVENT
DTSTART;TZID=Europe/Helsinki:20201212T170000
DTEND;TZID=Europe/Helsinki:20201212T183000
DTSTAMP:20260420T212757
CREATED:20201126T110311Z
LAST-MODIFIED:20201203T105929Z
UID:2885-1607792400-1607797800@svamuli.fi
SUMMARY:Barokkijoulun juhlaa PERUTTU
DESCRIPTION:TAPAHTUMA ON PERUTTU \nYli-Iin kirkkoon joulutunnelmaa tuovat Virpi Räisänen\, mezzosopraano\, Eero Palviainen\, luuttu ja teorbi\, Thomas Petit\, barokkitrumpetti ja Obo players lauantaina 12.12. Yli-Iin Joulumarkkinoiden päätökseksi. \nSuomen kansainvälisesti tunnetuimpiin mezzosopraanoihin kuuluva Virpi Räisänen esiintyy jo traditioksi muodostuneessa Yli-Iin kirkon joulukonsertissaan tänä jouluna Obo playersin kanssa. \nObo playersin täydennykseksi konserttiin on saatu myös Euroopan parhaimpiin luuttusoittajiin kuuluva Eero Palviainen. Hän tuo konsertteihin mukanaan upean teorbi-soittimen\, joka kruunaa konsertin visuaalisen ilmeen hienon sointinsa lisäksi. Kokoonpanossa on mukana myös Thomas Petit barokkitrumpetillaan. \nOulun barokkiorkesterin soittajista koottu pienempi kokoonpano\, Obo players\, on esityshistoriatietoisia ja vanhan musiikin alalle kouluttautuneita ammattimuusikoita. Konsertin ohjelmisto vie kuulijan todelliseen vanhan ajan tunnelmalliseen jouluun\, jossa kuullaan jouluista musiikkia satojen vuosien takaa keskiajalta Bachin\, Purcellin ja Händelin aikaan. \nKirkkoon otetaan yleisöä ajankohtaisten koronarajoitusten sallima määrä. Tulethan vain terveenä. Konsertissamme käytetään kasvomaskeja. Käsiohjelma 15 euroa. \nKonsertit ovat osana Taiken rahoittamaa Soivaa voimaa -saavutettavuushanketta. \nKonsertti on myös sunnuntaina 13.12. klo 15. Sunnuntainen joulukonsertti striimataan suorana lähetyksenä virtuaalikirkosta ja on katsottavissa siellä aina 6. tammikuuta asti. Konserttistriimauksen lippu on myynnissä Ticketmasterissa ja maksaa 10 e (+ toimitusmaksu 1 e).
URL:https://svamuli.fi/t/barokkijoulun-juhlaa/
LOCATION:Yli-Iin kirkko\, Kirkkotie 4\, 91200 Yli-Ii\, Yli-Ii\, Suomi
END:VEVENT
BEGIN:VEVENT
DTSTART;TZID=Europe/Helsinki:20201212T180000
DTEND;TZID=Europe/Helsinki:20201212T184500
DTSTAMP:20260420T212757
CREATED:20201124T163119Z
LAST-MODIFIED:20201124T163119Z
UID:2874-1607796000-1607798700@svamuli.fi
SUMMARY:Kauneimmat barokkijoululaulut 2020 - Nilsiän kirkko
DESCRIPTION:Anna Immonen\, sopraano \nEnsemble Nylandia: \nSini Vahervuo\, traverso/nokkahuilu\, \nJarmo Julkunen\, luuttu/ukulele\, \nMatias Häkkinen\, cembalo/urut \nyhteistyössä BarokkiKuopio \nMiltä Heinillä härkien kaukalon on kuulostanut 1600-luvun Ranskassa? Entä miltä Martti Lutherin säveltämä Enkeli taivaan lausui näin kuulostaa nykyajan hittisoittimelle ukulelelle ja barokin aikaan Euroopassa suositulle nokkahuilulle sovitettuna? \nKauneimmat barokkijoululaulut -konsertissa kuullaan rakkaita barokin ajan joululauluja kerrankin barokkityyliin soitettuina. \nMoni meille suomalaisille rakkaista joululauluista on peräisin jo barokin aikakaudelta. Esimerkiksi Heinillä härkien kaukalon onn1600-luvun Ranskasta\, ja Enkeli taivaan itseltään Martti Lutherilta. Nokkahuilutaiteilija Sini Vahervuo\, cembalotaiteilija ja orkesterinjohtaja Matias Häkkinen sekä kitara- ja ukuleletaiteilija Jarmo Julkunen ovat kiertäneet yhtyeensä kanssa vuosien ajan joulukonserteissa ympäri Suomea. Heidän suositut konserttinsa ovat keränneet vuosi vuodelta salit täyteen. Aviador Kustannus julkaisee triolta nuottikirjan\, joka sisältää kauneimpia barokkijoululauluja nokkahuilu-ukulele-duolle sovitettuna sekä laulujen taustat ja sanat sekä suomeksi että alkuperäiskielellä. \nKäsiohjelma 10 e ovelta 30min ennen konsertin alkua \nNilsiän kirkkoon voidaan ottaa turvavälejä noudattaen n. 150 henkilöä.
URL:https://svamuli.fi/t/kauneimmat-barokkijoululaulut-2020-nilsian-kirkko/
LOCATION:Nilsiän kirkko\, Kirkonmäentie 1\, 73300 Nilsiä\, Nilsiä\, Suomi
END:VEVENT
BEGIN:VEVENT
DTSTART;TZID=Europe/Helsinki:20201212T180000
DTEND;TZID=Europe/Helsinki:20201212T193000
DTSTAMP:20260420T212757
CREATED:20201110T120419Z
LAST-MODIFIED:20201110T120419Z
UID:2846-1607796000-1607801400@svamuli.fi
SUMMARY:FiBO: The Dark is My Delight – Musiikkia keskiajalta tähän päivään
DESCRIPTION:Aleotti – Bingeniläinen – Casulana – J. S. Bach – Dufay – Hille – Virtaperko \nBravade-nokkahuilukvartetti:\nSunniva Fagerlund\nPauliina Fred\nHanna Haapamäki\nHanna Kangasniemi \nFiBOn Ritarihuoneen residenssisarjassa vieraileva renessanssinokkahuiluihin erikoistunut Bravade-yhtye nostaa ydinohjelmistostaan esille nyt naisia: Hildegard Bingeniläisen\, Vittoria Aleottin ja Maddalena Casulanan. Myös uuden musiikin esittäminen on Bravadelle luontevaa\, joten ohjelman täydentävät Olli Virtaperkon ja Sid Hillen teokset. \nLiput 14\,50/29/37 € (hinta paikan mukaan) käsittelykuluineen + 1 €:n toimitusmaksu tilausta kohti: Ticketmasterin myyntipisteet ja ticketmaster.fi \nLue lisää: https://fibo.fi/konsertit/2020/the-dark-is-my-delight/ \nfibo.fi
URL:https://svamuli.fi/t/fibo-the-dark-is-my-delight-musiikkia-keskiajalta-tahan-paivaan/
LOCATION:Ritarihuone\, Ritarikatu 1\, Helsinki\, Helsinki\, Suomi
END:VEVENT
END:VCALENDAR