BEGIN:VCALENDAR
VERSION:2.0
PRODID:-//Suomen vanhan musiikin liitto ry - ECPv6.15.17.1//NONSGML v1.0//EN
CALSCALE:GREGORIAN
METHOD:PUBLISH
X-WR-CALNAME:Suomen vanhan musiikin liitto ry
X-ORIGINAL-URL:https://svamuli.fi
X-WR-CALDESC:Tapahtumat Suomen vanhan musiikin liitto ry
REFRESH-INTERVAL;VALUE=DURATION:PT1H
X-Robots-Tag:noindex
X-PUBLISHED-TTL:PT1H
BEGIN:VTIMEZONE
TZID:Europe/Helsinki
BEGIN:DAYLIGHT
TZOFFSETFROM:+0200
TZOFFSETTO:+0300
TZNAME:EEST
DTSTART:20190331T010000
END:DAYLIGHT
BEGIN:STANDARD
TZOFFSETFROM:+0300
TZOFFSETTO:+0200
TZNAME:EET
DTSTART:20191027T010000
END:STANDARD
BEGIN:DAYLIGHT
TZOFFSETFROM:+0200
TZOFFSETTO:+0300
TZNAME:EEST
DTSTART:20200329T010000
END:DAYLIGHT
BEGIN:STANDARD
TZOFFSETFROM:+0300
TZOFFSETTO:+0200
TZNAME:EET
DTSTART:20201025T010000
END:STANDARD
BEGIN:DAYLIGHT
TZOFFSETFROM:+0200
TZOFFSETTO:+0300
TZNAME:EEST
DTSTART:20210328T010000
END:DAYLIGHT
BEGIN:STANDARD
TZOFFSETFROM:+0300
TZOFFSETTO:+0200
TZNAME:EET
DTSTART:20211031T010000
END:STANDARD
END:VTIMEZONE
BEGIN:VEVENT
DTSTART;TZID=Europe/Helsinki:20201203T190000
DTEND;TZID=Europe/Helsinki:20201203T200000
DTSTAMP:20260420T211700
CREATED:20201124T162553Z
LAST-MODIFIED:20201124T162553Z
UID:2872-1607022000-1607025600@svamuli.fi
SUMMARY:Kauneimmat barokkijoululaulut 2020 - Livestream
DESCRIPTION:Jussi Salonen\, tenori \nEnsemble Nylandia: \njoht. Matias Häkkinen\, cembalo/urut \nKonsertti lähetetään suorana Helsingin Saksalaisesta kirkosta. \nMiltä Heinillä härkien kaukalon on kuulostanut 1600-luvun Ranskassa? Entä miltä Martti Lutherin säveltämä Enkeli taivaan lausui näin kuulostaa nykyajan hittisoittimelle ukulelelle ja barokin aikaan Euroopassa suositulle nokkahuilulle sovitettuna? \nKauneimmat barokkijoululaulut -konsertissa kuullaan rakkaita barokin ajan joululauluja kerrankin barokkityyliin soitettuina. \nMoni meille suomalaisille rakkaista joululauluista on peräisin jo barokin aikakaudelta. Esimerkiksi Heinillä härkien kaukalon onn1600-luvun Ranskasta\, ja Enkeli taivaan itseltään Martti Lutherilta. Nokkahuilutaiteilija Sini Vahervuo\, cembalotaiteilija ja orkesterinjohtaja Matias Häkkinen sekä kitara- ja ukuleletaiteilija Jarmo Julkunen ovat kiertäneet yhtyeensä kanssa vuosien ajan joulukonserteissa ympäri Suomea. Heidän suositut konserttinsa ovat keränneet vuosi vuodelta salit täyteen. Aviador Kustannus julkaisee triolta nuottikirjan\, joka sisältää kauneimpia barokkijoululauluja nokkahuilu-ukulele-duolle sovitettuna sekä laulujen taustat ja sanat sekä suomeksi että alkuperäiskielellä.
URL:https://svamuli.fi/t/kauneimmat-barokkijoululaulut-2020-livestream/
END:VEVENT
END:VCALENDAR