BEGIN:VCALENDAR
VERSION:2.0
PRODID:-//Suomen vanhan musiikin liitto ry - ECPv6.15.17.1//NONSGML v1.0//EN
CALSCALE:GREGORIAN
METHOD:PUBLISH
X-ORIGINAL-URL:https://svamuli.fi
X-WR-CALDESC:Tapahtumat Suomen vanhan musiikin liitto ry
REFRESH-INTERVAL;VALUE=DURATION:PT1H
X-Robots-Tag:noindex
X-PUBLISHED-TTL:PT1H
BEGIN:VTIMEZONE
TZID:Europe/Helsinki
BEGIN:DAYLIGHT
TZOFFSETFROM:+0200
TZOFFSETTO:+0300
TZNAME:EEST
DTSTART:20190331T010000
END:DAYLIGHT
BEGIN:STANDARD
TZOFFSETFROM:+0300
TZOFFSETTO:+0200
TZNAME:EET
DTSTART:20191027T010000
END:STANDARD
BEGIN:DAYLIGHT
TZOFFSETFROM:+0200
TZOFFSETTO:+0300
TZNAME:EEST
DTSTART:20200329T010000
END:DAYLIGHT
BEGIN:STANDARD
TZOFFSETFROM:+0300
TZOFFSETTO:+0200
TZNAME:EET
DTSTART:20201025T010000
END:STANDARD
BEGIN:DAYLIGHT
TZOFFSETFROM:+0200
TZOFFSETTO:+0300
TZNAME:EEST
DTSTART:20210328T010000
END:DAYLIGHT
BEGIN:STANDARD
TZOFFSETFROM:+0300
TZOFFSETTO:+0200
TZNAME:EET
DTSTART:20211031T010000
END:STANDARD
END:VTIMEZONE
BEGIN:VEVENT
DTSTART;TZID=Europe/Helsinki:20201114T180000
DTEND;TZID=Europe/Helsinki:20201114T190000
DTSTAMP:20260420T200326
CREATED:20201110T120833Z
LAST-MODIFIED:20201110T120833Z
UID:2852-1605376800-1605380400@svamuli.fi
SUMMARY:Seinäjoen Vanhan musiikin tapahtuma: "Laulakaa Jumalalle - virsin\, lauluin\, kantelein"
DESCRIPTION:Konsertissa esiintyvät Sanna Vuolteenaho\, laulu ja kantele sekä Eero Palviainen\, luuttu. mm. Monteverdi – Strozzi – Purcell
URL:https://svamuli.fi/t/seinajoen-vanhan-musiikin-tapahtuma-laulakaa-jumalalle-virsin-lauluin-kantelein/
LOCATION:Lakeuden Risti\, Koulukatu 24\, Seinäjoki\, Seinäjoki\, Suomi
END:VEVENT
END:VCALENDAR