BEGIN:VCALENDAR
VERSION:2.0
PRODID:-//Suomen vanhan musiikin liitto ry - ECPv6.15.17.1//NONSGML v1.0//EN
CALSCALE:GREGORIAN
METHOD:PUBLISH
X-WR-CALNAME:Suomen vanhan musiikin liitto ry
X-ORIGINAL-URL:https://svamuli.fi
X-WR-CALDESC:Tapahtumat Suomen vanhan musiikin liitto ry
REFRESH-INTERVAL;VALUE=DURATION:PT1H
X-Robots-Tag:noindex
X-PUBLISHED-TTL:PT1H
BEGIN:VTIMEZONE
TZID:Europe/Helsinki
BEGIN:DAYLIGHT
TZOFFSETFROM:+0200
TZOFFSETTO:+0300
TZNAME:EEST
DTSTART:20190331T010000
END:DAYLIGHT
BEGIN:STANDARD
TZOFFSETFROM:+0300
TZOFFSETTO:+0200
TZNAME:EET
DTSTART:20191027T010000
END:STANDARD
BEGIN:DAYLIGHT
TZOFFSETFROM:+0200
TZOFFSETTO:+0300
TZNAME:EEST
DTSTART:20200329T010000
END:DAYLIGHT
BEGIN:STANDARD
TZOFFSETFROM:+0300
TZOFFSETTO:+0200
TZNAME:EET
DTSTART:20201025T010000
END:STANDARD
BEGIN:DAYLIGHT
TZOFFSETFROM:+0200
TZOFFSETTO:+0300
TZNAME:EEST
DTSTART:20210328T010000
END:DAYLIGHT
BEGIN:STANDARD
TZOFFSETFROM:+0300
TZOFFSETTO:+0200
TZNAME:EET
DTSTART:20211031T010000
END:STANDARD
END:VTIMEZONE
BEGIN:VEVENT
DTSTART;TZID=Europe/Helsinki:20201025T150000
DTEND;TZID=Europe/Helsinki:20201025T160000
DTSTAMP:20260420T183919
CREATED:20201012T094114Z
LAST-MODIFIED:20201012T094114Z
UID:2802-1603638000-1603641600@svamuli.fi
SUMMARY:Matkamusiikkia
DESCRIPTION:Le Musiciste in Viaggio -yhtye soittaa Buxtehuden\, Caldaran\, Locatellin\, Händelin ja Purcellin triosonaatteja. Yhtyeen jäsenet ovat Kaisa Ruotsalainen & Anna Pohjola\, viulut\, Anna Pulakka\, sello ja viola da gamba sekä Sanni Antikainen\, koskettimet. \nMatkamusiikkia sisältää sellaisten säveltäjien musiikkia\, joiden synnyinmaa ei ole sama kuin heidän musiikillinen kansallisuutensa. Barokkimusiikissa juuri nämä kansalliset tyylipiirteet ovat selvästi erottuvia. Välillä naapureiden tyyliä ihaillen matkittiin\, toisinaan taas saatettiin kirjoittaa kokonaisia kirjoja\, joissa ruodittiin ulkomaiden musiikkityylien mauttomuutta. Kuitenkin suuri osa muusikoista ja säveltäjistä oli ennakkoluulottomampia kuin tavallinen yleisö ja matkusteli ympäri Eurooppaa etsien vaikutteita omaan musiikkiinsa. Samalla he levittivät oman maansa kansallista tyyliä. Säveltäjät matkustivat myös töiden ja maineen kannustamina. Näistä syistä vanhan musiikin aikakaudelta löytyy lukuisia säveltäjiä\, jotka tuotantonsa perusteella yhdistyvät synnyinmaansa sijaan toisiin kulttuureihin. Matkamusiikkia-ohjelmaan on kerätty yhteen näistä säveltäjistä tutuimpia\, mutta muistutetaan myös muutamasta usein unohtuneesta retkestä. \nLämpimästi tervetuloa turvalliselle musiikkimatkalle! Vapaa pääsy\, ohjelma 10 € ovelta.
URL:https://svamuli.fi/t/matkamusiikkia-2/
LOCATION:Suvelan kappeli\, Kirstintie 24\, 02760 Espoo\, Espoo\, Suomi
END:VEVENT
END:VCALENDAR