BEGIN:VCALENDAR
VERSION:2.0
PRODID:-//Suomen vanhan musiikin liitto ry - ECPv6.15.17.1//NONSGML v1.0//EN
CALSCALE:GREGORIAN
METHOD:PUBLISH
X-WR-CALNAME:Suomen vanhan musiikin liitto ry
X-ORIGINAL-URL:https://svamuli.fi
X-WR-CALDESC:Tapahtumat Suomen vanhan musiikin liitto ry
REFRESH-INTERVAL;VALUE=DURATION:PT1H
X-Robots-Tag:noindex
X-PUBLISHED-TTL:PT1H
BEGIN:VTIMEZONE
TZID:Europe/Helsinki
BEGIN:DAYLIGHT
TZOFFSETFROM:+0200
TZOFFSETTO:+0300
TZNAME:EEST
DTSTART:20190331T010000
END:DAYLIGHT
BEGIN:STANDARD
TZOFFSETFROM:+0300
TZOFFSETTO:+0200
TZNAME:EET
DTSTART:20191027T010000
END:STANDARD
BEGIN:DAYLIGHT
TZOFFSETFROM:+0200
TZOFFSETTO:+0300
TZNAME:EEST
DTSTART:20200329T010000
END:DAYLIGHT
BEGIN:STANDARD
TZOFFSETFROM:+0300
TZOFFSETTO:+0200
TZNAME:EET
DTSTART:20201025T010000
END:STANDARD
BEGIN:DAYLIGHT
TZOFFSETFROM:+0200
TZOFFSETTO:+0300
TZNAME:EEST
DTSTART:20210328T010000
END:DAYLIGHT
BEGIN:STANDARD
TZOFFSETFROM:+0300
TZOFFSETTO:+0200
TZNAME:EET
DTSTART:20211031T010000
END:STANDARD
END:VTIMEZONE
BEGIN:VEVENT
DTSTART;TZID=Europe/Helsinki:20201021T130000
DTEND;TZID=Europe/Helsinki:20201021T140000
DTSTAMP:20260420T183423
CREATED:20200701T115142Z
LAST-MODIFIED:20200701T115142Z
UID:2670-1603285200-1603288800@svamuli.fi
SUMMARY:Café Barock: Vanhan musiikin uudet toivot
DESCRIPTION:Lounaskonserttisarja Rikhardinkadun kirjastossa jatkuu syksyllä 2020: \nke 21.10.\, ti 17.11.\, ke 18.11. ja ke 16.12. klo 13 \nVAPAA PÄÄSY \nJärjestää yhteistyössä:Café Barock / Kulttuuriyhdistys Ensemble Nylandia\, Rikhardinkadun kirjasto sekä Sibelius-Akatemian vanhan musiikin aineryhmä
URL:https://svamuli.fi/t/cafe-barock-vanhan-musiikin-uudet-toivot-13/
LOCATION:Rikhardinkadun kirjasto\, Rikhardinkatu 3\, 00130 Helsinki\, Helsinki\, Suomi
END:VEVENT
BEGIN:VEVENT
DTSTART;TZID=Europe/Helsinki:20201021T173000
DTEND;TZID=Europe/Helsinki:20201021T210000
DTSTAMP:20260420T183423
CREATED:20200924T102129Z
LAST-MODIFIED:20200924T102129Z
UID:2742-1603301400-1603314000@svamuli.fi
SUMMARY:Laura Maddalena - musiikkidraama näyttelevälle cembalistille
DESCRIPTION:Eero Hämeenniemen kirjoittaman ja säveltämän musiikkidraaman ”Laura Maddalena” kantaesitys \nElina Mustonen\, cembalisti ja näyttelijä\nEero Hämeenniemi\, musiikki ja teksti\nLisäksi esitys sisältää musiikkia Luigi Rossilta\, Barbara Strozzilta\, Domenico Scarlattilta\, Baldassare Galuppilta ja Ferdinando Bertonilta\nJohanna Freundlich\, ohjaaja\nNina Mansikka\, visualisti \nEsitykset 21.10. klo 17.30 ja 20.00 \nOspedalet olivat italialaisia keskiajalta polveutuvia tyttölasten orpokoteja\, joista 1600-luvun lopulla oli kasvanut merkittäviä musiikkilaitoksia\, tunnettuna esimerkkinä Vivaldin Ospedale della Pietà. Musiikkidraama Laura Maddalena kertoo venetsialaisista orpokodeista ja kolmen eri aikakautena eläneen naisen tarinan\, jotka näyttelevä cembalotaiteilija Elina Mustonen herättää eloon säveltäjä Eero Hämeenniemeltä tilaamassaan teoksessa. Hämeenniemen teksti ja musiikki tutkailevat venetsialaisbarokkia ja teoksessa vilahtelee myös historiallisia hahmoja\, kuten Osepedale de Mendicantissa kasvanut säveltäjämuusikko Maddalena-Laura Lombardini Sirmen\, tai säveltäjät Barbara Strozzi ja Giuseppe Tartini. Musikaalisten nuorten naisten vapautumistarina on jatkoa Elina Mustosen menestyksekkäälle musiikkia ja draamaa yhdistäneelle Shakespeare-esitykselle Her infinite variety sekä Molière-esitykselle Jouez!. \nVapaa pääsy. Pakollinen ennakkoilmoittautuminen 10.10. alkaen info@brq.fi\, rajoitettu paikkamäärä.
URL:https://svamuli.fi/t/laura-maddalena-musiikkidraama-nayttelevalle-cembalistille/
LOCATION:Pyhän Laurin kappeli\, Pappilankuja 3\, Vantaa\, Vantaa\, Suomi
END:VEVENT
END:VCALENDAR