BEGIN:VCALENDAR
VERSION:2.0
PRODID:-//Suomen vanhan musiikin liitto ry - ECPv6.15.17.1//NONSGML v1.0//EN
CALSCALE:GREGORIAN
METHOD:PUBLISH
X-WR-CALNAME:Suomen vanhan musiikin liitto ry
X-ORIGINAL-URL:https://svamuli.fi
X-WR-CALDESC:Tapahtumat Suomen vanhan musiikin liitto ry
REFRESH-INTERVAL;VALUE=DURATION:PT1H
X-Robots-Tag:noindex
X-PUBLISHED-TTL:PT1H
BEGIN:VTIMEZONE
TZID:Europe/Helsinki
BEGIN:DAYLIGHT
TZOFFSETFROM:+0200
TZOFFSETTO:+0300
TZNAME:EEST
DTSTART:20190331T010000
END:DAYLIGHT
BEGIN:STANDARD
TZOFFSETFROM:+0300
TZOFFSETTO:+0200
TZNAME:EET
DTSTART:20191027T010000
END:STANDARD
BEGIN:DAYLIGHT
TZOFFSETFROM:+0200
TZOFFSETTO:+0300
TZNAME:EEST
DTSTART:20200329T010000
END:DAYLIGHT
BEGIN:STANDARD
TZOFFSETFROM:+0300
TZOFFSETTO:+0200
TZNAME:EET
DTSTART:20201025T010000
END:STANDARD
BEGIN:DAYLIGHT
TZOFFSETFROM:+0200
TZOFFSETTO:+0300
TZNAME:EEST
DTSTART:20210328T010000
END:DAYLIGHT
BEGIN:STANDARD
TZOFFSETFROM:+0300
TZOFFSETTO:+0200
TZNAME:EET
DTSTART:20211031T010000
END:STANDARD
END:VTIMEZONE
BEGIN:VEVENT
DTSTART;TZID=Europe/Helsinki:20201008T140000
DTEND;TZID=Europe/Helsinki:20201008T143500
DTSTAMP:20260420T183309
CREATED:20201002T081541Z
LAST-MODIFIED:20201002T081708Z
UID:2774-1602165600-1602167700@svamuli.fi
SUMMARY:Helsinki Early Music Festival: Prinsessa ja sikopaimen
DESCRIPTION:H. C. Andersenin Sikopaimen-tarinaan pohjautuvassa musiikkisadussa kuullaan musiikkia Charpentieriltä\, Vivaldilta\, Landilta\, Lullylta ja Uccellinilta. \nKonsertti kertoo teemoiltaan ajattoman tarinan prinsessa Annelista ja häneen rakastuneesta prinssi Urmaasta. Esiintyjinä ovat Anni Elonen (kertoja\, viulu\, kellopeli)\, Louna Hosia (sello\, jouhikko) ja Julia Tamminen (cembalo ja urut). \nLue lisää: https://helsinkiearlymusicfestival.fi/ohjelma/prinsessa-ja-sikopaimen/ \nEsitykset 8.10. klo 14 ja 18 \nVapaa pääsy\, ilmoittautuminen: toimisto:@fibo.fi
URL:https://svamuli.fi/t/helsinki-early-music-festival-prinsessa-ja-sikopaimen/
LOCATION:Kannelmäen kirkko\, Vanhaistentie 6\, 00420 Helsinki\, Helsinki\, Suomi
END:VEVENT
BEGIN:VEVENT
DTSTART;TZID=Europe/Helsinki:20201008T190000
DTEND;TZID=Europe/Helsinki:20201008T200000
DTSTAMP:20260420T183309
CREATED:20201002T081948Z
LAST-MODIFIED:20201002T081948Z
UID:2780-1602183600-1602187200@svamuli.fi
SUMMARY:Helsinki Early Music Festival: Kuningattarien Rooma
DESCRIPTION:Festivaalilla konsertoi Pirkanmaan Barokin yhtye\, jossa soittaa tavalla tai toisella Tampereelle ja Pirkanmaalle linkittyviä vanhan musiikin esittämiskäytäntöihin perehtyneitä soittajia. \nKonsertin musiikin myötä päästään vierailemaan 1600-luvun roomalaisen ylhäisön palatseihin erityisesti kahden kuningattaren\, Ruotsin Kristiinan ja Puolan Maria Kasimiran\, mesenaattityön kautta. He kuuluivat aikansa tärkeimpiin roomalaisiin kulttuurin suojelijoihin\, ja erityisesti Kristiina paitsi rahoitti myös mielellään osallistui taiteelliseen ja filosofiseen työskentelyyn. \nLue lisää: https://helsinkiearlymusicfestival.fi/ohjelma/kuningattarien-rooma/ \nLiput 30/25* €: fibo.fi/kauppa
URL:https://svamuli.fi/t/helsinki-early-music-festival-kuningattarien-rooma/
LOCATION:Saksalainen kirkko\, Unioninkatu 1\, 00130 Helsinki\, Helsinki\, Suomi
END:VEVENT
END:VCALENDAR